| Back to Multiple platform build/check report for BioC 3.11 | 
  | 
This page was generated on 2020-10-17 11:58:25 -0400 (Sat, 17 Oct 2020).
| TO THE DEVELOPERS/MAINTAINERS OF THE EBSeqHMM PACKAGE: Please make sure to use the following settings in order to reproduce any error or warning you see on this page. | 
| Package 524/1905 | Hostname | OS / Arch | INSTALL | BUILD | CHECK | BUILD BIN | ||||||
| EBSeqHMM 1.22.0 Ning Leng 
  | malbec2 | Linux (Ubuntu 18.04.4 LTS) / x86_64 | OK | OK | OK | |||||||
| tokay2 | Windows Server 2012 R2 Standard / x64 | OK | OK | OK | OK | |||||||
| machv2 | macOS 10.14.6 Mojave / x86_64 | OK | OK | [ OK ] | OK | 
| Package: EBSeqHMM | 
| Version: 1.22.0 | 
| Command: /Library/Frameworks/R.framework/Versions/Current/Resources/bin/R CMD check --install=check:EBSeqHMM.install-out.txt --library=/Library/Frameworks/R.framework/Versions/Current/Resources/library --no-vignettes --timings EBSeqHMM_1.22.0.tar.gz | 
| StartedAt: 2020-10-17 00:46:52 -0400 (Sat, 17 Oct 2020) | 
| EndedAt: 2020-10-17 00:48:14 -0400 (Sat, 17 Oct 2020) | 
| EllapsedTime: 82.7 seconds | 
| RetCode: 0 | 
| Status: OK | 
| CheckDir: EBSeqHMM.Rcheck | 
| Warnings: 0 | 
##############################################################################
##############################################################################
###
### Running command:
###
###   /Library/Frameworks/R.framework/Versions/Current/Resources/bin/R CMD check --install=check:EBSeqHMM.install-out.txt --library=/Library/Frameworks/R.framework/Versions/Current/Resources/library --no-vignettes --timings EBSeqHMM_1.22.0.tar.gz
###
##############################################################################
##############################################################################
* using log directory ‘/Users/biocbuild/bbs-3.11-bioc/meat/EBSeqHMM.Rcheck’
* using R version 4.0.3 (2020-10-10)
* using platform: x86_64-apple-darwin17.0 (64-bit)
* using session charset: UTF-8
* using option ‘--no-vignettes’
* checking for file ‘EBSeqHMM/DESCRIPTION’ ... OK
* checking extension type ... Package
* this is package ‘EBSeqHMM’ version ‘1.22.0’
* checking package namespace information ... OK
* checking package dependencies ... OK
* checking if this is a source package ... OK
* checking if there is a namespace ... OK
* checking for hidden files and directories ... OK
* checking for portable file names ... OK
* checking for sufficient/correct file permissions ... OK
* checking whether package ‘EBSeqHMM’ can be installed ... OK
* checking installed package size ... OK
* checking package directory ... OK
* checking ‘build’ directory ... OK
* checking DESCRIPTION meta-information ... OK
* checking top-level files ... OK
* checking for left-over files ... OK
* checking index information ... OK
* checking package subdirectories ... OK
* checking R files for non-ASCII characters ... OK
* checking R files for syntax errors ... OK
* checking whether the package can be loaded ... OK
* checking whether the package can be loaded with stated dependencies ... OK
* checking whether the package can be unloaded cleanly ... OK
* checking whether the namespace can be loaded with stated dependencies ... OK
* checking whether the namespace can be unloaded cleanly ... OK
* checking dependencies in R code ... OK
* checking S3 generic/method consistency ... OK
* checking replacement functions ... OK
* checking foreign function calls ... OK
* checking R code for possible problems ... NOTE
EBHMMNBfun: no visible binding for global variable ‘median’
EBHMMNBfun : <anonymous>: no visible global function definition for
  ‘quantile’
EBHMMNBfun: no visible global function definition for ‘optim’
EBHMMNBfunForMulti: no visible binding for global variable ‘median’
EBHMMNBfunForMulti : <anonymous>: no visible global function definition
  for ‘quantile’
EBHMMNBfunForMulti: no visible global function definition for ‘optim’
EBSeqHMMTest : <anonymous>: no visible global function definition for
  ‘quantile’
EBTest_ext: no visible global function definition for ‘quantile’
EBTest_ext: no visible binding for global variable ‘var’
PlotExp: no visible global function definition for ‘axis’
PlotExp : <anonymous>: no visible global function definition for
  ‘median’
PlotExp: no visible global function definition for ‘lines’
beta.mom: no visible global function definition for ‘var’
Undefined global functions or variables:
  axis lines median optim quantile var
Consider adding
  importFrom("graphics", "axis", "lines")
  importFrom("stats", "median", "optim", "quantile", "var")
to your NAMESPACE file.
* checking Rd files ... OK
* checking Rd metadata ... OK
* checking Rd cross-references ... OK
* checking for missing documentation entries ... OK
* checking for code/documentation mismatches ... OK
* checking Rd \usage sections ... OK
* checking Rd contents ... OK
* checking for unstated dependencies in examples ... OK
* checking contents of ‘data’ directory ... OK
* checking data for non-ASCII characters ... OK
* checking data for ASCII and uncompressed saves ... OK
* checking sizes of PDF files under ‘inst/doc’ ... OK
* checking files in ‘vignettes’ ... OK
* checking examples ... OK
* checking for unstated dependencies in vignettes ... OK
* checking package vignettes in ‘inst/doc’ ... OK
* checking running R code from vignettes ... SKIPPED
* checking re-building of vignette outputs ... SKIPPED
* checking PDF version of manual ... OK
* DONE
Status: 1 NOTE
See
  ‘/Users/biocbuild/bbs-3.11-bioc/meat/EBSeqHMM.Rcheck/00check.log’
for details.
EBSeqHMM.Rcheck/00install.out
############################################################################## ############################################################################## ### ### Running command: ### ### /Library/Frameworks/R.framework/Versions/Current/Resources/bin/R CMD INSTALL EBSeqHMM ### ############################################################################## ############################################################################## * installing to library ‘/Library/Frameworks/R.framework/Versions/4.0/Resources/library’ * installing *source* package ‘EBSeqHMM’ ... ** using staged installation ** R ** data ** demo ** byte-compile and prepare package for lazy loading ** help *** installing help indices ** building package indices ** installing vignettes ** testing if installed package can be loaded from temporary location ** testing if installed package can be loaded from final location ** testing if installed package keeps a record of temporary installation path * DONE (EBSeqHMM)
EBSeqHMM.Rcheck/EBSeqHMM-Ex.timings
| name | user | system | elapsed | |
| EBHMMNBMultiEM_2chain | 1.118 | 0.040 | 1.159 | |
| EBHMMNBfun | 0.101 | 0.003 | 0.104 | |
| EBHMMNBfunForMulti | 0.428 | 0.015 | 0.443 | |
| EBSeqHMM-package | 1.000 | 0.012 | 1.012 | |
| EBSeqHMMTest | 1.089 | 0.015 | 1.106 | |
| EBTest_ext | 0.206 | 0.004 | 0.211 | |
| GeneExampleData | 0.011 | 0.002 | 0.013 | |
| GetAllPaths | 0.929 | 0.011 | 0.942 | |
| GetConfidentCalls | 0.779 | 0.008 | 0.787 | |
| GetDECalls | 0.816 | 0.005 | 0.820 | |
| IsoExampleList | 0.008 | 0.002 | 0.009 | |
| LikefunNBHMM | 0.012 | 0.002 | 0.014 | |
| PlotExp | 0.010 | 0.003 | 0.012 | |
| beta.mom | 0.000 | 0.000 | 0.001 | |
| f0 | 0.001 | 0.002 | 0.003 | |