| Back to Multiple platform build/check report for BioC 3.11 | 
  | 
This page was generated on 2020-10-17 11:59:03 -0400 (Sat, 17 Oct 2020).
| TO THE DEVELOPERS/MAINTAINERS OF THE NanoStringDiff PACKAGE: Please make sure to use the following settings in order to reproduce any error or warning you see on this page. | 
| Package 1170/1905 | Hostname | OS / Arch | INSTALL | BUILD | CHECK | BUILD BIN | ||||||
| NanoStringDiff 1.18.0 tingting zhai 
  | malbec2 | Linux (Ubuntu 18.04.4 LTS) / x86_64 | OK | OK | WARNINGS | |||||||
| tokay2 | Windows Server 2012 R2 Standard / x64 | OK | OK | WARNINGS | OK | |||||||
| machv2 | macOS 10.14.6 Mojave / x86_64 | OK | OK | WARNINGS | [ OK ] | 
| Package: NanoStringDiff | 
| Version: 1.18.0 | 
| Command: rm -rf NanoStringDiff.buildbin-libdir && mkdir NanoStringDiff.buildbin-libdir && /Users/biocbuild/BBS/utils/build-universal.sh NanoStringDiff_1.18.0.tar.gz /Library/Frameworks/R.framework/Versions/Current/Resources/bin/R NanoStringDiff.buildbin-libdir | 
| StartedAt: 2020-10-17 07:34:00 -0400 (Sat, 17 Oct 2020) | 
| EndedAt: 2020-10-17 07:34:18 -0400 (Sat, 17 Oct 2020) | 
| EllapsedTime: 17.9 seconds | 
| RetCode: 0 | 
| Status: OK | 
| PackageFile: NanoStringDiff_1.18.0.tgz | 
| PackageFileSize: 362.1 KiB | 
############################################################################## ############################################################################## ### ### Running command: ### ### rm -rf NanoStringDiff.buildbin-libdir && mkdir NanoStringDiff.buildbin-libdir && /Users/biocbuild/BBS/utils/build-universal.sh NanoStringDiff_1.18.0.tar.gz /Library/Frameworks/R.framework/Versions/Current/Resources/bin/R NanoStringDiff.buildbin-libdir ### ############################################################################## ############################################################################## >>>>>>> >>>>>>> INSTALLATION WITH 'R CMD INSTALL --preclean --no-multiarch --library=NanoStringDiff.buildbin-libdir NanoStringDiff_1.18.0.tar.gz' >>>>>>> * installing *source* package ‘NanoStringDiff’ ... ** using staged installation ** libs clang++ -mmacosx-version-min=10.13 -std=gnu++11 -I"/Library/Frameworks/R.framework/Resources/include" -DNDEBUG -I'/Library/Frameworks/R.framework/Versions/4.0/Resources/library/Rcpp/include' -I/usr/local/include -fPIC -Wall -g -O2 -c RcppExports.cpp -o RcppExports.o clang++ -mmacosx-version-min=10.13 -std=gnu++11 -I"/Library/Frameworks/R.framework/Resources/include" -DNDEBUG -I'/Library/Frameworks/R.framework/Versions/4.0/Resources/library/Rcpp/include' -I/usr/local/include -fPIC -Wall -g -O2 -c fun5.cpp -o fun5.o clang++ -mmacosx-version-min=10.13 -std=gnu++11 -dynamiclib -Wl,-headerpad_max_install_names -undefined dynamic_lookup -single_module -multiply_defined suppress -L/Library/Frameworks/R.framework/Resources/lib -L/usr/local/lib -o NanoStringDiff.so RcppExports.o fun5.o -F/Library/Frameworks/R.framework/.. -framework R -Wl,-framework -Wl,CoreFoundation installing to /Users/biocbuild/bbs-3.11-bioc/meat/NanoStringDiff.buildbin-libdir/00LOCK-NanoStringDiff/00new/NanoStringDiff/libs ** R ** data ** inst ** byte-compile and prepare package for lazy loading ** help *** installing help indices ** building package indices ** installing vignettes ** testing if installed package can be loaded from temporary location ** checking absolute paths in shared objects and dynamic libraries ** testing if installed package can be loaded from final location ** testing if installed package keeps a record of temporary installation path * DONE (NanoStringDiff) >>>>>>> >>>>>>> FIXING LINKS FOR NanoStringDiff.buildbin-libdir/NanoStringDiff/libs/NanoStringDiff.so >>>>>>> install_name_tool -change "/usr/local/lib/libgcc_s.1.dylib" "/Library/Frameworks/R.framework/Versions/4.0/Resources/lib/libgcc_s.1.dylib" "NanoStringDiff.buildbin-libdir/NanoStringDiff/libs/NanoStringDiff.so" install_name_tool -change "/usr/local/lib/libgfortran.5.dylib" "/Library/Frameworks/R.framework/Versions/4.0/Resources/lib/libgfortran.5.dylib" "NanoStringDiff.buildbin-libdir/NanoStringDiff/libs/NanoStringDiff.so" install_name_tool -change "/usr/local/lib/libquadmath.0.dylib" "/Library/Frameworks/R.framework/Versions/4.0/Resources/lib/libquadmath.0.dylib" "NanoStringDiff.buildbin-libdir/NanoStringDiff/libs/NanoStringDiff.so"