| Back to Multiple platform build/check report for BioC 3.11 | 
  | 
This page was generated on 2020-10-17 11:59:05 -0400 (Sat, 17 Oct 2020).
| TO THE DEVELOPERS/MAINTAINERS OF THE NuPoP PACKAGE: Please make sure to use the following settings in order to reproduce any error or warning you see on this page. | 
| Package 1210/1905 | Hostname | OS / Arch | INSTALL | BUILD | CHECK | BUILD BIN | ||||||
| NuPoP 1.38.0 Ji-Ping Wang 
  | malbec2 | Linux (Ubuntu 18.04.4 LTS) / x86_64 | OK | OK | OK | |||||||
| tokay2 | Windows Server 2012 R2 Standard / x64 | OK | OK | OK | OK | |||||||
| machv2 | macOS 10.14.6 Mojave / x86_64 | OK | OK | [ OK ] | OK | 
| Package: NuPoP | 
| Version: 1.38.0 | 
| Command: /Library/Frameworks/R.framework/Versions/Current/Resources/bin/R CMD check --install=check:NuPoP.install-out.txt --library=/Library/Frameworks/R.framework/Versions/Current/Resources/library --no-vignettes --timings NuPoP_1.38.0.tar.gz | 
| StartedAt: 2020-10-17 03:33:37 -0400 (Sat, 17 Oct 2020) | 
| EndedAt: 2020-10-17 03:34:27 -0400 (Sat, 17 Oct 2020) | 
| EllapsedTime: 50.1 seconds | 
| RetCode: 0 | 
| Status: OK | 
| CheckDir: NuPoP.Rcheck | 
| Warnings: 0 | 
##############################################################################
##############################################################################
###
### Running command:
###
###   /Library/Frameworks/R.framework/Versions/Current/Resources/bin/R CMD check --install=check:NuPoP.install-out.txt --library=/Library/Frameworks/R.framework/Versions/Current/Resources/library --no-vignettes --timings NuPoP_1.38.0.tar.gz
###
##############################################################################
##############################################################################
* using log directory ‘/Users/biocbuild/bbs-3.11-bioc/meat/NuPoP.Rcheck’
* using R version 4.0.3 (2020-10-10)
* using platform: x86_64-apple-darwin17.0 (64-bit)
* using session charset: UTF-8
* using option ‘--no-vignettes’
* checking for file ‘NuPoP/DESCRIPTION’ ... OK
* checking extension type ... Package
* this is package ‘NuPoP’ version ‘1.38.0’
* checking package namespace information ... OK
* checking package dependencies ... OK
* checking if this is a source package ... OK
* checking if there is a namespace ... OK
* checking for hidden files and directories ... OK
* checking for portable file names ... OK
* checking for sufficient/correct file permissions ... OK
* checking whether package ‘NuPoP’ can be installed ... OK
* checking installed package size ... NOTE
  installed size is  5.9Mb
  sub-directories of 1Mb or more:
    extdata   4.9Mb
* checking package directory ... OK
* checking ‘build’ directory ... OK
* checking DESCRIPTION meta-information ... OK
* checking top-level files ... OK
* checking for left-over files ... OK
* checking index information ... OK
* checking package subdirectories ... OK
* checking R files for non-ASCII characters ... OK
* checking R files for syntax errors ... OK
* checking whether the package can be loaded ... OK
* checking whether the package can be loaded with stated dependencies ... OK
* checking whether the package can be unloaded cleanly ... OK
* checking whether the namespace can be loaded with stated dependencies ... OK
* checking whether the namespace can be unloaded cleanly ... OK
* checking dependencies in R code ... OK
* checking S3 generic/method consistency ... OK
* checking replacement functions ... OK
* checking foreign function calls ... OK
* checking R code for possible problems ... NOTE
plotNuPoP: no visible global function definition for ‘par’
plotNuPoP: no visible global function definition for ‘title’
plotNuPoP: no visible global function definition for ‘polygon’
plotNuPoP: no visible global function definition for ‘points’
readNuPoP: no visible global function definition for ‘read.table’
Undefined global functions or variables:
  par points polygon read.table title
Consider adding
  importFrom("graphics", "par", "points", "polygon", "title")
  importFrom("utils", "read.table")
to your NAMESPACE file.
* checking Rd files ... OK
* checking Rd metadata ... OK
* checking Rd cross-references ... OK
* checking for missing documentation entries ... OK
* checking for code/documentation mismatches ... OK
* checking Rd \usage sections ... OK
* checking Rd contents ... OK
* checking for unstated dependencies in examples ... OK
* checking R/sysdata.rda ... OK
* checking line endings in C/C++/Fortran sources/headers ... OK
* checking compiled code ... NOTE
Note: information on .o files is not available
File ‘/Library/Frameworks/R.framework/Versions/4.0/Resources/library/NuPoP/libs/NuPoP.so’:
  Found ‘__gfortran_st_close’, possibly from ‘close’ (Fortran)
  Found ‘__gfortran_st_open’, possibly from ‘open’ (Fortran)
  Found ‘__gfortran_st_read’, possibly from ‘read’ (Fortran)
  Found ‘__gfortran_st_write’, possibly from ‘write’ (Fortran), ‘print’
    (Fortran)
Compiled code should not call entry points which might terminate R nor
write to stdout/stderr instead of to the console, nor use Fortran I/O
nor system RNGs. The detected symbols are linked into the code but
might come from libraries and not actually be called.
See ‘Writing portable packages’ in the ‘Writing R Extensions’ manual.
* checking sizes of PDF files under ‘inst/doc’ ... OK
* checking files in ‘vignettes’ ... OK
* checking examples ... OK
Examples with CPU (user + system) or elapsed time > 5s
               user system elapsed
readNuPoP     8.154  0.047   8.211
predNuPoP     8.095  0.052   8.161
NuPoP-package 7.828  0.060   7.902
* checking for unstated dependencies in vignettes ... OK
* checking package vignettes in ‘inst/doc’ ... OK
* checking running R code from vignettes ... SKIPPED
* checking re-building of vignette outputs ... SKIPPED
* checking PDF version of manual ... OK
* DONE
Status: 3 NOTEs
See
  ‘/Users/biocbuild/bbs-3.11-bioc/meat/NuPoP.Rcheck/00check.log’
for details.
NuPoP.Rcheck/00install.out
##############################################################################
##############################################################################
###
### Running command:
###
###   /Library/Frameworks/R.framework/Versions/Current/Resources/bin/R CMD INSTALL NuPoP
###
##############################################################################
##############################################################################
* installing to library ‘/Library/Frameworks/R.framework/Versions/4.0/Resources/library’
* installing *source* package ‘NuPoP’ ...
** using staged installation
** libs
gfortran -mmacosx-version-min=10.13 -fno-optimize-sibling-calls  -fPIC  -Wall -g -O2  -c  vtbfb.f90 -o vtbfb.o
vtbfb.f90:13:32:
   character*80 seqName,out1,out2; character*2 tpc
                                1
Warning: Unused variable ‘out2’ declared at (1) [-Wunused-variable]
gfortran -mmacosx-version-min=10.13 -fno-optimize-sibling-calls  -fPIC  -Wall -g -O2  -c  vtbfbNL4.f90 -o vtbfbNL4.o
clang -mmacosx-version-min=10.13 -dynamiclib -Wl,-headerpad_max_install_names -undefined dynamic_lookup -single_module -multiply_defined suppress -L/Library/Frameworks/R.framework/Resources/lib -L/usr/local/lib -o NuPoP.so vtbfb.o vtbfbNL4.o -L/usr/local/gfortran/lib/gcc/x86_64-apple-darwin18/8.2.0 -L/usr/local/gfortran/lib -lgfortran -lquadmath -lm -F/Library/Frameworks/R.framework/.. -framework R -Wl,-framework -Wl,CoreFoundation
installing to /Library/Frameworks/R.framework/Versions/4.0/Resources/library/00LOCK-NuPoP/00new/NuPoP/libs
** R
** inst
** byte-compile and prepare package for lazy loading
** help
*** installing help indices
** building package indices
** installing vignettes
** testing if installed package can be loaded from temporary location
** checking absolute paths in shared objects and dynamic libraries
** testing if installed package can be loaded from final location
** testing if installed package keeps a record of temporary installation path
* DONE (NuPoP)
NuPoP.Rcheck/NuPoP-Ex.timings
| name | user | system | elapsed | |
| NuPoP-package | 7.828 | 0.060 | 7.902 | |
| plotNuPoP | 0.074 | 0.006 | 0.080 | |
| predNuPoP | 8.095 | 0.052 | 8.161 | |
| readNuPoP | 8.154 | 0.047 | 8.211 | |