| Back to Multiple platform build/check report for BioC 3.11 | 
  | 
This page was generated on 2020-10-17 11:59:41 -0400 (Sat, 17 Oct 2020).
| TO THE DEVELOPERS/MAINTAINERS OF THE sparsenetgls PACKAGE: Please make sure to use the following settings in order to reproduce any error or warning you see on this page. | 
| Package 1703/1905 | Hostname | OS / Arch | INSTALL | BUILD | CHECK | BUILD BIN | ||||||
| sparsenetgls 1.6.1 Irene SL Zeng 
  | malbec2 | Linux (Ubuntu 18.04.4 LTS) / x86_64 | OK | OK | OK | |||||||
| tokay2 | Windows Server 2012 R2 Standard / x64 | OK | OK | OK | NA | |||||||
| machv2 | macOS 10.14.6 Mojave / x86_64 | OK | OK | OK | [ OK ] | 
| Package: sparsenetgls | 
| Version: 1.6.1 | 
| Command: rm -rf sparsenetgls.buildbin-libdir && mkdir sparsenetgls.buildbin-libdir && /Users/biocbuild/BBS/utils/build-universal.sh sparsenetgls_1.6.1.tar.gz /Library/Frameworks/R.framework/Versions/Current/Resources/bin/R sparsenetgls.buildbin-libdir | 
| StartedAt: 2020-10-17 08:02:00 -0400 (Sat, 17 Oct 2020) | 
| EndedAt: 2020-10-17 08:02:31 -0400 (Sat, 17 Oct 2020) | 
| EllapsedTime: 31.1 seconds | 
| RetCode: 0 | 
| Status: OK | 
| PackageFile: sparsenetgls_1.6.1.tgz | 
| PackageFileSize: 315.5 KiB | 
############################################################################## ############################################################################## ### ### Running command: ### ### rm -rf sparsenetgls.buildbin-libdir && mkdir sparsenetgls.buildbin-libdir && /Users/biocbuild/BBS/utils/build-universal.sh sparsenetgls_1.6.1.tar.gz /Library/Frameworks/R.framework/Versions/Current/Resources/bin/R sparsenetgls.buildbin-libdir ### ############################################################################## ############################################################################## >>>>>>> >>>>>>> INSTALLATION WITH 'R CMD INSTALL --preclean --no-multiarch --library=sparsenetgls.buildbin-libdir sparsenetgls_1.6.1.tar.gz' >>>>>>> * installing *source* package ‘sparsenetgls’ ... ** using staged installation ** R ** data *** moving datasets to lazyload DB ** inst ** byte-compile and prepare package for lazy loading ** help *** installing help indices ** building package indices ** installing vignettes ** testing if installed package can be loaded from temporary location ** testing if installed package can be loaded from final location ** testing if installed package keeps a record of temporary installation path * DONE (sparsenetgls)