| Back to Multiple platform build/check report for BioC 3.11 |
|
This page was generated on 2020-10-17 11:58:13 -0400 (Sat, 17 Oct 2020).
| TO THE DEVELOPERS/MAINTAINERS OF THE CiteFuse PACKAGE: Please make sure to use the following settings in order to reproduce any error or warning you see on this page. |
| Package 303/1905 | Hostname | OS / Arch | INSTALL | BUILD | CHECK | BUILD BIN | ||||||
| CiteFuse 1.0.0 Yingxin Lin
| malbec2 | Linux (Ubuntu 18.04.4 LTS) / x86_64 | OK | OK | OK | |||||||
| tokay2 | Windows Server 2012 R2 Standard / x64 | OK | OK | OK | OK | |||||||
| machv2 | macOS 10.14.6 Mojave / x86_64 | OK | OK | [ OK ] | OK |
| Package: CiteFuse |
| Version: 1.0.0 |
| Command: /Library/Frameworks/R.framework/Versions/Current/Resources/bin/R CMD check --install=check:CiteFuse.install-out.txt --library=/Library/Frameworks/R.framework/Versions/Current/Resources/library --no-vignettes --timings CiteFuse_1.0.0.tar.gz |
| StartedAt: 2020-10-16 23:43:34 -0400 (Fri, 16 Oct 2020) |
| EndedAt: 2020-10-16 23:49:42 -0400 (Fri, 16 Oct 2020) |
| EllapsedTime: 367.8 seconds |
| RetCode: 0 |
| Status: OK |
| CheckDir: CiteFuse.Rcheck |
| Warnings: 0 |
##############################################################################
##############################################################################
###
### Running command:
###
### /Library/Frameworks/R.framework/Versions/Current/Resources/bin/R CMD check --install=check:CiteFuse.install-out.txt --library=/Library/Frameworks/R.framework/Versions/Current/Resources/library --no-vignettes --timings CiteFuse_1.0.0.tar.gz
###
##############################################################################
##############################################################################
* using log directory ‘/Users/biocbuild/bbs-3.11-bioc/meat/CiteFuse.Rcheck’
* using R version 4.0.3 (2020-10-10)
* using platform: x86_64-apple-darwin17.0 (64-bit)
* using session charset: UTF-8
* using option ‘--no-vignettes’
* checking for file ‘CiteFuse/DESCRIPTION’ ... OK
* checking extension type ... Package
* this is package ‘CiteFuse’ version ‘1.0.0’
* package encoding: UTF-8
* checking package namespace information ... OK
* checking package dependencies ... OK
* checking if this is a source package ... OK
* checking if there is a namespace ... OK
* checking for hidden files and directories ... OK
* checking for portable file names ... OK
* checking for sufficient/correct file permissions ... OK
* checking whether package ‘CiteFuse’ can be installed ... OK
* checking installed package size ... OK
* checking package directory ... OK
* checking ‘build’ directory ... OK
* checking DESCRIPTION meta-information ... OK
* checking top-level files ... OK
* checking for left-over files ... OK
* checking index information ... OK
* checking package subdirectories ... OK
* checking R files for non-ASCII characters ... OK
* checking R files for syntax errors ... OK
* checking whether the package can be loaded ... OK
* checking whether the package can be loaded with stated dependencies ... OK
* checking whether the package can be unloaded cleanly ... OK
* checking whether the namespace can be loaded with stated dependencies ... OK
* checking whether the namespace can be unloaded cleanly ... OK
* checking dependencies in R code ... OK
* checking S3 generic/method consistency ... OK
* checking replacement functions ... OK
* checking foreign function calls ... OK
* checking R code for possible problems ... OK
* checking Rd files ... OK
* checking Rd metadata ... OK
* checking Rd cross-references ... OK
* checking for missing documentation entries ... OK
* checking for code/documentation mismatches ... OK
* checking Rd \usage sections ... OK
* checking Rd contents ... OK
* checking for unstated dependencies in examples ... OK
* checking contents of ‘data’ directory ... OK
* checking data for non-ASCII characters ... OK
* checking data for ASCII and uncompressed saves ... OK
* checking files in ‘vignettes’ ... OK
* checking examples ... OK
Examples with CPU (user + system) or elapsed time > 5s
user system elapsed
DEgenesCross 11.835 0.068 11.935
DEcomparisonPlot 5.979 0.040 6.023
DEbubblePlot 5.920 0.055 5.987
plotHTO 5.004 0.042 5.089
* checking for unstated dependencies in vignettes ... OK
* checking package vignettes in ‘inst/doc’ ... OK
* checking running R code from vignettes ... SKIPPED
* checking re-building of vignette outputs ... SKIPPED
* checking PDF version of manual ... OK
* DONE
Status: OK
CiteFuse.Rcheck/00install.out
############################################################################## ############################################################################## ### ### Running command: ### ### /Library/Frameworks/R.framework/Versions/Current/Resources/bin/R CMD INSTALL CiteFuse ### ############################################################################## ############################################################################## * installing to library ‘/Library/Frameworks/R.framework/Versions/4.0/Resources/library’ * installing *source* package ‘CiteFuse’ ... ** using staged installation ** R ** data ** inst ** byte-compile and prepare package for lazy loading ** help *** installing help indices ** building package indices ** installing vignettes ** testing if installed package can be loaded from temporary location ** testing if installed package can be loaded from final location ** testing if installed package keeps a record of temporary installation path * DONE (CiteFuse)
CiteFuse.Rcheck/CiteFuse-Ex.timings
| name | user | system | elapsed | |
| CiteFuse | 2.449 | 0.101 | 2.552 | |
| DEbubblePlot | 5.920 | 0.055 | 5.987 | |
| DEcomparisonPlot | 5.979 | 0.040 | 6.023 | |
| DEgenes | 4.268 | 0.062 | 4.334 | |
| DEgenesCross | 11.835 | 0.068 | 11.935 | |
| crossSampleDoublets | 1.536 | 0.017 | 1.556 | |
| geneADTnetwork | 0.882 | 0.020 | 0.904 | |
| igraphClustering | 1.152 | 0.071 | 1.224 | |
| importanceADT | 1.800 | 0.031 | 1.832 | |
| ligandReceptorTest | 0.882 | 0.021 | 0.903 | |
| normaliseExprs | 0.924 | 0.016 | 0.941 | |
| plotHTO | 5.004 | 0.042 | 5.089 | |
| preprocessing | 0.826 | 0.016 | 0.843 | |
| readFrom10X | 0.000 | 0.000 | 0.001 | |
| reducedDimSNF | 1.641 | 0.033 | 1.676 | |
| selectDEgenes | 4.389 | 0.029 | 4.467 | |
| spectralClustering | 0.850 | 0.021 | 0.873 | |
| visImportance | 2.225 | 0.028 | 2.256 | |
| visLigandReceptor | 1.060 | 0.014 | 1.076 | |
| visualiseDim | 2.459 | 0.032 | 2.494 | |
| visualiseExprs | 1.368 | 0.018 | 1.388 | |
| visualiseExprsList | 1.124 | 0.013 | 1.138 | |
| visualiseKNN | 1.056 | 0.027 | 1.084 | |
| withinSampleDoublets | 1.039 | 0.013 | 1.053 | |