| Back to Multiple platform build/check report for BioC 3.11 |
|
This page was generated on 2020-10-17 11:58:45 -0400 (Sat, 17 Oct 2020).
| TO THE DEVELOPERS/MAINTAINERS OF THE isomiRs PACKAGE: Please make sure to use the following settings in order to reproduce any error or warning you see on this page. |
| Package 904/1905 | Hostname | OS / Arch | INSTALL | BUILD | CHECK | BUILD BIN | ||||||
| isomiRs 1.16.2 Lorena Pantano
| malbec2 | Linux (Ubuntu 18.04.4 LTS) / x86_64 | OK | OK | OK | |||||||
| tokay2 | Windows Server 2012 R2 Standard / x64 | OK | OK | OK | OK | |||||||
| machv2 | macOS 10.14.6 Mojave / x86_64 | OK | OK | [ OK ] | OK |
| Package: isomiRs |
| Version: 1.16.2 |
| Command: /Library/Frameworks/R.framework/Versions/Current/Resources/bin/R CMD check --install=check:isomiRs.install-out.txt --library=/Library/Frameworks/R.framework/Versions/Current/Resources/library --no-vignettes --timings isomiRs_1.16.2.tar.gz |
| StartedAt: 2020-10-17 02:21:08 -0400 (Sat, 17 Oct 2020) |
| EndedAt: 2020-10-17 02:27:34 -0400 (Sat, 17 Oct 2020) |
| EllapsedTime: 386.2 seconds |
| RetCode: 0 |
| Status: OK |
| CheckDir: isomiRs.Rcheck |
| Warnings: 0 |
##############################################################################
##############################################################################
###
### Running command:
###
### /Library/Frameworks/R.framework/Versions/Current/Resources/bin/R CMD check --install=check:isomiRs.install-out.txt --library=/Library/Frameworks/R.framework/Versions/Current/Resources/library --no-vignettes --timings isomiRs_1.16.2.tar.gz
###
##############################################################################
##############################################################################
* using log directory ‘/Users/biocbuild/bbs-3.11-bioc/meat/isomiRs.Rcheck’
* using R version 4.0.3 (2020-10-10)
* using platform: x86_64-apple-darwin17.0 (64-bit)
* using session charset: UTF-8
* using option ‘--no-vignettes’
* checking for file ‘isomiRs/DESCRIPTION’ ... OK
* checking extension type ... Package
* this is package ‘isomiRs’ version ‘1.16.2’
* package encoding: UTF-8
* checking package namespace information ... OK
* checking package dependencies ... OK
* checking if this is a source package ... OK
* checking if there is a namespace ... OK
* checking for hidden files and directories ... NOTE
Found the following hidden files and directories:
.travis.yml
These were most likely included in error. See section ‘Package
structure’ in the ‘Writing R Extensions’ manual.
* checking for portable file names ... OK
* checking for sufficient/correct file permissions ... OK
* checking whether package ‘isomiRs’ can be installed ... OK
* checking installed package size ... OK
* checking package directory ... OK
* checking ‘build’ directory ... OK
* checking DESCRIPTION meta-information ... OK
* checking top-level files ... OK
* checking for left-over files ... OK
* checking index information ... OK
* checking package subdirectories ... OK
* checking R files for non-ASCII characters ... OK
* checking R files for syntax errors ... OK
* checking whether the package can be loaded ... OK
* checking whether the package can be loaded with stated dependencies ... OK
* checking whether the package can be unloaded cleanly ... OK
* checking whether the namespace can be loaded with stated dependencies ... OK
* checking whether the namespace can be unloaded cleanly ... OK
* checking dependencies in R code ... OK
* checking S3 generic/method consistency ... OK
* checking replacement functions ... OK
* checking foreign function calls ... OK
* checking R code for possible problems ... NOTE
.clean_noise: no visible binding for global variable ‘total’
.clean_noise: no visible binding for global variable ‘hits’
.remove_gt_n_changes: no visible binding for global variable ‘changes’
isoAnnotate: no visible binding for global variable ‘pct’
isoCounts: no visible global function definition for ‘as.tibble’
isoPlot: no visible binding for global variable ‘iso_sample’
isoPlotPosition: no visible binding for global variable ‘iso_sample’
mirna2targetscan: no visible binding for global variable
‘targetscan.Hs.egMIRNA’
mirna2targetscan: no visible binding for global variable
‘targetscan.Hs.egMIRBASE2FAMILY’
mirna2targetscan: no visible binding for global variable
‘targetscan.Hs.egTARGETS’
mirna2targetscan: no visible binding for global variable
‘targetscan.Hs.egTARGETSFULL’
mirna2targetscan: no visible binding for global variable
‘targetscan.Mm.egMIRNA’
mirna2targetscan: no visible binding for global variable
‘targetscan.Mm.egMIRBASE2FAMILY’
mirna2targetscan: no visible binding for global variable
‘targetscan.Mm.egTARGETS’
mirna2targetscan: no visible binding for global variable
‘targetscan.Mm.egTARGETSFULL’
Undefined global functions or variables:
as.tibble changes hits iso_sample pct targetscan.Hs.egMIRBASE2FAMILY
targetscan.Hs.egMIRNA targetscan.Hs.egTARGETS
targetscan.Hs.egTARGETSFULL targetscan.Mm.egMIRBASE2FAMILY
targetscan.Mm.egMIRNA targetscan.Mm.egTARGETS
targetscan.Mm.egTARGETSFULL total
* checking Rd files ... OK
* checking Rd metadata ... OK
* checking Rd cross-references ... OK
* checking for missing documentation entries ... OK
* checking for code/documentation mismatches ... OK
* checking Rd \usage sections ... OK
* checking Rd contents ... OK
* checking for unstated dependencies in examples ... OK
* checking contents of ‘data’ directory ... OK
* checking data for non-ASCII characters ... OK
* checking data for ASCII and uncompressed saves ... OK
* checking files in ‘vignettes’ ... OK
* checking examples ... OK
Examples with CPU (user + system) or elapsed time > 5s
user system elapsed
isoDE 9.997 0.064 10.071
isoNetwork 8.897 0.047 8.953
isoAnnotate 8.502 0.183 8.692
* checking for unstated dependencies in ‘tests’ ... OK
* checking tests ...
Running ‘testthat.R’
OK
* checking for unstated dependencies in vignettes ... OK
* checking package vignettes in ‘inst/doc’ ... OK
* checking running R code from vignettes ... SKIPPED
* checking re-building of vignette outputs ... SKIPPED
* checking PDF version of manual ... OK
* DONE
Status: 2 NOTEs
See
‘/Users/biocbuild/bbs-3.11-bioc/meat/isomiRs.Rcheck/00check.log’
for details.
isomiRs.Rcheck/00install.out
############################################################################## ############################################################################## ### ### Running command: ### ### /Library/Frameworks/R.framework/Versions/Current/Resources/bin/R CMD INSTALL isomiRs ### ############################################################################## ############################################################################## * installing to library ‘/Library/Frameworks/R.framework/Versions/4.0/Resources/library’ * installing *source* package ‘isomiRs’ ... ** using staged installation ** R ** data *** moving datasets to lazyload DB Registered S3 method overwritten by 'GGally': method from +.gg ggplot2 ** inst ** byte-compile and prepare package for lazy loading ** help *** installing help indices ** building package indices ** installing vignettes ** testing if installed package can be loaded from temporary location ** testing if installed package can be loaded from final location ** testing if installed package keeps a record of temporary installation path * DONE (isomiRs)
isomiRs.Rcheck/tests/testthat.Rout
R version 4.0.3 (2020-10-10) -- "Bunny-Wunnies Freak Out"
Copyright (C) 2020 The R Foundation for Statistical Computing
Platform: x86_64-apple-darwin17.0 (64-bit)
R is free software and comes with ABSOLUTELY NO WARRANTY.
You are welcome to redistribute it under certain conditions.
Type 'license()' or 'licence()' for distribution details.
R is a collaborative project with many contributors.
Type 'contributors()' for more information and
'citation()' on how to cite R or R packages in publications.
Type 'demo()' for some demos, 'help()' for on-line help, or
'help.start()' for an HTML browser interface to help.
Type 'q()' to quit R.
> library(testthat)
> library(isomiRs)
Loading required package: DiscriMiner
Loading required package: SummarizedExperiment
Loading required package: GenomicRanges
Loading required package: stats4
Loading required package: BiocGenerics
Loading required package: parallel
Attaching package: 'BiocGenerics'
The following objects are masked from 'package:parallel':
clusterApply, clusterApplyLB, clusterCall, clusterEvalQ,
clusterExport, clusterMap, parApply, parCapply, parLapply,
parLapplyLB, parRapply, parSapply, parSapplyLB
The following objects are masked from 'package:stats':
IQR, mad, sd, var, xtabs
The following objects are masked from 'package:base':
Filter, Find, Map, Position, Reduce, anyDuplicated, append,
as.data.frame, basename, cbind, colnames, dirname, do.call,
duplicated, eval, evalq, get, grep, grepl, intersect, is.unsorted,
lapply, mapply, match, mget, order, paste, pmax, pmax.int, pmin,
pmin.int, rank, rbind, rownames, sapply, setdiff, sort, table,
tapply, union, unique, unsplit, which, which.max, which.min
Loading required package: S4Vectors
Attaching package: 'S4Vectors'
The following object is masked from 'package:base':
expand.grid
Loading required package: IRanges
Loading required package: GenomeInfoDb
Loading required package: Biobase
Welcome to Bioconductor
Vignettes contain introductory material; view with
'browseVignettes()'. To cite Bioconductor, see
'citation("Biobase")', and for packages 'citation("pkgname")'.
Loading required package: DelayedArray
Loading required package: matrixStats
Attaching package: 'matrixStats'
The following objects are masked from 'package:Biobase':
anyMissing, rowMedians
Attaching package: 'DelayedArray'
The following objects are masked from 'package:matrixStats':
colMaxs, colMins, colRanges, rowMaxs, rowMins, rowRanges
The following objects are masked from 'package:base':
aperm, apply, rowsum
>
> test_check("isomiRs")
Dimmension of cor matrix: 20 20
Dimmension of cor matrix: 3 2
Dimmension of cor matrix: 3 2
Dimmension of cor matrix: 0 0
══ testthat results ═══════════════════════════════════════════════════════════
[ OK: 28 | SKIPPED: 0 | WARNINGS: 2 | FAILED: 0 ]
>
> proc.time()
user system elapsed
28.386 1.160 29.554
isomiRs.Rcheck/isomiRs-Ex.timings
| name | user | system | elapsed | |
| IsomirDataSeq | 1.761 | 0.093 | 1.857 | |
| IsomirDataSeqFromFiles | 1.616 | 0.039 | 1.656 | |
| IsomirDataSeqFromMirtop | 0.756 | 0.012 | 0.769 | |
| IsomirDataSeqFromRawData | 1.621 | 0.022 | 1.644 | |
| counts | 0.269 | 0.020 | 0.288 | |
| design | 0.885 | 0.016 | 0.903 | |
| findTargets | 0.178 | 0.004 | 0.182 | |
| isoAnnotate | 8.502 | 0.183 | 8.692 | |
| isoCounts | 0.990 | 0.022 | 1.013 | |
| isoDE | 9.997 | 0.064 | 10.071 | |
| isoNetwork | 8.897 | 0.047 | 8.953 | |
| isoNorm | 2.935 | 0.021 | 2.963 | |
| isoPLSDA | 3.066 | 0.102 | 3.173 | |
| isoPLSDAplot | 3.906 | 0.118 | 4.027 | |
| isoPlot | 0.774 | 0.017 | 0.792 | |
| isoPlotPosition | 0.740 | 0.014 | 0.755 | |
| isoSelect | 0.238 | 0.010 | 0.248 | |
| isoTop | 0.305 | 0.016 | 0.322 | |
| mirna2targetscan | 3.252 | 0.128 | 3.396 | |