| Back to Multiple platform build/check report for BioC 3.11 | 
  | 
This page was generated on 2020-10-17 11:59:07 -0400 (Sat, 17 Oct 2020).
| TO THE DEVELOPERS/MAINTAINERS OF THE optimalFlow PACKAGE: Please make sure to use the following settings in order to reproduce any error or warning you see on this page. | 
| Package 1243/1905 | Hostname | OS / Arch | INSTALL | BUILD | CHECK | BUILD BIN | ||||||
| optimalFlow 1.0.1 Hristo Inouzhe 
  | malbec2 | Linux (Ubuntu 18.04.4 LTS) / x86_64 | OK | OK | OK | |||||||
| tokay2 | Windows Server 2012 R2 Standard / x64 | OK | OK | OK | OK | |||||||
| machv2 | macOS 10.14.6 Mojave / x86_64 | [ OK ] | OK | WARNINGS | OK | 
| Package: optimalFlow | 
| Version: 1.0.1 | 
| Command: /Library/Frameworks/R.framework/Versions/Current/Resources/bin/R CMD INSTALL optimalFlow | 
| StartedAt: 2020-10-16 16:34:03 -0400 (Fri, 16 Oct 2020) | 
| EndedAt: 2020-10-16 16:34:36 -0400 (Fri, 16 Oct 2020) | 
| EllapsedTime: 33.5 seconds | 
| RetCode: 0 | 
| Status: OK | 
############################################################################## ############################################################################## ### ### Running command: ### ### /Library/Frameworks/R.framework/Versions/Current/Resources/bin/R CMD INSTALL optimalFlow ### ############################################################################## ############################################################################## * installing to library ‘/Library/Frameworks/R.framework/Versions/4.0/Resources/library’ * installing *source* package ‘optimalFlow’ ... ** using staged installation ** R ** byte-compile and prepare package for lazy loading Warning: 'rgl.init' failed, running with 'rgl.useNULL = TRUE'. ** help *** installing help indices ** building package indices ** installing vignettes ** testing if installed package can be loaded from temporary location Warning: 'rgl.init' failed, running with 'rgl.useNULL = TRUE'. ** testing if installed package can be loaded from final location Warning: 'rgl.init' failed, running with 'rgl.useNULL = TRUE'. ** testing if installed package keeps a record of temporary installation path * DONE (optimalFlow)