| Back to Multiple platform build/check report for BioC 3.11 |
|
This page was generated on 2020-10-17 11:59:10 -0400 (Sat, 17 Oct 2020).
| TO THE DEVELOPERS/MAINTAINERS OF THE PCAN PACKAGE: Please make sure to use the following settings in order to reproduce any error or warning you see on this page. |
| Package 1283/1905 | Hostname | OS / Arch | INSTALL | BUILD | CHECK | BUILD BIN | ||||||
| PCAN 1.16.0 Matthew Page
| malbec2 | Linux (Ubuntu 18.04.4 LTS) / x86_64 | OK | OK | OK | |||||||
| tokay2 | Windows Server 2012 R2 Standard / x64 | OK | OK | OK | OK | |||||||
| machv2 | macOS 10.14.6 Mojave / x86_64 | OK | OK | [ OK ] | OK |
| Package: PCAN |
| Version: 1.16.0 |
| Command: /Library/Frameworks/R.framework/Versions/Current/Resources/bin/R CMD check --install=check:PCAN.install-out.txt --library=/Library/Frameworks/R.framework/Versions/Current/Resources/library --no-vignettes --timings PCAN_1.16.0.tar.gz |
| StartedAt: 2020-10-17 03:48:09 -0400 (Sat, 17 Oct 2020) |
| EndedAt: 2020-10-17 03:53:55 -0400 (Sat, 17 Oct 2020) |
| EllapsedTime: 345.6 seconds |
| RetCode: 0 |
| Status: OK |
| CheckDir: PCAN.Rcheck |
| Warnings: 0 |
##############################################################################
##############################################################################
###
### Running command:
###
### /Library/Frameworks/R.framework/Versions/Current/Resources/bin/R CMD check --install=check:PCAN.install-out.txt --library=/Library/Frameworks/R.framework/Versions/Current/Resources/library --no-vignettes --timings PCAN_1.16.0.tar.gz
###
##############################################################################
##############################################################################
* using log directory ‘/Users/biocbuild/bbs-3.11-bioc/meat/PCAN.Rcheck’
* using R version 4.0.3 (2020-10-10)
* using platform: x86_64-apple-darwin17.0 (64-bit)
* using session charset: UTF-8
* using option ‘--no-vignettes’
* checking for file ‘PCAN/DESCRIPTION’ ... OK
* this is package ‘PCAN’ version ‘1.16.0’
* checking package namespace information ... OK
* checking package dependencies ... OK
* checking if this is a source package ... OK
* checking if there is a namespace ... OK
* checking for hidden files and directories ... OK
* checking for portable file names ... OK
* checking for sufficient/correct file permissions ... OK
* checking whether package ‘PCAN’ can be installed ... OK
* checking installed package size ... OK
* checking package directory ... OK
* checking ‘build’ directory ... OK
* checking DESCRIPTION meta-information ... OK
* checking top-level files ... OK
* checking for left-over files ... OK
* checking index information ... OK
* checking package subdirectories ... OK
* checking R files for non-ASCII characters ... OK
* checking R files for syntax errors ... OK
* checking whether the package can be loaded ... OK
* checking whether the package can be loaded with stated dependencies ... OK
* checking whether the package can be unloaded cleanly ... OK
* checking whether the namespace can be loaded with stated dependencies ... OK
* checking whether the namespace can be unloaded cleanly ... OK
* checking dependencies in R code ... OK
* checking S3 generic/method consistency ... OK
* checking replacement functions ... OK
* checking foreign function calls ... OK
* checking R code for possible problems ... OK
* checking Rd files ... OK
* checking Rd metadata ... OK
* checking Rd cross-references ... OK
* checking for missing documentation entries ... OK
* checking for code/documentation mismatches ... OK
* checking Rd \usage sections ... OK
* checking Rd contents ... OK
* checking for unstated dependencies in examples ... OK
* checking contents of ‘data’ directory ... OK
* checking data for non-ASCII characters ... OK
* checking data for ASCII and uncompressed saves ... OK
* checking files in ‘vignettes’ ... OK
* checking examples ... OK
Examples with CPU (user + system) or elapsed time > 5s
user system elapsed
hpGeneListComp 79.006 7.350 86.438
compareHPSets 79.009 7.116 86.366
hpGeneHeatmap 78.820 7.139 86.047
* checking for unstated dependencies in vignettes ... OK
* checking package vignettes in ‘inst/doc’ ... OK
* checking running R code from vignettes ... SKIPPED
* checking re-building of vignette outputs ... SKIPPED
* checking PDF version of manual ... OK
* DONE
Status: OK
PCAN.Rcheck/00install.out
############################################################################## ############################################################################## ### ### Running command: ### ### /Library/Frameworks/R.framework/Versions/Current/Resources/bin/R CMD INSTALL PCAN ### ############################################################################## ############################################################################## * installing to library ‘/Library/Frameworks/R.framework/Versions/4.0/Resources/library’ * installing *source* package ‘PCAN’ ... ** using staged installation ** R ** data ** inst ** byte-compile and prepare package for lazy loading ** help *** installing help indices ** building package indices ** installing vignettes ** testing if installed package can be loaded from temporary location ** testing if installed package can be loaded from final location ** testing if installed package keeps a record of temporary installation path * DONE (PCAN)
PCAN.Rcheck/PCAN-Ex.timings
| name | user | system | elapsed | |
| calcHpSim | 2.777 | 0.799 | 3.578 | |
| compareHPSets | 79.009 | 7.116 | 86.366 | |
| computeHpIC | 2.389 | 0.333 | 2.728 | |
| geneByHp | 2.648 | 0.272 | 2.927 | |
| geneByTrait | 0.064 | 0.003 | 0.071 | |
| geneDef | 4.127 | 0.267 | 4.548 | |
| hpByTrait | 4.092 | 0.265 | 4.364 | |
| hpDef | 2.768 | 0.366 | 3.137 | |
| hpGeneHeatmap | 78.820 | 7.139 | 86.047 | |
| hpGeneListComp | 79.006 | 7.350 | 86.438 | |
| hpSetCompBestMatch | 3.846 | 0.380 | 4.227 | |
| hpSetCompSummary | 4.155 | 0.499 | 4.656 | |
| hp_ancestors | 2.630 | 0.547 | 3.179 | |
| hp_class | 0.076 | 0.001 | 0.078 | |
| hp_descendants | 2.556 | 0.449 | 3.007 | |
| hqStrNw | 0 | 0 | 0 | |
| hsEntrezByRPath | 0.000 | 0.000 | 0.001 | |
| rPath | 0 | 0 | 0 | |
| traitDef | 3.816 | 0.430 | 4.249 | |