| Back to Multiple platform build/check report for BioC 3.11 | 
  | 
This page was generated on 2020-10-17 11:58:04 -0400 (Sat, 17 Oct 2020).
| TO THE DEVELOPERS/MAINTAINERS OF THE attract PACKAGE: Please make sure to use the following settings in order to reproduce any error or warning you see on this page. | 
| Package 98/1905 | Hostname | OS / Arch | INSTALL | BUILD | CHECK | BUILD BIN | ||||||
| attract 1.40.0 Samuel Zimmerman 
  | malbec2 | Linux (Ubuntu 18.04.4 LTS) / x86_64 | OK | OK | OK | |||||||
| tokay2 | Windows Server 2012 R2 Standard / x64 | OK | OK | OK | OK | |||||||
| machv2 | macOS 10.14.6 Mojave / x86_64 | OK | OK | [ OK ] | OK | 
| Package: attract | 
| Version: 1.40.0 | 
| Command: /Library/Frameworks/R.framework/Versions/Current/Resources/bin/R CMD check --install=check:attract.install-out.txt --library=/Library/Frameworks/R.framework/Versions/Current/Resources/library --no-vignettes --timings attract_1.40.0.tar.gz | 
| StartedAt: 2020-10-16 22:47:15 -0400 (Fri, 16 Oct 2020) | 
| EndedAt: 2020-10-16 22:53:45 -0400 (Fri, 16 Oct 2020) | 
| EllapsedTime: 390.5 seconds | 
| RetCode: 0 | 
| Status: OK | 
| CheckDir: attract.Rcheck | 
| Warnings: 0 | 
##############################################################################
##############################################################################
###
### Running command:
###
###   /Library/Frameworks/R.framework/Versions/Current/Resources/bin/R CMD check --install=check:attract.install-out.txt --library=/Library/Frameworks/R.framework/Versions/Current/Resources/library --no-vignettes --timings attract_1.40.0.tar.gz
###
##############################################################################
##############################################################################
* using log directory ‘/Users/biocbuild/bbs-3.11-bioc/meat/attract.Rcheck’
* using R version 4.0.3 (2020-10-10)
* using platform: x86_64-apple-darwin17.0 (64-bit)
* using session charset: UTF-8
* using option ‘--no-vignettes’
* checking for file ‘attract/DESCRIPTION’ ... OK
* checking extension type ... Package
* this is package ‘attract’ version ‘1.40.0’
* checking package namespace information ... OK
* checking package dependencies ... OK
* checking if this is a source package ... OK
* checking if there is a namespace ... OK
* checking for hidden files and directories ... OK
* checking for portable file names ... OK
* checking for sufficient/correct file permissions ... OK
* checking whether package ‘attract’ can be installed ... OK
* checking installed package size ... OK
* checking package directory ... OK
* checking ‘build’ directory ... OK
* checking DESCRIPTION meta-information ... OK
* checking top-level files ... OK
* checking for left-over files ... OK
* checking index information ... OK
* checking package subdirectories ... OK
* checking R files for non-ASCII characters ... OK
* checking R files for syntax errors ... OK
* checking whether the package can be loaded ... OK
* checking whether the package can be loaded with stated dependencies ... OK
* checking whether the package can be unloaded cleanly ... OK
* checking whether the namespace can be loaded with stated dependencies ... OK
* checking whether the namespace can be unloaded cleanly ... OK
* checking dependencies in R code ... OK
* checking S3 generic/method consistency ... OK
* checking replacement functions ... OK
* checking foreign function calls ... OK
* checking R code for possible problems ... NOTE
plotsynexprs: warning in axis(1, at = tickMarks, lab = tickLabels):
  partial argument match of 'lab' to 'labels'
removeFlatGenes: warning in topTable(fit2, coef =
  (1:(length(my.contrasts))), adjust = "fdr", n = nrow(dat.fr)):
  partial argument match of 'n' to 'number'
removeFlatGenes: warning in topTable(fit2, coef =
  (1:(length(my.contrasts))), adjust = "fdr", n = nrow(dat.fr)):
  partial argument match of 'adjust' to 'adjust.method'
* checking Rd files ... OK
* checking Rd metadata ... OK
* checking Rd cross-references ... OK
* checking for missing documentation entries ... OK
* checking for code/documentation mismatches ... OK
* checking Rd \usage sections ... OK
* checking Rd contents ... OK
* checking for unstated dependencies in examples ... OK
* checking contents of ‘data’ directory ... OK
* checking data for non-ASCII characters ... OK
* checking data for ASCII and uncompressed saves ... OK
* checking sizes of PDF files under ‘inst/doc’ ... OK
* checking files in ‘vignettes’ ... OK
* checking examples ... OK
Examples with CPU (user + system) or elapsed time > 5s
                    user system elapsed
calcFuncSynexprs 103.871 13.090 119.218
findAttractors    62.090  1.925  65.776
plotsynexprs       9.254  0.047  10.141
findSynexprs       9.104  0.088  10.190
findCorrPartners   8.739  0.345  10.430
* checking for unstated dependencies in vignettes ... OK
* checking package vignettes in ‘inst/doc’ ... OK
* checking running R code from vignettes ... SKIPPED
* checking re-building of vignette outputs ... SKIPPED
* checking PDF version of manual ... OK
* DONE
Status: 1 NOTE
See
  ‘/Users/biocbuild/bbs-3.11-bioc/meat/attract.Rcheck/00check.log’
for details.
attract.Rcheck/00install.out
############################################################################## ############################################################################## ### ### Running command: ### ### /Library/Frameworks/R.framework/Versions/Current/Resources/bin/R CMD INSTALL attract ### ############################################################################## ############################################################################## * installing to library ‘/Library/Frameworks/R.framework/Versions/4.0/Resources/library’ * installing *source* package ‘attract’ ... ** using staged installation ** R ** data ** inst ** byte-compile and prepare package for lazy loading ** help *** installing help indices ** building package indices ** installing vignettes ** testing if installed package can be loaded from temporary location ** testing if installed package can be loaded from final location ** testing if installed package keeps a record of temporary installation path * DONE (attract)
attract.Rcheck/attract-Ex.timings
| name | user | system | elapsed | |
| AttractorModuleSet-class | 0 | 0 | 0 | |
| SynExpressionSet-class | 0.001 | 0.000 | 0.002 | |
| attract-package | 0.000 | 0.000 | 0.001 | |
| buildCorMatrix | 0 | 0 | 0 | |
| buildKeggIncidenceMatrix | 0.001 | 0.000 | 0.000 | |
| calcFuncSynexprs | 103.871 | 13.090 | 119.218 | |
| calcInform | 0.000 | 0.001 | 0.001 | |
| calcModfstat | 0.001 | 0.000 | 0.000 | |
| calcRss | 0.001 | 0.001 | 0.001 | |
| exprs.dat | 0.192 | 0.006 | 0.199 | |
| filterDataSet | 0.328 | 0.035 | 0.363 | |
| findAttractors | 62.090 | 1.925 | 65.776 | |
| findCorrPartners | 8.739 | 0.345 | 10.430 | |
| findOnepwaySynexprs | 0 | 0 | 0 | |
| findSynexprs | 9.104 | 0.088 | 10.190 | |
| flagPwayExists | 0.001 | 0.001 | 0.000 | |
| getCustomGenes | 0.000 | 0.001 | 0.000 | |
| getPwayGenes | 0 | 0 | 0 | |
| loring.eset | 0.199 | 0.004 | 0.203 | |
| plotsynexprs | 9.254 | 0.047 | 10.141 | |
| removeFlatGenes | 0.225 | 0.015 | 0.240 | |
| samp.info | 0.001 | 0.002 | 0.004 | |
| subset.loring.eset | 0.119 | 0.004 | 0.123 | |