| Back to Multiple platform build/check report for BioC 3.11 | 
  | 
This page was generated on 2020-10-17 11:59:41 -0400 (Sat, 17 Oct 2020).
| TO THE DEVELOPERS/MAINTAINERS OF THE SpidermiR PACKAGE: Please make sure to use the following settings in order to reproduce any error or warning you see on this page. | 
| Package 1712/1905 | Hostname | OS / Arch | INSTALL | BUILD | CHECK | BUILD BIN | ||||||
| SpidermiR 1.18.2 Claudia Cava 
  | malbec2 | Linux (Ubuntu 18.04.4 LTS) / x86_64 | OK | OK | WARNINGS | |||||||
| tokay2 | Windows Server 2012 R2 Standard / x64 | OK | OK | WARNINGS | NA | |||||||
| machv2 | macOS 10.14.6 Mojave / x86_64 | OK | OK | WARNINGS | [ OK ] | 
| Package: SpidermiR | 
| Version: 1.18.2 | 
| Command: rm -rf SpidermiR.buildbin-libdir && mkdir SpidermiR.buildbin-libdir && /Users/biocbuild/BBS/utils/build-universal.sh SpidermiR_1.18.2.tar.gz /Library/Frameworks/R.framework/Versions/Current/Resources/bin/R SpidermiR.buildbin-libdir | 
| StartedAt: 2020-10-17 08:02:26 -0400 (Sat, 17 Oct 2020) | 
| EndedAt: 2020-10-17 08:03:34 -0400 (Sat, 17 Oct 2020) | 
| EllapsedTime: 68.0 seconds | 
| RetCode: 0 | 
| Status: OK | 
| PackageFile: SpidermiR_1.18.2.tgz | 
| PackageFileSize: 388.5 KiB | 
############################################################################## ############################################################################## ### ### Running command: ### ### rm -rf SpidermiR.buildbin-libdir && mkdir SpidermiR.buildbin-libdir && /Users/biocbuild/BBS/utils/build-universal.sh SpidermiR_1.18.2.tar.gz /Library/Frameworks/R.framework/Versions/Current/Resources/bin/R SpidermiR.buildbin-libdir ### ############################################################################## ############################################################################## >>>>>>> >>>>>>> INSTALLATION WITH 'R CMD INSTALL --preclean --no-multiarch --library=SpidermiR.buildbin-libdir SpidermiR_1.18.2.tar.gz' >>>>>>> * installing *source* package ‘SpidermiR’ ... ** using staged installation ** R ** inst ** byte-compile and prepare package for lazy loading Note: possible error in 'simpleNetwork(NetworkData, ': unused argument (textColour = "black") ** help *** installing help indices ** building package indices ** installing vignettes ** testing if installed package can be loaded from temporary location ** testing if installed package can be loaded from final location ** testing if installed package keeps a record of temporary installation path * DONE (SpidermiR)