| Back to Multiple platform build/check report for BioC 3.11 |
|
This page was generated on 2020-10-17 11:59:46 -0400 (Sat, 17 Oct 2020).
| TO THE DEVELOPERS/MAINTAINERS OF THE TarSeqQC PACKAGE: Please make sure to use the following settings in order to reproduce any error or warning you see on this page. |
| Package 1781/1905 | Hostname | OS / Arch | INSTALL | BUILD | CHECK | BUILD BIN | ||||||
| TarSeqQC 1.18.0 Gabriela Merino
| malbec2 | Linux (Ubuntu 18.04.4 LTS) / x86_64 | OK | OK | OK | |||||||
| tokay2 | Windows Server 2012 R2 Standard / x64 | OK | OK | TIMEOUT | NA | |||||||
| machv2 | macOS 10.14.6 Mojave / x86_64 | OK | OK | [ OK ] | OK |
| Package: TarSeqQC |
| Version: 1.18.0 |
| Command: /Library/Frameworks/R.framework/Versions/Current/Resources/bin/R CMD check --install=check:TarSeqQC.install-out.txt --library=/Library/Frameworks/R.framework/Versions/Current/Resources/library --no-vignettes --timings TarSeqQC_1.18.0.tar.gz |
| StartedAt: 2020-10-17 05:49:30 -0400 (Sat, 17 Oct 2020) |
| EndedAt: 2020-10-17 05:55:37 -0400 (Sat, 17 Oct 2020) |
| EllapsedTime: 366.9 seconds |
| RetCode: 0 |
| Status: OK |
| CheckDir: TarSeqQC.Rcheck |
| Warnings: 0 |
##############################################################################
##############################################################################
###
### Running command:
###
### /Library/Frameworks/R.framework/Versions/Current/Resources/bin/R CMD check --install=check:TarSeqQC.install-out.txt --library=/Library/Frameworks/R.framework/Versions/Current/Resources/library --no-vignettes --timings TarSeqQC_1.18.0.tar.gz
###
##############################################################################
##############################################################################
* using log directory ‘/Users/biocbuild/bbs-3.11-bioc/meat/TarSeqQC.Rcheck’
* using R version 4.0.3 (2020-10-10)
* using platform: x86_64-apple-darwin17.0 (64-bit)
* using session charset: UTF-8
* using option ‘--no-vignettes’
* checking for file ‘TarSeqQC/DESCRIPTION’ ... OK
* checking extension type ... Package
* this is package ‘TarSeqQC’ version ‘1.18.0’
* checking package namespace information ... OK
* checking package dependencies ... OK
* checking if this is a source package ... OK
* checking if there is a namespace ... OK
* checking for hidden files and directories ... OK
* checking for portable file names ... OK
* checking for sufficient/correct file permissions ... OK
* checking whether package ‘TarSeqQC’ can be installed ... OK
* checking installed package size ... OK
* checking package directory ... OK
* checking ‘build’ directory ... OK
* checking DESCRIPTION meta-information ... OK
* checking top-level files ... OK
* checking for left-over files ... OK
* checking index information ... OK
* checking package subdirectories ... OK
* checking R files for non-ASCII characters ... OK
* checking R files for syntax errors ... OK
* checking whether the package can be loaded ... OK
* checking whether the package can be loaded with stated dependencies ... OK
* checking whether the package can be unloaded cleanly ... OK
* checking whether the namespace can be loaded with stated dependencies ... OK
* checking whether the namespace can be unloaded cleanly ... OK
* checking dependencies in R code ... OK
* checking S3 generic/method consistency ... OK
* checking replacement functions ... OK
* checking foreign function calls ... OK
* checking R code for possible problems ... NOTE
plotNtdPercentage,TargetExperiment: no visible global function
definition for ‘path’
plotRegion,TargetExperiment: no visible global function definition for
‘path’
readFrequencies,TargetExperiment: no visible global function definition
for ‘path’
Undefined global functions or variables:
path
* checking Rd files ... OK
* checking Rd metadata ... OK
* checking Rd cross-references ... OK
* checking for missing documentation entries ... OK
* checking for code/documentation mismatches ... OK
* checking Rd \usage sections ... OK
* checking Rd contents ... OK
* checking for unstated dependencies in examples ... OK
* checking contents of ‘data’ directory ... OK
* checking data for non-ASCII characters ... OK
* checking data for ASCII and uncompressed saves ... OK
* checking sizes of PDF files under ‘inst/doc’ ... OK
* checking files in ‘vignettes’ ... OK
* checking examples ... OK
Examples with CPU (user + system) or elapsed time > 5s
user system elapsed
TargetExperiment-class 18.733 5.263 15.668
TargetExperiment-plotRegion 4.566 1.713 2.410
* checking for unstated dependencies in ‘tests’ ... OK
* checking tests ...
Running ‘runTests.R’
OK
* checking for unstated dependencies in vignettes ... OK
* checking package vignettes in ‘inst/doc’ ... OK
* checking running R code from vignettes ... SKIPPED
* checking re-building of vignette outputs ... SKIPPED
* checking PDF version of manual ... OK
* DONE
Status: 1 NOTE
See
‘/Users/biocbuild/bbs-3.11-bioc/meat/TarSeqQC.Rcheck/00check.log’
for details.
TarSeqQC.Rcheck/00install.out
############################################################################## ############################################################################## ### ### Running command: ### ### /Library/Frameworks/R.framework/Versions/Current/Resources/bin/R CMD INSTALL TarSeqQC ### ############################################################################## ############################################################################## * installing to library ‘/Library/Frameworks/R.framework/Versions/4.0/Resources/library’ * installing *source* package ‘TarSeqQC’ ... ** using staged installation ** R ** data ** inst ** byte-compile and prepare package for lazy loading ** help *** installing help indices ** building package indices ** installing vignettes ** testing if installed package can be loaded from temporary location ** testing if installed package can be loaded from final location ** testing if installed package keeps a record of temporary installation path * DONE (TarSeqQC)
TarSeqQC.Rcheck/tests/runTests.Rout
R version 4.0.3 (2020-10-10) -- "Bunny-Wunnies Freak Out"
Copyright (C) 2020 The R Foundation for Statistical Computing
Platform: x86_64-apple-darwin17.0 (64-bit)
R is free software and comes with ABSOLUTELY NO WARRANTY.
You are welcome to redistribute it under certain conditions.
Type 'license()' or 'licence()' for distribution details.
R is a collaborative project with many contributors.
Type 'contributors()' for more information and
'citation()' on how to cite R or R packages in publications.
Type 'demo()' for some demos, 'help()' for on-line help, or
'help.start()' for an HTML browser interface to help.
Type 'q()' to quit R.
> BiocGenerics:::testPackage("TarSeqQC")
Attaching package: 'BiocGenerics'
The following objects are masked from 'package:parallel':
clusterApply, clusterApplyLB, clusterCall, clusterEvalQ,
clusterExport, clusterMap, parApply, parCapply, parLapply,
parLapplyLB, parRapply, parSapply, parSapplyLB
The following objects are masked from 'package:stats':
IQR, mad, sd, var, xtabs
The following objects are masked from 'package:base':
Filter, Find, Map, Position, Reduce, anyDuplicated, append,
as.data.frame, basename, cbind, colnames, dirname, do.call,
duplicated, eval, evalq, get, grep, grepl, intersect, is.unsorted,
lapply, mapply, match, mget, order, paste, pmax, pmax.int, pmin,
pmin.int, rank, rbind, rownames, sapply, setdiff, sort, table,
tapply, union, unique, unsplit, which, which.max, which.min
Attaching package: 'S4Vectors'
The following object is masked from 'package:base':
expand.grid
Attaching package: 'Biostrings'
The following object is masked from 'package:base':
strsplit
Attaching package: 'plyr'
The following object is masked from 'package:XVector':
compact
The following object is masked from 'package:IRanges':
desc
The following object is masked from 'package:S4Vectors':
rename
RUNIT TEST PROTOCOL -- Sat Oct 17 05:55:25 2020
***********************************************
Number of test functions: 33
Number of errors: 0
Number of failures: 0
1 Test Suite :
TarSeqQC RUnit Tests - 33 test functions, 0 errors, 0 failures
Number of test functions: 33
Number of errors: 0
Number of failures: 0
>
> proc.time()
user system elapsed
24.075 3.655 23.073
TarSeqQC.Rcheck/TarSeqQC-Ex.timings
| name | user | system | elapsed | |
| TargetExperiment-biasExploration | 0.114 | 0.006 | 0.121 | |
| TargetExperiment-buildFeaturePanel | 1.886 | 0.193 | 2.084 | |
| TargetExperiment-buildReport | 2.022 | 0.041 | 2.065 | |
| TargetExperiment-class | 18.733 | 5.263 | 15.668 | |
| TargetExperiment-constructor | 2.858 | 0.719 | 2.382 | |
| TargetExperiment-getters | 0.414 | 0.069 | 0.483 | |
| TargetExperiment-initialize | 0.002 | 0.000 | 0.003 | |
| TargetExperiment-plot | 0.456 | 0.051 | 0.507 | |
| TargetExperiment-plotAttrExpl | 0.157 | 0.021 | 0.179 | |
| TargetExperiment-plotAttrPerform | 0.049 | 0.007 | 0.056 | |
| TargetExperiment-plotFeatPerform | 0.641 | 0.058 | 0.699 | |
| TargetExperiment-plotFeature | 0.572 | 0.430 | 0.548 | |
| TargetExperiment-plotGeneAttrPerFeat | 0.810 | 0.087 | 0.897 | |
| TargetExperiment-plotMetaDataExpl | 0.060 | 0.007 | 0.068 | |
| TargetExperiment-plotNtdPercentage | 0.451 | 0.319 | 0.383 | |
| TargetExperiment-plotRegion | 4.566 | 1.713 | 2.410 | |
| TargetExperiment-print | 0.073 | 0.014 | 0.087 | |
| TargetExperiment-readFrequencies | 0.501 | 0.214 | 0.537 | |
| TargetExperiment-setters | 0.006 | 0.003 | 0.010 | |
| TargetExperiment-show | 0.080 | 0.016 | 0.095 | |
| TargetExperiment-statistics | 0.093 | 0.014 | 0.107 | |
| TargetExperiment-summarizePanel | 1.176 | 0.626 | 0.522 | |
| TargetExperimentList-class | 0.792 | 0.094 | 0.889 | |
| TargetExperimentList-constructor | 0.128 | 0.017 | 0.144 | |
| TargetExperimentList-initialize | 0.127 | 0.016 | 0.144 | |
| TargetExperimentList-plotGlobalAttrExpl | 0.041 | 0.007 | 0.049 | |
| TargetExperimentList-plotPoolPerformance | 0.023 | 0.005 | 0.029 | |
| checkBedFasta | 0.067 | 0.006 | 0.074 | |
| pileupCounts | 0.550 | 0.343 | 0.406 | |
| plotInOutFeatures | 0.472 | 0.237 | 0.504 | |