Back to Multiple platform build/check report for BioC 3.22:   simplified   long

This page was generated on 2025-10-18 12:08 -0400 (Sat, 18 Oct 2025).

All results on taishan


Package status is indicated by one of the following glyphs
  TIMEOUT  
INSTALL, BUILD, CHECK or BUILD BIN of package took more than 40 minutes
  ERROR  
Bad DESCRIPTION file, or INSTALL, BUILD or BUILD BIN of package failed, or CHECK produced errors
  WARNINGS  
CHECK of package produced warnings
  OK  
INSTALL, BUILD, CHECK or BUILD BIN of package went OK
  NA  
INSTALL, BUILD, CHECK or BUILD BIN result is not available because of an anomaly in the Build System
skipped
CHECK or BUILD BIN of package was skipped because the BUILD step failed
Click on any glyph in the report below to access the detailed report.
Package propagation status is indicated by one of the following LEDs
YES YES: Package was propagated because it didn't previously exist or version was bumped
NO NO: Package was not propagated because of a problem (impossible dependencies, or version lower than what is already propagated)
UNNEEDED UNNEEDED: Package was not propagated because it is already in the repository with this version. A version bump is required in order to propagate it

A crossed-out package name indicates that the package is deprecated


QUICK STATSOS / ArchINSTALLBUILDCHECKBUILD BIN
nebbiolo2Linux (Ubuntu 24.04.3 LTS) / x86_64
0222329
0812270
2703611837
lconwaymacOS 12.7.6 Monterey / x86_64
0232318
1992241
2633491827
002241
kjohnson3macOS 13.7.7 Ventura / arm64
0342305
51122222
0853421795
002222
taishanLinux (openEuler 24.03 LTS) / aarch64
0422307
161672167
281153421682
A
ABCDEFGHIJKLMNOPQRSTUVWXYZ
PackageMaintainerINSTALLBUILDCHECKBUILD BIN
1/2353a4 1.57.0  (landing page)Laure Cougnaud  OK    OK    OK  
2/2353a4Base 1.57.0  (landing page)Laure Cougnaud  OK    OK    OK  
3/2353a4Classif 1.57.0  (landing page)Laure Cougnaud  OK    OK    OK  
4/2353a4Core 1.57.0  (landing page)Laure Cougnaud  OK    OK    OK  
5/2353a4Preproc 1.57.0  (landing page)Laure Cougnaud  OK    OK    OK  
6/2353a4Reporting 1.57.0  (landing page)Laure Cougnaud  OK    OK    OK  
7/2353ABarray 1.77.0  (landing page)Yongming Andrew Sun  OK    OK    OK  
8/2353abseqR 1.27.0  (landing page)JiaHong Fong  OK    OK    OK  
9/2353ABSSeq 1.63.0  (landing page)Wentao Yang  OK    OK    OK  
10/2353acde 1.39.0  (landing page)Juan Pablo Acosta  OK    OK    OK  
11/2353ACE 1.27.1  (landing page)Jos B Poell  OK    OK    OK  
12/2353aCGH 1.87.0  (landing page)Peter Dimitrov  OK    OK    OK  
13/2353ACME 2.65.0  (landing page)Sean Davis  ERROR    ERROR  skipped
14/2353ADaCGH2 2.49.0  (landing page)Ramon Diaz-Uriarte  OK    OK    OK  
15/2353ADAM 1.25.0  (landing page)Jose Luiz Rybarczyk Filho  OK    OK    OK  
16/2353ADAMgui 1.25.0  (landing page)Jose Luiz Rybarczyk Filho  OK    OK    OK  
17/2353ADAPT 1.3.0  (landing page)Mukai Wang  OK    ERROR  skipped
18/2353adductomicsR 1.25.0  (landing page)Josie Hayes  OK    OK    WARNINGS  
19/2353ADImpute 1.19.0  (landing page)Ana Carolina Leote  OK    OK    WARNINGS  
20/2353adSplit 1.79.0  (landing page)Claudio Lottaz  OK    OK    ERROR  
21/2353adverSCarial 1.7.1  (landing page)Ghislain FIEVET  OK    OK    WARNINGS  
22/2353AffiXcan 1.27.0  (landing page)Alessandro Lussana  OK    OK    OK  
23/2353affxparser 1.81.0  (landing page)Kasper Daniel Hansen  OK    OK    ERROR  
24/2353affy 1.87.0  (landing page)Robert D. Shear  OK    OK    WARNINGS  
25/2353affycomp 1.85.0  (landing page)Robert D. Shear  OK    OK    OK  
26/2353affyContam 1.67.0  (landing page)V. Carey  OK    OK    OK  
27/2353affycoretools 1.81.1  (landing page)James W. MacDonald  OK    OK    OK  
28/2353affyILM 1.61.0  (landing page)Myriam Kroll and Fabrice Berger  OK    OK    OK  
29/2353affyio 1.79.0  (landing page)Ben Bolstad  OK    OK    WARNINGS  
30/2353affylmGUI 1.83.0  (landing page)Gordon Smyth  OK    OK    OK  
31/2353affyPLM 1.85.0  (landing page)Ben Bolstad  OK    OK    WARNINGS  
32/2353AffyRNADegradation 1.55.0  (landing page)Mario Fasold  OK    OK    OK  
33/2353AGDEX 1.57.0  (landing page)Cuilan lani Gao  OK    OK    OK  
34/2353aggregateBioVar 1.19.1  (landing page)Jason Ratcliff  OK    OK    OK  
35/2353agilp 3.41.0  (landing page)Benny Chain  OK    OK    OK  
36/2353AgiMicroRna 2.59.0  (landing page)Pedro Lopez-Romero  OK    OK    WARNINGS  
37/2353AHMassBank 1.9.0  (landing page)Johannes Rainer  OK    OK    OK  
38/2353AIMS 1.41.0  (landing page)Eric R Paquet  OK    OK    OK  
39/2353airpart 1.17.0  (landing page)Wancen Mu  OK    OK    OK  
40/2353alabaster 1.9.0  (landing page)Aaron Lun  OK    OK    OK  
41/2353alabaster.base 1.9.5  (landing page)Aaron Lun  OK    OK    WARNINGS  
42/2353alabaster.bumpy 1.9.1  (landing page)Aaron Lun  OK    OK    OK  
43/2353alabaster.files 1.7.0  (landing page)Aaron Lun  OK    OK    OK  
44/2353alabaster.mae 1.9.0  (landing page)Aaron Lun  OK    OK    OK  
45/2353alabaster.matrix 1.9.0  (landing page)Aaron Lun  OK    OK    OK  
46/2353alabaster.ranges 1.9.1  (landing page)Aaron Lun  OK    OK    OK  
47/2353alabaster.sce 1.9.0  (landing page)Aaron Lun  OK    OK    OK  
48/2353alabaster.schemas 1.9.0  (landing page)Aaron Lun  OK    OK    OK  
49/2353alabaster.se 1.9.0  (landing page)Aaron Lun  OK    OK    OK  
50/2353alabaster.sfe 1.1.0  (landing page)Lambda Moses  OK    OK    OK  
51/2353alabaster.spatial 1.9.0  (landing page)Aaron Lun  OK    OK    OK  
52/2353alabaster.string 1.9.0  (landing page)Aaron Lun  OK    OK    OK  
53/2353alabaster.vcf 1.9.0  (landing page)Aaron Lun  OK    OK    OK  
54/2353ALDEx2 1.41.0  (landing page)Greg Gloor  OK    OK    OK  
55/2353alevinQC 1.25.1  (landing page)Charlotte Soneson  OK    OK    OK  
56/2353AllelicImbalance 1.47.0  (landing page)Jesper R Gadin  OK    OK    OK  
57/2353AlphaBeta 1.23.0  (landing page)Yadollah Shahryary Dizaji  OK    OK    OK  
58/2353AlphaMissenseR 1.5.4  (landing page)Martin Morgan  ERROR    ERROR  skipped
59/2353AlpsNMR 4.11.1  (landing page)Sergio Oller Moreno  OK    ERROR  skipped
60/2353altcdfenvs 2.71.0  (landing page)Laurent Gautier  OK    OK    OK  
61/2353AMARETTO 1.25.0  (landing page)Olivier Gevaert  OK    OK    WARNINGS  
62/2353AMOUNTAIN 1.35.0  (landing page)Dong Li  OK    OK    OK  
63/2353amplican 1.31.2  (landing page)Eivind Valen  OK    OK    OK  
64/2353anansi 0.99.4  (landing page)Thomaz Bastiaanssen  OK    OK    OK  
65/2353Anaquin 2.33.0  (landing page)Ted Wong  OK    OK    OK  
66/2353ANCOMBC 2.11.1  (landing page)Huang Lin  OK    OK    OK  
67/2353ANF 1.31.0  (landing page)Tianle Ma  OK    OK    OK  
68/2353anglemania 0.99.6  (landing page)Aaron Kollotzek  ERROR    OK    ERROR  
69/2353animalcules 1.25.0  (landing page)Jessica McClintock  OK    OK    OK  
70/2353annaffy 1.81.0  (landing page)Colin A. Smith  OK    OK    WARNINGS  
71/2353annmap 1.51.0  (landing page)Chris Wirth  OK    OK    WARNINGS  
72/2353annotate 1.87.0  (landing page)Bioconductor Package Maintainer  OK    OK    OK  
73/2353AnnotationDbi 1.71.2  (landing page)Bioconductor Package Maintainer  OK    OK    OK  
74/2353AnnotationFilter 1.33.0  (landing page)Bioconductor Package Maintainer  OK    OK    OK  
75/2353AnnotationForge 1.51.1  (landing page)Bioconductor Package Maintainer  OK    OK    OK  
76/2353AnnotationHub 3.99.6  (landing page)Bioconductor Package Maintainer  OK    OK    OK  
77/2353AnnotationHubData 1.39.2  (landing page)Bioconductor Package Maintainer  OK    OK    WARNINGS  
78/2353annotationTools 1.83.0  (landing page)Alexandre Kuhn  OK    OK    OK  
79/2353annotatr 1.35.2  (landing page)Raymond G. Cavalcante  OK    OK    ERROR  
80/2353anota 1.57.0  (landing page)Ola Larsson  OK    OK    OK  
81/2353anota2seq 1.31.0  (landing page)Christian Oertlin , Ola Larsson  OK    OK    OK  
82/2353antiProfiles 1.49.0  (landing page)Hector Corrada Bravo  OK    OK    OK  
83/2353AnVIL 1.21.10  (landing page)Marcel Ramos  OK    OK    OK  
84/2353AnVILAz 1.3.1  (landing page)Marcel Ramos  OK    OK    OK  
85/2353AnVILBase 1.3.1  (landing page)Marcel Ramos  OK    OK    OK  
86/2353AnVILBilling 1.19.0  (landing page)Vince Carey  OK    OK    OK  
87/2353AnVILGCP 1.3.11  (landing page)Marcel Ramos  OK    OK    OK  
88/2353AnVILPublish 1.19.1  (landing page)Marcel Ramos  OK    OK    OK  
89/2353AnVILWorkflow 1.9.0  (landing page)Sehyun Oh  OK    OK    WARNINGS  
90/2353APAlyzer 1.23.0  (landing page)Ruijia Wang  OK    TIMEOUT  skipped
91/2353apComplex 2.75.0  (landing page)Denise Scholtens  OK    OK    OK  
92/2353apeglm 1.31.0  (landing page)Anqi Zhu  OK    OK    WARNINGS  
93/2353APL 1.13.0  (landing page)Clemens Kohl  OK    OK    OK  
94/2353appreci8R 1.27.0  (landing page)Sarah Sandmann  OK    OK    OK  
95/2353aroma.light 3.39.0  (landing page)Henrik Bengtsson  OK    OK    OK  
96/2353ArrayExpress 1.69.0  (landing page)Jose Marugan  OK    OK    OK  
97/2353arrayMvout 1.67.0  (landing page)V. Carey  OK    OK    OK  
98/2353arrayQuality 1.87.0  (landing page)Agnes Paquet  OK    OK    WARNINGS  
99/2353arrayQualityMetrics 3.65.0  (landing page)Mike Smith  OK    OK    OK  
100/2353ARRmNormalization 1.49.0  (landing page)Jean-Philippe Fortin  OK    OK    OK  
101/2353artMS 1.27.0  (landing page)David Jimenez-Morales  OK    OK    OK  
102/2353ASAFE 1.35.0  (landing page)Qian Zhang  OK    OK    OK  
103/2353ASEB 1.53.0  (landing page)Likun Wang  OK    OK    WARNINGS  
104/2353ASGSCA 1.43.0  (landing page)Hela Romdhani  OK    OK    OK  
105/2353ASICS 2.25.0  (landing page)Gaëlle Lefort  OK    OK    WARNINGS  
106/2353ASpli 2.19.0  (landing page)Ariel Chernomoretz  OK    OK    WARNINGS  
107/2353AssessORF 1.27.0  (landing page)Deepank Korandla  OK    OK    OK  
108/2353ASSET 2.27.0  (landing page)Samsiddhi Bhattacharjee  OK    OK    OK  
109/2353ASSIGN 1.45.0  (landing page)Ying Shen , W. Evan Johnson  OK    OK    OK  
110/2353assorthead 1.3.13  (landing page)Aaron Lun  OK    OK    OK  
111/2353ASURAT 1.13.1  (landing page)Keita Iida  OK    TIMEOUT  skipped
112/2353ATACseqQC 1.33.1  (landing page)Jianhong Ou  OK    OK    OK  
113/2353ATACseqTFEA 1.11.1  (landing page)Jianhong Ou  OK    OK    OK  
114/2353atena 1.15.2  (landing page)Robert Castelo  OK    OK    OK  
115/2353atSNP 1.25.0  (landing page)Sunyoung Shin  OK    OK    OK  
116/2353attract 1.61.0  (landing page)Samuel Zimmerman  OK    OK    OK  
117/2353AUCell 1.31.0  (landing page)Gert Hulselmans  OK    OK    OK  
118/2353autonomics 1.17.16  (landing page)Aditya Bhagwat  OK    OK    TIMEOUT  
119/2353AWAggregator 0.99.4  (landing page)Jiahua Tan  OK    OK    OK  
120/2353AWFisher 1.23.0  (landing page)Zhiguang Huo  OK    OK    OK  
121/2353awst 1.17.0  (landing page)Davide Risso  OK    OK    OK  
B
ABCDEFGHIJKLMNOPQRSTUVWXYZ
PackageMaintainerINSTALLBUILDCHECKBUILD BIN
122/2353BaalChIP 1.35.0  (landing page)Ines de Santiago  OK    OK    WARNINGS  
123/2353bacon 1.37.0  (landing page)Maarten van Iterson  OK    OK    OK  
124/2353BADER 1.47.0  (landing page)Andreas Neudecker  OK    OK    OK  
125/2353BadRegionFinder 1.37.0  (landing page)Sarah Sandmann  OK    OK    OK  
126/2353BAGS 2.49.0  (landing page)Alejandro Quiroz-Zarate  OK    OK    OK  
127/2353ballgown 2.41.1  (landing page)Jack Fu  OK    OK    OK  
128/2353bambu 3.11.2  (landing page)Ying Chen  OK    OK    OK  
129/2353bamsignals 1.41.2  (landing page)Johannes Helmuth  OK    OK    OK  
130/2353BANDITS 1.25.1  (landing page)Simone Tiberi  OK    OK    OK  
131/2353bandle 1.13.0  (landing page)Oliver M. Crook  OK    OK    WARNINGS  
132/2353Banksy 1.5.10  (landing page)Joseph Lee  OK    OK    OK  
133/2353banocc 1.33.0  (landing page)George Weingart  OK    OK    OK  
134/2353barbieQ 1.1.2  (landing page)Liyang Fei  OK    OK    OK  
135/2353barcodetrackR 1.17.0  (landing page)Diego Alexander Espinoza  OK    OK    ERROR  
136/2353basecallQC 1.33.0  (landing page)Thomas Carroll  OK    OK    OK  
137/2353BaseSpaceR 1.53.0  (landing page)Jared O'Connell  OK    OK    WARNINGS  
138/2353Basic4Cseq 1.45.1  (landing page)Carolin Walter  OK    OK    OK  
139/2353BASiCS 2.21.1  (landing page)Catalina Vallejos  OK    OK    WARNINGS  
140/2353BASiCStan 1.11.0  (landing page)Alan O'Callaghan  OK    OK    WARNINGS  
141/2353BasicSTARRseq 1.37.1  (landing page)Annika Buerger  OK    OK    OK  
142/2353basilisk 1.21.5  (landing page)Aaron Lun  OK    OK    OK  
143/2353basilisk.utils 1.21.2  (landing page)Aaron Lun  OK    OK    OK  
144/2353batchCorr 0.99.8  (landing page)Anton Ribbenstedt  OK    OK    OK  
145/2353batchelor 1.25.0  (landing page)Aaron Lun  OK    OK    OK  
146/2353BatchQC 2.5.14  (landing page)Jessica Anderson  OK    OK    OK  
147/2353BatchSVG 1.1.1  (landing page)Kinnary Shah  OK    OK    OK  
148/2353BayesKnockdown 1.35.0  (landing page)William Chad Young  OK    OK    OK  
149/2353BayesSpace 1.19.5  (landing page)Senbai Kang  OK    OK    OK  
150/2353bayNorm 1.27.0  (landing page)Wenhao Tang  OK    OK    OK  
151/2353baySeq 2.43.0  (landing page)Samuel Granjeaud  OK    OK    OK  
152/2353BBCAnalyzer 1.39.0  (landing page)Sarah Sandmann  OK    OK    OK  
153/2353BCRANK 1.71.0  (landing page)Adam Ameur  OK    OK    OK  
154/2353bcSeq 1.31.0  (landing page)Jiaxing Lin  OK    OK    WARNINGS  
155/2353beachmat 2.25.5  (landing page)Aaron Lun  OK    OK    OK  
156/2353beachmat.hdf5 1.7.2  (landing page)Aaron Lun  OK    OK    WARNINGS  
157/2353beachmat.tiledb 1.1.1  (landing page)Aaron Lun  ERROR    ERROR  skipped
158/2353beadarray 2.59.0  (landing page)Mark Dunning  OK    OK    OK  
159/2353BeadDataPackR 1.61.0  (landing page)Mike Smith  OK    OK    OK  
160/2353BEAT 1.47.0  (landing page)Kemal Akman  OK    OK    OK  
161/2353BEclear 2.25.0  (landing page)Livia Rasp  OK    OK    OK  
162/2353bedbaser 1.1.3  (landing page)Andres Wokaty  OK    OK    OK  
163/2353beer 1.13.0  (landing page)Athena Chen  ERROR    ERROR  skipped
164/2353benchdamic 1.15.4  (landing page)Matteo Calgaro  OK    OK    ERROR  
165/2353BERT 1.5.0  (landing page)Yannis Schumann  OK    OK    OK  
166/2353betaHMM 1.5.1  (landing page)Koyel Majumdar  OK    OK    ERROR  
167/2353bettr 1.5.4  (landing page)Charlotte Soneson  OK    OK    OK  
168/2353BG2 1.9.0  (landing page)Jacob Williams  OK    OK    OK  
169/2353BgeeCall 1.25.0  (landing page)Julien Wollbrett  OK    OK    ERROR  
170/2353BgeeDB 2.35.1  (landing page)Julien Wollbrett , Julien Roux , Andrea Komljenovic , Frederic Bastian  OK    OK    ERROR  
171/2353bgx 1.75.1  (landing page)Ernest Turro  OK    OK    OK  
172/2353BicARE 1.67.0  (landing page)Pierre Gestraud  OK    OK    OK  
173/2353BiFET 1.29.1  (landing page)Ahrim Youn  OK    OK    OK  
174/2353BiGGR 1.45.1  (landing page)Anand K. Gavai  ERROR    ERROR  skipped
175/2353bigmelon 1.35.0  (landing page)Leonard C. Schalkwyk  OK    OK    ERROR  
176/2353BindingSiteFinder 2.7.1  (landing page)Mirko Brüggemann  OK    OK    ERROR  
177/2353bioassayR 1.47.0  (landing page)Thomas Girke  OK    OK    OK  
178/2353Biobase 2.69.1  (landing page)Bioconductor Package Maintainer  OK    OK    OK  
179/2353biobroom 1.41.0  (landing page)John D. Storey and Andrew J. Bass  OK    OK    WARNINGS  
180/2353biobtreeR 1.21.0  (landing page)Tamer Gur  OK    ERROR  skipped
181/2353Bioc.gff 0.99.17  (landing page)Bioconductor Package Maintainer  OK    OK    OK  
182/2353bioCancer 1.37.0  (landing page)Karim Mezhoud  OK    OK    ERROR  
183/2353BioCartaImage 1.7.0  (landing page)Zuguang Gu  OK    OK    OK  
184/2353BiocBaseUtils 1.11.2  (landing page)Marcel Ramos  OK    OK    OK  
185/2353BiocBook 1.7.0  (landing page)Jacques Serizay  OK    OK    OK  
186/2353BiocCheck 1.45.20  (landing page)Marcel Ramos  OK    OK    OK  
187/2353BiocFHIR 1.11.0  (landing page)Vincent Carey  OK    OK    OK  
188/2353BiocFileCache 2.99.6  (landing page)Lori Shepherd  OK    ERROR  skipped
189/2353BiocGenerics 0.55.4  (landing page)Hervé Pagès  OK    OK    WARNINGS  
190/2353biocGraph 1.71.0  (landing page)Florian Hahne  OK    OK    OK  
191/2353BiocHail 1.9.4  (landing page)Vincent Carey  OK    OK    ERROR  
192/2353BiocHubsShiny 1.9.2  (landing page)Marcel Ramos  OK    OK    OK  
193/2353BiocIO 1.19.0  (landing page)Marcel Ramos  OK    OK    OK  
194/2353biocmake 1.1.4  (landing page)Aaron Lun  OK    OK    OK  
195/2353BiocNeighbors 2.3.1  (landing page)Aaron Lun  OK    OK    OK  
196/2353BioCor 1.33.1  (landing page)Lluís Revilla Sancho  OK    OK    ERROR  
197/2353BiocParallel 1.43.4  (landing page)Jiefei Wang  OK    OK    OK  
198/2353BiocPkgTools 1.27.12  (landing page)Sean Davis  OK    OK    ERROR  
199/2353biocroxytest 1.5.0  (landing page)Francesc Catala-Moll  OK    OK    OK  
200/2353BiocSet 1.23.0  (landing page)Kayla Morrell  OK    OK    ERROR  
201/2353BiocSingular 1.25.0  (landing page)Aaron Lun  OK    OK    WARNINGS  
202/2353BiocSklearn 1.31.0  (landing page)Vince Carey  OK    OK    OK  
203/2353BiocStyle 2.37.1  (landing page)Bioconductor Package Maintainer  OK    OK    OK  
204/2353biocthis 1.19.0  (landing page)Leonardo Collado-Torres  OK    OK    OK  
205/2353BiocVersion 3.22.0  (landing page)Bioconductor Package Maintainer  OK    OK    OK  
206/2353biocViews 1.77.4  (landing page)Bioconductor Package Maintainer  OK    OK    OK  
207/2353BiocWorkflowTools 1.35.0  (landing page)Mike Smith  OK    OK    OK  
208/2353biodb 1.17.2  (landing page)Pierrick Roger  OK    OK    WARNINGS  
209/2353biodbChebi 1.15.1  (landing page)Pierrick Roger  OK    ERROR  skipped
210/2353biodbHmdb 1.15.1  (landing page)Pierrick Roger  OK    ERROR  skipped
211/2353biodbNcbi 1.13.1  (landing page)Pierrick Roger  OK    ERROR  skipped
212/2353biodbNci 1.13.1  (landing page)Pierrick Roger  OK    ERROR  skipped
213/2353biodbUniprot 1.15.1  (landing page)Pierrick Roger  OK    ERROR  skipped
214/2353bioDist 1.81.0  (landing page)Bioconductor Package Maintainer  OK    OK    OK  
215/2353BioGA 1.3.0  (landing page)Dany Mukesha  OK    OK    OK  
216/2353biomaRt 2.65.16  (landing page)Hugo Gruson  OK    OK    OK  
217/2353biomformat 1.37.0  (landing page)Paul J. McMurdie  OK    OK    OK  
218/2353BioMVCClass 1.77.0  (landing page)Elizabeth Whalen  OK    OK    OK  
219/2353biomvRCNS 1.49.0  (landing page)Yang Du  OK    OK    OK  
220/2353BioNAR 1.11.0  (landing page)Anatoly Sorokin  OK    OK    ERROR  
221/2353BioNERO 1.17.3  (landing page)Fabricio Almeida-Silva  OK    OK    OK  
222/2353BioNet 1.69.0  (landing page)Marcus Dittrich  OK    OK    OK  
223/2353BioQC 1.37.0  (landing page)Jitao David Zhang  OK    OK    OK  
224/2353biosigner 1.37.4  (landing page)Etienne A. Thevenot  OK    OK    ERROR  
225/2353Biostrings 2.77.2  (landing page)Hervé Pagès  OK    OK    ERROR  
226/2353BioTIP 1.23.1  (landing page)Felix Yu and X Holly Yang  OK    OK    WARNINGS  
227/2353biotmle 1.33.0  (landing page)Nima Hejazi  OK    OK    OK  
228/2353biovizBase 1.57.1  (landing page)Michael Lawrence  OK    OK    WARNINGS  
229/2353BiRewire 3.41.0  (landing page)Andrea Gobbi  OK    ERROR  skipped
230/2353biscuiteer 1.23.0  (landing page)Jacob Morrison  OK    OK    WARNINGS  
231/2353BiSeq 1.49.1  (landing page)Katja Hebestreit  OK    OK    OK  
232/2353blacksheepr 1.23.0  (landing page)RugglesLab  OK    OK    OK  
233/2353blase 0.99.5  (landing page)Andrew McCluskey  OK    OK    OK  
234/2353blima 1.43.0  (landing page)Vojtěch Kulvait  OK    OK    OK  
235/2353BLMA 1.33.0  (landing page)Van-Dung Pham  OK    OK    OK  
236/2353BloodGen3Module 1.17.0  (landing page)Darawan Rinchai  OK    OK    WARNINGS  
237/2353bluster 1.19.0  (landing page)Aaron Lun  OK    ERROR  skipped
238/2353bnbc 1.31.1  (landing page)Kipper Fletez-Brant  OK    OK    OK  
239/2353bnem 1.17.0  (landing page)Martin Pirkl  OK    OK    OK  
240/2353BOBaFIT 1.13.0  (landing page)Gaia Mazzocchetti  OK    OK    WARNINGS  
241/2353borealis 1.13.0  (landing page)Garrett Jenkinson  OK    OK    OK  
242/2353BPRMeth 1.35.0  (landing page)Chantriolnt-Andreas Kapourani  OK    OK    ERROR  
243/2353BRAIN 1.55.0  (landing page)Piotr Dittwald  OK    OK    WARNINGS  
244/2353branchpointer 1.35.1  (landing page)Beth Signal  OK    ERROR  skipped
245/2353breakpointR 1.27.0  (landing page)David Porubsky  OK    OK    OK  
246/2353BreastSubtypeR 1.1.8  (landing page)Qiao Yang  OK    OK    OK  
247/2353brendaDb 1.23.0  (landing page)Yi Zhou  OK    OK    OK  
248/2353BREW3R.r 1.5.0  (landing page)Lucille Lopez-Delisle  OK    OK    OK  
249/2353BridgeDbR 2.19.3  (landing page)Egon Willighagen  OK    OK    OK  
250/2353broadSeq 1.3.3  (landing page)Rishi Das Roy  OK    OK    WARNINGS  
251/2353BrowserViz 2.31.0  (landing page)Arkadiusz Gladki  OK    OK    OK  
252/2353BSgenome 1.77.2  (landing page)Hervé Pagès  OK    OK    ERROR  
253/2353BSgenomeForge 1.9.2  (landing page)Hervé Pagès  OK    OK    OK  
254/2353bsseq 1.45.4  (landing page)Kasper Daniel Hansen  OK    OK    OK  
255/2353BubbleTree 2.39.0  (landing page)Todd Creasy , Wei Zhu  OK    ERROR  skipped
256/2353BufferedMatrix 1.73.0  (landing page)Ben Bolstad  OK    OK    OK  
257/2353BufferedMatrixMethods 1.73.0  (landing page)Ben Bolstad  OK    OK    OK  
258/2353bugsigdbr 1.15.3  (landing page)Ludwig Geistlinger  OK    OK    OK  
259/2353BulkSignalR 1.1.5  (landing page)Jean-Philippe Villemin  OK    ERROR  skipped
260/2353BUMHMM 1.33.0  (landing page)Alina Selega  OK    OK    OK  
261/2353bumphunter 1.51.1  (landing page)Tamilselvi Guharaj  OK    OK    OK  
262/2353BumpyMatrix 1.17.0  (landing page)Aaron Lun  OK    OK    OK  
263/2353BUS 1.65.0  (landing page)Yuanhua Liu  OK    OK    OK  
264/2353BUScorrect 1.27.0  (landing page)Xiangyu Luo  OK    OK    OK  
265/2353BUSpaRse 1.23.2  (landing page)Lambda Moses  OK    OK    OK  
266/2353BUSseq 1.15.1  (landing page)Fangda Song  OK    OK    OK  
C
ABCDEFGHIJKLMNOPQRSTUVWXYZ
PackageMaintainerINSTALLBUILDCHECKBUILD BIN
267/2353CaDrA 1.7.0  (landing page)Reina Chau  OK    OK    OK  
268/2353CAEN 1.17.0  (landing page)Zhou Yan  OK    OK    OK  
269/2353CAFE 1.45.0  (landing page)Sander Bollen  OK    OK    WARNINGS  
270/2353CAGEfightR 1.29.1  (landing page)Malte Thodberg  OK    OK    OK  
271/2353cageminer 1.15.2  (landing page)Fabrício Almeida-Silva  OK    OK    OK  
272/2353CAGEr 2.15.2  (landing page)Charles Plessy  OK    OK    ERROR  
273/2353CalibraCurve 0.99.2  (landing page)Karin Schork  OK    OK    OK  
274/2353calm 1.23.0  (landing page)Kun Liang  OK    OK    OK  
275/2353CAMERA 1.65.1  (landing page)Steffen Neumann  OK    OK    WARNINGS  
276/2353CaMutQC 1.5.5  (landing page)Xin Wang  OK    OK    OK  
277/2353canceR 1.43.0  (landing page)Karim Mezhoud  OK    OK    ERROR  
278/2353cancerclass 1.53.0  (landing page)Daniel Kosztyla  OK    OK    OK  
279/2353cardelino 1.11.0  (landing page)Davis McCarthy  OK    OK    OK  
280/2353Cardinal 3.11.1  (landing page)Kylie Ariel Bemis  OK    OK    OK  
281/2353CardinalIO 1.7.0  (landing page)Kylie Ariel Bemis  OK    OK    OK  
282/2353CARDspa 1.1.0  (landing page)Jing Fu  OK    OK    OK  
283/2353CARNIVAL 2.19.0  (landing page)Attila Gabor  OK    OK    OK  
284/2353casper 2.43.1  (landing page)David Rossell  OK    OK    WARNINGS  
285/2353CATALYST 1.33.1  (landing page)Helena L. Crowell  OK    OK    OK  
286/2353Category 2.75.0  (landing page)Bioconductor Package Maintainer  OK    OK    OK  
287/2353categoryCompare 1.53.0  (landing page)Robert M. Flight  OK    OK    OK  
288/2353CatsCradle 1.3.0  (landing page)Michael Shapiro  OK    ERROR  skipped
289/2353CausalR 1.41.0  (landing page)Glyn Bradley , Steven Barrett  OK    OK    OK  
290/2353cbaf 1.31.0  (landing page)Arman Shahrisa  OK    OK    OK  
291/2353cBioPortalData 2.21.5  (landing page)Marcel Ramos  OK    ERROR  skipped
292/2353CBNplot 1.9.0  (landing page)Noriaki Sato  OK    OK    OK  
293/2353cbpManager 1.17.0  (landing page)Arsenij Ustjanzew  OK    OK    WARNINGS  
294/2353CCAFE 1.1.0  (landing page)Hayley Wolff  OK    OK    OK  
295/2353ccfindR 1.29.0  (landing page)Jun Woo  OK    OK    WARNINGS  
296/2353ccImpute 1.11.0  (landing page)Marcin Malec  OK    OK    WARNINGS  
297/2353ccmap 1.35.1  (landing page)Alex Pickering  OK    ERROR  skipped
298/2353CCPlotR 1.7.0  (landing page)Sarah Ennis  OK    OK    OK  
299/2353CCPROMISE 1.35.0  (landing page)Xueyuan Cao  OK    OK    WARNINGS  
300/2353ccrepe 1.45.0  (landing page)Emma Schwager ,Craig Bielski, George Weingart  OK    OK    OK  
301/2353CDI 1.7.0  (landing page)Jiyuan Fang  OK    OK    OK  
302/2353celaref 1.27.0  (landing page)Sarah Williams  OK    OK    OK  
303/2353celda 1.25.0  (landing page)Joshua Campbell  OK    OK    WARNINGS  
304/2353CellBarcode 1.15.0  (landing page)Wenjie Sun  OK    OK    OK  
305/2353cellbaseR 1.33.0  (landing page)Mohammed OE Abdallah  OK    OK    OK  
306/2353CellBench 1.25.1  (landing page)Shian Su  OK    OK    OK  
307/2353CelliD 1.17.0  (landing page)Akira Cortal  OK    OK    WARNINGS  
308/2353cellity 1.37.0  (landing page)Tomislav Ilicic  OK    OK    OK  
309/2353CellMapper 1.35.0  (landing page)Brad Nelms  OK    OK    WARNINGS  
310/2353cellmig 0.99.16  (landing page)Simo Kitanovski  OK    OK    WARNINGS  
311/2353cellmigRation 1.17.0  (landing page)Waldir Leoncio  OK    OK    OK  
312/2353CellMixS 1.25.1  (landing page)Almut Lütge  OK    OK    OK  
313/2353CellNOptR 1.55.0  (landing page)Attila Gabor  OK    OK    OK  
314/2353cellscape 1.33.0  (landing page)Shixiang Wang  OK    OK    OK  
315/2353CellScore 1.29.1  (landing page)Nancy Mah  OK    ERROR  skipped
316/2353CellTrails 1.27.1  (landing page)Daniel Ellwanger  OK    OK    OK  
317/2353cellxgenedp 1.13.1  (landing page)Martin Morgan  OK    OK    OK  
318/2353CEMiTool 1.33.2  (landing page)Helder Nakaya  OK    OK    OK  
319/2353censcyt 1.17.0  (landing page)Reto Gerber  OK    OK    OK  
320/2353Cepo 1.15.1  (landing page)Hani Jieun Kim  OK    OK    OK  
321/2353ceRNAnetsim 1.21.1  (landing page)Selcen Ari Yuka  OK    OK    OK  
322/2353CeTF 1.21.0  (landing page)Carlos Alberto Oliveira de Biagi Junior  OK    OK    OK  
323/2353CexoR 1.47.1  (landing page)Pedro Madrigal  OK    OK    OK  
324/2353CFAssay 1.43.0  (landing page)Herbert Braselmann  OK    OK    OK  
325/2353cfdnakit 1.7.0  (landing page)Pitithat Puranachot  OK    OK    OK  
326/2353cfDNAPro 1.15.0  (landing page)Haichao Wang  OK    OK    WARNINGS  
327/2353cfTools 1.9.0  (landing page)Ran Hu  OK    OK    OK  
328/2353CGEN 3.45.0  (landing page)Justin Lee  OK    OK    WARNINGS  
329/2353CGHbase 1.69.0  (landing page)Mark van de Wiel  OK    OK    OK  
330/2353CGHcall 2.71.0  (landing page)Mark van de Wiel  OK    OK    WARNINGS  
331/2353cghMCR 1.67.0  (landing page)J. Zhang  OK    OK    WARNINGS  
332/2353CGHnormaliter 1.63.0  (landing page)Bart P.P. van Houte  OK    OK    OK  
333/2353CGHregions 1.67.0  (landing page)Sjoerd Vosse  OK    OK    OK  
334/2353ChAMP 2.39.1  (landing page)Yuan Tian  OK    OK    WARNINGS  
335/2353ChemmineOB 1.47.5  (landing page)Thomas Girke  ERROR    ERROR  skipped
336/2353ChemmineR 3.61.2  (landing page)Thomas Girke  OK    OK    WARNINGS  
337/2353CHETAH 1.25.1  (landing page)Jurrian de Kanter  OK    OK    OK  
338/2353chevreulPlot 1.1.2  (landing page)Kevin Stachelek  OK    OK    OK  
339/2353chevreulProcess 1.1.2  (landing page)Kevin Stachelek  OK    OK    OK  
340/2353chevreulShiny 1.1.2  (landing page)Kevin Stachelek  OK    OK    OK  
341/2353Chicago 1.37.1  (landing page)Mikhail Spivakov  OK    OK    OK  
342/2353chihaya 1.9.0  (landing page)Aaron Lun  OK    OK    WARNINGS  
343/2353chimeraviz 1.35.0  (landing page)Stian Lågstad  OK    OK    OK  
344/2353ChIPanalyser 1.31.0  (landing page)Patrick C.N. Martin  OK    OK    OK  
345/2353ChIPComp 1.39.1  (landing page)Li Chen  OK    OK    OK  
346/2353chipenrich 2.33.1  (landing page)Kai Wang  OK    OK    OK  
347/2353ChIPexoQual 1.33.1  (landing page)Rene Welch  OK    OK    OK  
348/2353ChIPpeakAnno 3.43.2  (landing page)Jianhong Ou  OK    OK    OK  
349/2353ChIPQC 1.45.0  (landing page)Tom Carroll , Rory Stark  OK    OK    OK  
350/2353ChIPseeker 1.45.2  (landing page)Guangchuang Yu  OK    OK    ERROR  
351/2353chipseq 1.59.0  (landing page)Bioconductor Package Maintainer  OK    OK    WARNINGS  
352/2353ChIPseqR 1.63.0  (landing page)Peter Humburg  OK    OK    OK  
353/2353ChIPsim 1.63.0  (landing page)Peter Humburg  OK    OK    OK  
354/2353ChIPXpress 1.53.0  (landing page)George Wu  OK    OK    OK  
355/2353chopsticks 1.75.0  (landing page)Hin-Tak Leung  OK    OK    WARNINGS  
356/2353Chromatograms 0.99.6  (landing page)Philippine Louail  OK    OK    OK  
357/2353chromDraw 2.39.0  (landing page)Jan Janecka  OK    OK    WARNINGS  
358/2353ChromHeatMap 1.63.0  (landing page)Tim F. Rayner  OK    OK    OK  
359/2353chromPlot 1.37.0  (landing page)Karen Y. Orostica  OK    OK    OK  
360/2353ChromSCape 1.19.1  (landing page)Pacome Prompsy  OK    OK    WARNINGS  
361/2353chromVAR 1.31.1  (landing page)Alicia Schep  OK    OK    OK  
362/2353CHRONOS 1.37.0  (landing page)Panos Balomenos  OK    ERROR  skipped
363/2353cicero 1.27.0  (landing page)Hannah Pliner  OK    OK    OK  
364/2353CIMICE 1.17.0  (landing page)Nicolò Rossi  OK    OK    OK  
365/2353CINdex 1.37.2  (landing page)Yuriy Gusev  OK    OK    WARNINGS  
366/2353circRNAprofiler 1.23.1  (landing page)Simona Aufiero  OK    OK    ERROR  
367/2353CircSeqAlignTk 1.11.2  (landing page)Jianqiang Sun  OK    OK    OK  
368/2353cisPath 1.49.1  (landing page)Likun Wang  ERROR    ERROR  skipped
369/2353CiteFuse 1.21.1  (landing page)Yingxin Lin  OK    OK    OK  
370/2353ClassifyR 3.13.8  (landing page)Dario Strbenac  OK    OK    OK  
371/2353cleanUpdTSeq 1.47.1  (landing page)Jianhong Ou ; Lihua Julie Zhu  OK    OK    OK  
372/2353CleanUpRNAseq 1.3.2  (landing page)Haibo Liu  OK    OK    OK  
373/2353cleaver 1.47.1  (landing page)Sebastian Gibb  OK    OK    OK  
374/2353clevRvis 1.9.0  (landing page)Sarah Sandmann  OK    OK    OK  
375/2353clippda 1.59.0  (landing page)Stephen Nyangoma  OK    OK    OK  
376/2353clipper 1.49.0  (landing page)Paolo Martini  OK    OK    OK  
377/2353cliProfiler 1.15.0  (landing page)You Zhou  OK    ERROR  skipped
378/2353cliqueMS 1.23.0  (landing page)Oriol Senan Campos  OK    OK    OK  
379/2353Clomial 1.45.0  (landing page)Habil Zare  OK    OK    OK  
380/2353clst 1.57.0  (landing page)Noah Hoffman  OK    OK    WARNINGS  
381/2353clstutils 1.57.0  (landing page)Noah Hoffman  OK    OK    WARNINGS  
382/2353CluMSID 1.25.0  (landing page)Tobias Depke  OK    OK    WARNINGS  
383/2353ClustAll 1.5.0  (landing page)Asier Ortega-Legarreta  OK    OK    OK  
384/2353clustComp 1.37.0  (landing page)Aurora Torrente  OK    OK    OK  
385/2353clusterExperiment 2.29.1  (landing page)Elizabeth Purdom  OK    OK    WARNINGS  
386/2353ClusterFoldSimilarity 1.5.0  (landing page)Oscar Gonzalez-Velasco  OK    OK    WARNINGS  
387/2353ClusterJudge 1.31.0  (landing page)Adrian Pasculescu  OK    OK    OK  
388/2353clusterProfiler 4.17.0  (landing page)Guangchuang Yu  OK    OK    OK  
389/2353clusterSeq 1.33.0  (landing page)Samuel Granjeaud  OK    OK    OK  
390/2353ClusterSignificance 1.37.0  (landing page)Jason T Serviss  OK    OK    OK  
391/2353clusterStab 1.81.0  (landing page)James W. MacDonald  OK    OK    OK  
392/2353clustifyr 1.21.0  (landing page)Rui Fu  OK    OK    OK  
393/2353ClustIRR 1.7.15  (landing page)Simo Kitanovski  OK    OK    WARNINGS  
394/2353clustSIGNAL 1.1.1  (landing page)Pratibha Panwar  OK    OK    OK  
395/2353CMA 1.67.0  (landing page)Roman Hornung  OK    OK    OK  
396/2353cmapR 1.21.0  (landing page)Ted Natoli  OK    OK    OK  
397/2353cn.farms 1.57.2  (landing page)Andreas Mitterecker  OK    OK    OK  
398/2353cn.mops 1.55.1  (landing page)Gundula Povysil  OK    OK    OK  
399/2353CNAnorm 1.55.0  (landing page)Stefano Berri  OK    OK    OK  
400/2353CNEr 1.45.2  (landing page)Boris Lenhard Damir Baranasic  OK    OK    WARNINGS  
401/2353CNORdt 1.51.0  (landing page)A. MacNamara  OK    OK    OK  
402/2353CNORfeeder 1.49.0  (landing page)Attila Gabor  OK    OK    WARNINGS  
403/2353CNORfuzzy 1.51.0  (landing page)T. Cokelaer  OK    OK    OK  
404/2353CNORode 1.51.0  (landing page)Attila Gabor  OK    OK    WARNINGS  
405/2353CNTools 1.65.0  (landing page)J. Zhang  OK    OK    OK  
406/2353CNVfilteR 1.23.0  (landing page)Jose Marcos Moreno-Cabrera  OK    OK    OK  
407/2353cnvGSA 1.53.0  (landing page)Joseph Lugo  OK    OK    OK  
408/2353CNViz 1.17.0  (landing page)Rebecca Greenblatt  OK    OK    OK  
409/2353CNVMetrics 1.13.0  (landing page)Astrid Deschênes  OK    OK    OK  
410/2353CNVPanelizer 1.41.0  (landing page)Thomas Wolf  OK    OK    OK  
411/2353CNVRanger 1.25.4  (landing page)Ludwig Geistlinger  OK    OK    OK  
412/2353CNVrd2 1.47.0  (landing page)Hoang Tan Nguyen  ERROR    ERROR  skipped
413/2353CoCiteStats 1.81.0  (landing page)Bioconductor Package Maintainer  OK    OK    OK  
414/2353COCOA 2.23.1  (landing page)John Lawson  OK    OK    OK  
415/2353codelink 1.77.0  (landing page)Diego Diez  OK    OK    OK  
416/2353CODEX 1.41.0  (landing page)Yuchao Jiang  OK    OK    OK  
417/2353CoGAPS 3.29.1  (landing page)Elana J. Fertig  OK    OK    OK  
418/2353cogena 1.43.0  (landing page)Zhilong Jia  OK    OK    WARNINGS  
419/2353cogeqc 1.13.0  (landing page)Fabrício Almeida-Silva  OK    OK    OK  
420/2353Cogito 1.15.2  (landing page)Annika Bürger  OK    OK    OK  
421/2353coGPS 1.53.0  (landing page)Yingying Wei  OK    OK    OK  
422/2353cola 2.15.0  (landing page)Zuguang Gu  OK    OK    OK  
423/2353comapr 1.13.0  (landing page)Ruqian Lyu  OK    OK    ERROR  
424/2353combi 1.21.0  (landing page)Stijn Hawinkel  OK    OK    OK  
425/2353coMethDMR 1.13.0  (landing page)Fernanda Veitzman  OK    OK    WARNINGS  
426/2353COMPASS 1.47.0  (landing page)Greg Finak  OK    OK    OK  
427/2353compcodeR 1.45.0  (landing page)Charlotte Soneson  OK    OK    OK  
428/2353compEpiTools 1.43.1  (landing page)Mattia Furlan  OK    OK    OK  
429/2353ComplexHeatmap 2.25.2  (landing page)Zuguang Gu  OK    OK    OK  
430/2353CompoundDb 1.13.0  (landing page)Johannes Rainer  OK    OK    OK  
431/2353ComPrAn 1.17.0  (landing page)Petra Palenikova  OK    OK    OK  
432/2353compSPOT 1.7.0  (landing page)Sydney Grant  OK    OK    OK  
433/2353concordexR 1.9.1  (landing page)Kayla Jackson  OK    OK    WARNINGS  
434/2353condiments 1.17.0  (landing page)Hector Roux de Bezieux  OK    OK    OK  
435/2353CONFESS 1.37.0  (landing page)Diana LOW  OK    OK    WARNINGS  
436/2353consensus 1.27.0  (landing page)Tim Peters  OK    OK    OK  
437/2353ConsensusClusterPlus 1.73.0  (landing page)Matt Wilkerson  OK    OK    OK  
438/2353consensusDE 1.27.0  (landing page)Ashley J. Waardenberg  OK    OK    OK  
439/2353consensusOV 1.31.0  (landing page)Benjamin Haibe-Kains  OK    OK    OK  
440/2353consensusSeekeR 1.37.3  (landing page)Astrid Deschênes  OK    OK    OK  
441/2353consICA 2.7.2  (landing page)Petr V. Nazarov  OK    OK    TIMEOUT  
442/2353CONSTANd 1.17.0  (landing page)Dirk Valkenborg  OK    OK    OK  
443/2353conumee 1.43.1  (landing page)Volker Hovestadt  OK    OK    OK  
444/2353convert 1.85.0  (landing page)Yee Hwa (Jean) Yang  OK    OK    OK  
445/2353copa 1.77.0  (landing page)James W. MacDonald  OK    OK    OK  
446/2353CopyNumberPlots 1.25.0  (landing page)Bernat Gel  OK    OK    OK  
447/2353Coralysis 0.99.10  (landing page)António Sousa  OK    TIMEOUT  skipped
448/2353coRdon 1.27.0  (landing page)Anamaria Elek  OK    OK    OK  
449/2353CoreGx 2.13.0  (landing page)Benjamin Haibe-Kains  OK    OK    OK  
450/2353Cormotif 1.55.0  (landing page)Yingying Wei  OK    OK    OK  
451/2353corral 1.19.0  (landing page)Lauren Hsu  OK    OK    OK  
452/2353coseq 1.33.0  (landing page)Andrea Rau  OK    OK    OK  
453/2353CoSIA 1.9.0  (landing page)Amanda D. Clark  OK    OK    TIMEOUT  
454/2353cosmiq 1.43.0  (landing page)David Fischer  OK    OK    OK  
455/2353cosmosR 1.17.0  (landing page)Attila Gabor  OK    OK    OK  
456/2353COSNet 1.43.0  (landing page)Marco Frasca  OK    OK    WARNINGS  
457/2353COTAN 2.9.7  (landing page)Galfrè Silvia Giulia  OK    OK    OK  
458/2353countsimQC 1.27.1  (landing page)Charlotte Soneson  OK    OK    OK  
459/2353covEB 1.35.0  (landing page)C. Pacini  OK    OK    OK  
460/2353CoverageView 1.47.0  (landing page)Ernesto Lowy  OK    OK    WARNINGS  
461/2353covRNA 1.35.0  (landing page)Lara Urban  OK    OK    OK  
462/2353CPSM 1.1.4  (landing page)Harpreet Kaur  OK    OK    OK  
463/2353cpvSNP 1.41.0  (landing page)Caitlin McHugh  OK    OK    OK  
464/2353cqn 1.55.0  (landing page)Kasper Daniel Hansen  OK    OK    OK  
465/2353CRImage 1.57.0  (landing page)Henrik Failmezger , Yinyin Yuan  OK    OK    OK  
466/2353CRISPRball 1.5.0  (landing page)Jared Andrews  OK    OK    OK  
467/2353crisprBase 1.13.0  (landing page)Jean-Philippe Fortin  OK    OK    OK  
468/2353crisprBowtie 1.13.1  (landing page)Jean-Philippe Fortin  OK    OK    OK  
469/2353crisprBwa 1.13.1  (landing page)Jean-Philippe Fortin  OK    OK    OK  
470/2353crisprDesign 1.11.1  (landing page)Jean-Philippe Fortin  OK    OK    ERROR  
471/2353crisprScore 1.13.1  (landing page)Jean-Philippe Fortin  OK    OK    OK  
472/2353CRISPRseek 1.49.1  (landing page)Lihua Julie Zhu  OK    OK    ERROR  
473/2353crisprShiny 1.5.1  (landing page)Jean-Philippe Fortin  OK    OK    OK  
474/2353CrispRVariants 1.37.0  (landing page)Helen Lindsay  OK    OK    WARNINGS  
475/2353crisprVerse 1.11.0  (landing page)Jean-Philippe Fortin  OK    OK    OK  
476/2353crisprViz 1.11.1  (landing page)Jean-Philippe Fortin  OK    OK    OK  
477/2353crlmm 1.67.0  (landing page)Benilton S Carvalho  OK    OK    WARNINGS  
478/2353crumblr 1.1.0  (landing page)Gabriel Hoffman  OK    OK    OK  
479/2353crupR 1.1.1  (landing page)Persia Akbari Omgba  OK    OK    OK  
480/2353CSAR 1.61.1  (landing page)Jose M Muino  OK    OK    OK  
481/2353csaw 1.43.1  (landing page)Aaron Lun  OK    OK    OK  
482/2353csdR 1.15.0  (landing page)Jakob Peder Pettersen  OK    OK    OK  
483/2353CSOA 0.99.2  (landing page)Andrei-Florian Stoica  OK    OK    OK  
484/2353CSSQ 1.21.0  (landing page)Fan Lab at Georgia Institute of Technology  OK    OK    OK  
485/2353ctc 1.83.0  (landing page)Antoine Lucas  OK    OK    OK  
486/2353CTdata 1.9.0  (landing page)Laurent Gatto  OK    OK    OK  
487/2353CTDquerier 2.17.0  (landing page)Xavier Escribà-Montagut  OK    OK    WARNINGS  
488/2353CTexploreR 1.5.2  (landing page)Axelle Loriot  OK    OK    TIMEOUT  
489/2353cTRAP 1.27.0  (landing page)Nuno Saraiva-Agostinho  OK    ERROR  skipped
490/2353ctsGE 1.35.0  (landing page)Michal Sharabi-Schwager  OK    OK    OK  
491/2353CTSV 1.11.0  (landing page)Jinge Yu Developer  OK    OK    OK  
492/2353cummeRbund 2.51.0  (landing page)Loyal A. Goff  OK    ERROR  skipped
493/2353CuratedAtlasQueryR 1.7.0  (landing page)Stefano Mangiola  OK    OK    OK  
494/2353customCMPdb 1.19.0  (landing page)Yuzhu Duan  OK    OK    OK  
495/2353customProDB 1.49.0  (landing page)Xiaojing Wang  OK    OK    ERROR  
496/2353cyanoFilter 1.17.0  (landing page)Oluwafemi Olusoji  OK    OK    OK  
497/2353cycle 1.63.0  (landing page)Matthias Futschik  OK    OK    OK  
498/2353cydar 1.33.0  (landing page)Aaron Lun  OK    OK    OK  
499/2353cypress 1.5.0  (landing page)Shilin Yu  OK    OK    OK  
500/2353CytoDx 1.29.0  (landing page)Zicheng Hu  OK    OK    OK  
501/2353CyTOFpower 1.15.0  (landing page)Anne-Maud Ferreira  OK    OK    OK  
502/2353cytofQC 1.9.0  (landing page)Jill Lundell  OK    OK    OK  
503/2353CytoGLMM 1.17.3  (landing page)Christof Seiler  OK    OK    OK  
504/2353cytoKernel 1.15.0  (landing page)Tusharkanti Ghosh  OK    OK    OK  
505/2353cytolib 2.21.0  (landing page)Mike Jiang  OK    OK    WARNINGS  
506/2353cytomapper 1.21.1  (landing page)Lasse Meyer  OK    OK    OK  
507/2353CytoMDS 1.5.0  (landing page)Philippe Hauchamps  OK    OK    OK  
508/2353cytoMEM 1.13.0  (landing page)Jonathan Irish  OK    OK    OK  
509/2353CytoML 2.21.0  (landing page)Mike Jiang  OK    OK    WARNINGS  
510/2353CytoPipeline 1.9.4  (landing page)Philippe Hauchamps  OK    OK    OK  
511/2353CytoPipelineGUI 1.7.2  (landing page)Philippe Hauchamps  OK    OK    OK  
512/2353cytoviewer 1.9.0  (landing page)Lasse Meyer  OK    OK    OK  
D
ABCDEFGHIJKLMNOPQRSTUVWXYZ
PackageMaintainerINSTALLBUILDCHECKBUILD BIN
513/2353dada2 1.37.0  (landing page)Benjamin Callahan  OK    ERROR  skipped
514/2353dagLogo 1.47.0  (landing page)Jianhong Ou  OK    OK    OK  
515/2353daMA 1.81.0  (landing page)Jobst Landgrebe  OK    OK    OK  
516/2353DAMEfinder 1.21.2  (landing page)Stephany Orjuela  OK    OK    OK  
517/2353DaMiRseq 2.21.0  (landing page)Mattia Chiesa  OK    OK    OK  
518/2353Damsel 1.5.0  (landing page)Caitlin Page  OK    OK    WARNINGS  
519/2353dandelionR 1.1.5  (landing page)Kelvin Tuong  OK    OK    OK  
520/2353DAPAR 1.41.0  (landing page)Samuel Wieczorek  OK    OK    OK  
521/2353dar 1.5.2  (landing page)Francesc Catala-Moll  OK    OK    OK  
522/2353DART 1.57.0  (landing page)Charles Shijie Zheng  OK    OK    OK  
523/2353dcanr 1.25.0  (landing page)Dharmesh D. Bhuva  OK    OK    OK  
524/2353DCATS 1.7.0  (landing page)Xinyi Lin  OK    OK    OK  
525/2353dcGSA 1.37.0  (landing page)Jiehuan sun  OK    OK    WARNINGS  
526/2353ddCt 1.65.0  (landing page)Jitao David Zhang  OK    OK    WARNINGS  
527/2353ddPCRclust 1.29.0  (landing page)Benedikt G. Brink  OK    OK    OK  
528/2353dearseq 1.21.0  (landing page)Boris P. Hejblum  OK    OK    OK  
529/2353debCAM 1.27.0  (landing page)Lulu Chen  OK    OK    OK  
530/2353debrowser 1.37.0  (landing page)Alper Kucukural  OK    OK    OK  
531/2353DECIPHER 3.5.1  (landing page)Erik Wright  OK    OK    OK  
532/2353decompTumor2Sig 2.25.1  (landing page)Rosario M. Piro  OK    OK    OK  
533/2353DeconRNASeq 1.51.0  (landing page)Ting Gong  OK    ERROR  skipped
534/2353decontam 1.29.0  (landing page)Benjamin Callahan  OK    OK    OK  
535/2353decontX 1.7.0  (landing page)Joshua Campbell  OK    OK    WARNINGS  
536/2353DeconvoBuddies 1.1.5  (landing page)Louise Huuki-Myers  OK    OK    TIMEOUT  
537/2353deconvR 1.15.1  (landing page)Irem B. Gündüz  OK    OK    OK  
538/2353decoupleR 2.15.0  (landing page)Pau Badia-i-Mompel  OK    OK    ERROR  
539/2353DeeDeeExperiment 0.99.5  (landing page)Najla Abassi  OK    OK    OK  
540/2353DeepPINCS 1.17.0  (landing page)Dongmin Jung  OK    OK    OK  
541/2353deepSNV 1.55.0  (landing page)Moritz Gerstung  OK    OK    OK  
542/2353DeepTarget 1.3.0  (landing page)Trinh Nguyen  OK    OK    OK  
543/2353DEFormats 1.37.0  (landing page)Andrzej Oleś  OK    OK    OK  
544/2353DegCre 1.5.1  (landing page)Brian S. Roberts  OK    OK    OK  
545/2353DegNorm 1.19.1  (landing page)Ji-Ping Wang  OK    OK    OK  
546/2353DEGraph 1.61.0  (landing page)Laurent Jacob  OK    OK    OK  
547/2353DEGreport 1.45.1  (landing page)Lorena Pantano  OK    OK    OK  
548/2353DEGseq 1.63.0  (landing page)Likun Wang  OK    OK    WARNINGS  
549/2353DelayedArray 0.35.3  (landing page)Hervé Pagès  OK    OK    WARNINGS  
550/2353DelayedDataFrame 1.25.0  (landing page)Qian Liu  OK    OK    OK  
551/2353DelayedMatrixStats 1.31.0  (landing page)Peter Hickey  OK    OK    OK  
552/2353DelayedRandomArray 1.17.0  (landing page)Aaron Lun  OK    OK    OK  
553/2353DelayedTensor 1.15.0  (landing page)Koki Tsuyuzaki  OK    OK    WARNINGS  
554/2353DELocal 1.9.0  (landing page)Rishi Das Roy  OK    ERROR  skipped
555/2353deltaCaptureC 1.23.1  (landing page)Michael Shapiro  OK    OK    OK  
556/2353deltaGseg 1.49.0  (landing page)Diana Low  OK    OK    WARNINGS  
557/2353DeMAND 1.39.0  (landing page)Jung Hoon Woo , Mariano Alvarez  OK    OK    OK  
558/2353DeMixT 1.25.0  (landing page)Ruonan Li  OK    OK    WARNINGS  
559/2353demuxmix 1.11.0  (landing page)Hans-Ulrich Klein  OK    OK    OK  
560/2353demuxSNP 1.7.1  (landing page)Michael Lynch  OK    OK    OK  
561/2353densvis 1.19.0  (landing page)Alan O'Callaghan  OK    OK    OK  
562/2353DEP 1.31.2  (landing page)Arne Smits  OK    OK    OK  
563/2353DepecheR 1.25.0  (landing page)Jakob Theorell  OK    OK    WARNINGS  
564/2353DepInfeR 1.13.0  (landing page)Junyan Lu  OK    OK    OK  
565/2353DEqMS 1.27.1  (landing page)Yafeng Zhu  OK    OK    TIMEOUT  
566/2353derfinder 1.43.1  (landing page)Leonardo Collado-Torres  OK    OK    OK  
567/2353derfinderHelper 1.43.0  (landing page)Leonardo Collado-Torres  OK    OK    OK  
568/2353derfinderPlot 1.43.1  (landing page)Leonardo Collado-Torres  OK    OK    OK  
569/2353DEScan2 1.29.2  (landing page)Dario Righelli  OK    OK    OK  
570/2353DESeq2 1.49.7  (landing page)Michael Love  OK    OK    OK  
571/2353DEsingle 1.29.0  (landing page)Zhun Miao  OK    OK    OK  
572/2353DESpace 2.1.0  (landing page)Peiying Cai  OK    OK    TIMEOUT  
573/2353destiny 3.23.0  (landing page)Philipp Angerer  OK    OK    ERROR  
574/2353DEsubs 1.35.0  (landing page)Aristidis G. Vrahatis , Panos Balomenos  OK    OK    WARNINGS  
575/2353DEWSeq 1.23.1  (landing page)bioinformatics team Hentze  OK    OK    OK  
576/2353DExMA 1.17.0  (landing page)Juan Antonio Villatoro-García  OK    OK    OK  
577/2353DEXSeq 1.55.1  (landing page)Alejandro Reyes  OK    OK    OK  
578/2353DFP 1.67.0  (landing page)Rodrigo Alvarez-Glez  OK    OK    OK  
579/2353DFplyr 1.3.2  (landing page)Jonathan Carroll  OK    OK    OK  
580/2353DiffBind 3.19.0  (landing page)Rory Stark  OK    OK    OK  
581/2353diffcoexp 1.29.0  (landing page)Wenbin Wei  OK    OK    OK  
582/2353diffcyt 1.29.0  (landing page)Lukas M. Weber  OK    OK    OK  
583/2353DifferentialRegulation 2.7.0  (landing page)Simone Tiberi  OK    TIMEOUT  skipped
584/2353diffGeneAnalysis 1.91.0  (landing page)Choudary Jagarlamudi  OK    OK    OK  
585/2353diffHic 1.41.0  (landing page)Aaron Lun , Gordon Smyth , Hannah Coughlin  OK    OK    OK  
586/2353DiffLogo 2.33.0  (landing page)Hendrik Treutler  OK    OK    WARNINGS  
587/2353diffuStats 1.29.0  (landing page)Sergio Picart-Armada  OK    ERROR  skipped
588/2353diffUTR 1.17.0  (landing page)Pierre-Luc Germain  OK    OK    OK  
589/2353diggit 1.41.0  (landing page)Mariano J Alvarez  OK    TIMEOUT  skipped
590/2353Dino 1.15.0  (landing page)Jared Brown  OK    OK    OK  
591/2353dinoR 1.5.0  (landing page)Michaela Schwaiger  OK    OK    OK  
592/2353dir.expiry 1.17.0  (landing page)Aaron Lun  OK    OK    OK  
593/2353DirichletMultinomial 1.51.0  (landing page)Martin Morgan  OK    OK    WARNINGS  
594/2353discordant 1.33.0  (landing page)McGrath Max  OK    OK    OK  
595/2353DiscoRhythm 1.25.0  (landing page)Matthew Carlucci  OK    OK    OK  
596/2353distinct 1.21.1  (landing page)Simone Tiberi  OK    OK    OK  
597/2353dittoSeq 1.21.1  (landing page)Daniel Bunis  OK    OK    OK  
598/2353divergence 1.25.0  (landing page)Wikum Dinalankara , Luigi Marchionni  OK    OK    OK  
599/2353dks 1.55.0  (landing page)Jeffrey T. Leek  OK    OK    OK  
600/2353DMCFB 1.23.0  (landing page)Farhad Shokoohi  OK    OK    OK  
601/2353DMCHMM 1.31.0  (landing page)Farhad Shokoohi  OK    OK    OK  
602/2353dmGsea 0.99.11  (landing page)Zongli Xu  OK    OK    OK  
603/2353DMRcaller 1.41.2  (landing page)Nicolae Radu Zabet  OK    OK    OK  
604/2353DMRcate 3.5.2  (landing page)Tim Peters  OK    OK    TIMEOUT  
605/2353DMRScan 1.31.1  (landing page)Christian M Page  OK    OK    OK  
606/2353dmrseq 1.29.2  (landing page)Keegan Korthauer  OK    OK    OK  
607/2353DNABarcodeCompatibility 1.25.0  (landing page)Céline Trébeau  OK    OK    OK  
608/2353DNABarcodes 1.39.0  (landing page)Tilo Buschmann  OK    OK    OK  
609/2353DNAcopy 1.83.0  (landing page)Venkatraman E. Seshan  OK    OK    OK  
610/2353DNAcycP2 1.1.0  (landing page)Ji-Ping Wang  OK    OK    OK  
611/2353DNAfusion 1.11.0  (landing page)Christoffer Trier Maansson  OK    OK    OK  
612/2353DNAshapeR 1.37.0  (landing page)Tsu-Pei Chiu  OK    OK    OK  
613/2353DNEA 0.99.14  (landing page)Christopher Patsalis  OK    OK    OK  
614/2353DominoEffect 1.29.5  (landing page)Marija Buljan , Peter Blattmann  OK    OK    OK  
615/2353dominoSignal 1.3.0  (landing page)Jacob T Mitchell  OK    OK    OK  
616/2353doppelgangR 1.37.3  (landing page)Levi Waldron  OK    OK    OK  
617/2353Doscheda 1.31.0  (landing page)Bruno Contrino  OK    OK    OK  
618/2353DOSE 4.3.0  (landing page)Guangchuang Yu  OK    OK    OK  
619/2353doseR 1.25.0  (landing page)ake.vastermark  OK    OK    OK  
620/2353DOtools 0.99.11  (landing page)Mariano Ruz Jurado  OK    OK    OK  
621/2353doubletrouble 1.9.1  (landing page)Fabrício Almeida-Silva  OK    OK    OK  
622/2353drawProteins 1.29.0  (landing page)Paul Brennan  OK    OK    ERROR  
623/2353dreamlet 1.7.1  (landing page)Gabriel Hoffman  OK    OK    OK  
624/2353DRIMSeq 1.37.0  (landing page)Malgorzata Nowicka  OK    OK    WARNINGS  
625/2353DriverNet 1.49.0  (landing page)Jiarui Ding  OK    OK    OK  
626/2353DropletUtils 1.29.7  (landing page)Jonathan Griffiths  OK    OK    WARNINGS  
627/2353drugTargetInteractions 1.17.0  (landing page)Thomas Girke  OK    OK    OK  
628/2353DrugVsDisease 2.51.0  (landing page)j. Saez-Rodriguez  OK    OK    OK  
629/2353DSS 2.57.0  (landing page)Hao Wu , Hao Feng  OK    OK    WARNINGS  
630/2353dStruct 1.15.0  (landing page)Krishna Choudhary  OK    OK    OK  
631/2353DTA 2.55.0  (landing page)Bjoern Schwalb  OK    OK    OK  
632/2353Dune 1.21.0  (landing page)Hector Roux de Bezieux  OK    OK    OK  
633/2353DuplexDiscovereR 1.3.4  (landing page)Egor Semenchenko  OK    OK    OK  
634/2353dupRadar 1.39.1  (landing page)Sergi Sayols , Holger Klein  OK    OK    OK  
635/2353dyebias 1.69.0  (landing page)Philip Lijnzaad  OK    OK    OK  
636/2353DynDoc 1.87.0  (landing page)Bioconductor Package Maintainer  OK    OK    WARNINGS  
E
ABCDEFGHIJKLMNOPQRSTUVWXYZ
PackageMaintainerINSTALLBUILDCHECKBUILD BIN
637/2353easier 1.15.0  (landing page)Oscar Lapuente-Santana  OK    OK    TIMEOUT  
638/2353EasyCellType 1.11.0  (landing page)Ruoxing Li  OK    OK    OK  
639/2353easylift 1.7.0  (landing page)Abdullah Al Nahid  OK    OK    OK  
640/2353easyreporting 1.21.0  (landing page)Dario Righelli  OK    OK    OK  
641/2353easyRNASeq 2.45.1  (landing page)Nicolas Delhomme  OK    OK    WARNINGS  
642/2353EBarrays 2.73.0  (landing page)Ming Yuan  OK    OK    OK  
643/2353EBcoexpress 1.53.0  (landing page)John A. Dawson  OK    OK    WARNINGS  
644/2353EBImage 4.51.0  (landing page)Andrzej Oleś  OK    OK    OK  
645/2353EBSEA 1.37.0  (landing page)Arfa Mehmood  OK    OK    OK  
646/2353EBSeq 2.7.0  (landing page)Xiuyu Ma  OK    OK    WARNINGS  
647/2353ecolitk 1.81.0  (landing page)Laurent Gautier  OK    OK    WARNINGS  
648/2353EDASeq 2.43.0  (landing page)Davide Risso  OK    OK    OK  
649/2353edge 2.41.0  (landing page)John D. Storey , Andrew J. Bass  OK    OK    OK  
650/2353edgeR 4.7.6  (landing page)Yunshun Chen , Gordon Smyth  OK    OK    OK  
651/2353EDIRquery 1.9.0  (landing page)Laura D.T. Vo Ngoc  OK    OK    OK  
652/2353eds 1.11.0  (landing page)Avi Srivastava  OK    OK    OK  
653/2353EGAD 1.37.0  (landing page)Sara Ballouz  OK    OK    WARNINGS  
654/2353EGSEA 1.37.0  (landing page)Monther Alhamdoosh  OK    OK    OK  
655/2353eiR 1.49.0  (landing page)Thomas Girke  OK    OK    OK  
656/2353eisaR 1.21.1  (landing page)Michael Stadler  OK    OK    OK  
657/2353ELMER 2.33.1  (landing page)Tiago Chedraoui Silva  OK    OK    TIMEOUT  
658/2353ELViS 1.1.12  (landing page)Jin-Young Lee  OK    OK    OK  
659/2353EMDomics 2.39.0  (landing page)Sadhika Malladi and Daniel Schmolze  OK    OK    OK  
660/2353EmpiricalBrownsMethod 1.37.0  (landing page)David Gibbs  OK    OK    OK  
661/2353EnhancedVolcano 1.27.0  (landing page)Kevin Blighe  OK    OK    OK  
662/2353enhancerHomologSearch 1.15.1  (landing page)Jianhong Ou  OK    ERROR  skipped
663/2353EnMCB 1.21.0  (landing page)Xin Yu  OK    OK    OK  
664/2353ENmix 1.45.3  (landing page)Zongli Xu  OK    OK    OK  
665/2353EnrichDO 1.3.1  (landing page)Hongyu Fu  OK    OK    OK  
666/2353EnrichedHeatmap 1.39.1  (landing page)Zuguang Gu  OK    OK    OK  
667/2353EnrichmentBrowser 2.39.2  (landing page)Ludwig Geistlinger  OK    OK    OK  
668/2353enrichplot 1.29.2  (landing page)Guangchuang Yu  OK    OK    WARNINGS  
669/2353enrichViewNet 1.7.2  (landing page)Astrid Deschênes  OK    OK    OK  
670/2353ensembldb 2.33.2  (landing page)Johannes Rainer  OK    OK    OK  
671/2353epialleleR 1.17.1  (landing page)Oleksii Nikolaienko  OK    OK    OK  
672/2353EpiCompare 1.13.2  (landing page)Hiranyamaya Dash  OK    OK    ERROR  
673/2353epidecodeR 1.17.0  (landing page)Kandarp Joshi  OK    OK    OK  
674/2353EpiDISH 2.25.0  (landing page)Shijie C. Zheng  OK    OK    OK  
675/2353epigenomix 1.49.0  (landing page)Hans-Ulrich Klein  OK    OK    OK  
676/2353epigraHMM 1.17.3  (landing page)Pedro Baldoni  OK    OK    WARNINGS  
677/2353EpiMix 1.11.1  (landing page)Yuanning Zheng  OK    OK    TIMEOUT  
678/2353epimutacions 1.13.0  (landing page)Dolors Pelegri-Siso  OK    OK    TIMEOUT  
679/2353epiNEM 1.33.0  (landing page)Martin Pirkl  OK    OK    OK  
680/2353EpipwR 1.3.1  (landing page)Jackson Barth  OK    OK    TIMEOUT  
681/2353epiregulon 1.99.2  (landing page)Xiaosai Yao  ERROR    ERROR  skipped
682/2353epiregulon.extra 1.5.1  (landing page)Xiaosai Yao  OK    ERROR  skipped
683/2353epistack 1.15.1  (landing page)DEVAILLY Guillaume  OK    OK    OK  
684/2353epistasisGA 1.11.2  (landing page)Michael Nodzenski  OK    OK    WARNINGS  
685/2353EpiTxDb 1.21.2  (landing page)Felix G.M. Ernst  OK    OK    OK  
686/2353epivizr 2.39.0  (landing page)Hector Corrada Bravo  OK    OK    OK  
687/2353epivizrChart 1.31.0  (landing page)Hector Corrada Bravo  OK    OK    OK  
688/2353epivizrData 1.37.2  (landing page)Hector Corrada Bravo  OK    OK    OK  
689/2353epivizrServer 1.37.0  (landing page)Hector Corrada Bravo  OK    OK    WARNINGS  
690/2353epivizrStandalone 1.37.1  (landing page)Hector Corrada Bravo  OK    OK    WARNINGS  
691/2353erccdashboard 1.43.0  (landing page)Sarah Munro  OK    OK    OK  
692/2353ERSSA 1.27.0  (landing page)Zixuan Shao  OK    OK    OK  
693/2353esATAC 1.31.1  (landing page)Zheng Wei  OK    OK    OK  
694/2353escape 2.5.5  (landing page)Nick Borcherding  OK    OK    OK  
695/2353escheR 1.9.0  (landing page)Boyi Guo  OK    OK    TIMEOUT  
696/2353esetVis 1.35.0  (landing page)Laure Cougnaud  OK    OK    OK  
697/2353eudysbiome 1.39.0  (landing page)Xiaoyuan Zhou  OK    OK    OK  
698/2353evaluomeR 1.25.0  (landing page)José Antonio Bernabé-Díaz  OK    OK    WARNINGS  
699/2353EventPointer 3.17.0  (landing page)Juan A. Ferrer-Bonsoms  OK    OK    OK  
700/2353EWCE 1.17.0  (landing page)Alan Murphy  OK    OK    TIMEOUT  
701/2353ExCluster 1.27.0  (landing page)R. Matthew Tanner  OK    OK    OK  
702/2353ExiMiR 2.51.0  (landing page)Sylvain Gubian  OK    OK    OK  
703/2353ExperimentHub 2.99.5  (landing page)Bioconductor Package Maintainer  OK    OK    TIMEOUT  
704/2353ExperimentHubData 1.35.0  (landing page)Bioconductor Package Maintainer  OK    OK    WARNINGS  
705/2353ExperimentSubset 1.19.0  (landing page)Irzam Sarfraz  OK    OK    TIMEOUT  
706/2353ExploreModelMatrix 1.21.2  (landing page)Charlotte Soneson  OK    OK    OK  
707/2353ExpressionAtlas 2.1.1  (landing page)Anil Thanki  OK    OK    OK  
708/2353extraChIPs 1.13.3  (landing page)Stevie Pederson  OK    OK    OK  
F
ABCDEFGHIJKLMNOPQRSTUVWXYZ
PackageMaintainerINSTALLBUILDCHECKBUILD BIN
709/2353fabia 2.55.0  (landing page)Andreas Mitterecker  OK    OK    WARNINGS  
710/2353factDesign 1.85.0  (landing page)Denise Scholtens  OK    OK    OK  
711/2353factR 1.11.0  (landing page)Fursham Hamid  OK    ERROR  skipped
712/2353faers 1.5.2  (landing page)Yun Peng  OK    ERROR  skipped
713/2353FamAgg 1.37.0  (landing page)Johannes Rainer  OK    OK    OK  
714/2353famat 1.19.0  (landing page)Mathieu Charles  OK    ERROR  skipped
715/2353fastLiquidAssociation 1.45.0  (landing page)Tina Gunderson  OK    OK    WARNINGS  
716/2353FastqCleaner 1.27.0  (landing page)Leandro Roser  OK    OK    OK  
717/2353fastreeR 1.99.4  (landing page)Anestis Gkanogiannis  OK    OK    OK  
718/2353fastseg 1.55.0  (landing page)Alexander Blume  OK    OK    OK  
719/2353fCCAC 1.35.0  (landing page)Pedro Madrigal  OK    OK    OK  
720/2353fCI 1.39.0  (landing page)Shaojun Tang  OK    OK    OK  
721/2353fcScan 1.23.0  (landing page)Pierre Khoueiry Abdullah El-Kurdi  OK    OK    OK  
722/2353fdrame 1.81.0  (landing page)Effi Kenigsberg  OK    OK    OK  
723/2353FEAST 1.17.0  (landing page)Kenong Su  OK    OK    OK  
724/2353FeatSeekR 1.9.0  (landing page)Tuemay Capraz  OK    OK    OK  
725/2353fedup 1.17.0  (landing page)Catherine Ross  OK    OK    OK  
726/2353FELLA 1.29.0  (landing page)Sergio Picart-Armada  OK    ERROR  skipped
727/2353fenr 1.7.1  (landing page)Marek Gierlinski  OK    OK    OK  
728/2353ffpe 1.53.0  (landing page)Levi Waldron  OK    OK    OK  
729/2353fgga 1.17.0  (landing page)Flavio Spetale  OK    OK    OK  
730/2353FGNet 3.43.0  (landing page)Sara Aibar  OK    OK    WARNINGS  
731/2353fgsea 1.35.8  (landing page)Alexey Sergushichev  OK    OK    OK  
732/2353FilterFFPE 1.19.0  (landing page)Lanying Wei  OK    OK    OK  
733/2353findIPs 1.5.0  (landing page)Shuo Wang  OK    OK    OK  
734/2353FindIT2 1.15.1  (landing page)Guandong Shang  OK    OK    OK  
735/2353FinfoMDS 0.99.2  (landing page)Soobin Kim  OK    OK    OK  
736/2353FISHalyseR 1.43.0  (landing page)Karesh Arunakirinathan  OK    OK    WARNINGS  
737/2353fishpond 2.15.0  (landing page)Michael Love  OK    OK    OK  
738/2353FitHiC 1.35.0  (landing page)Ruyu Tan  OK    OK    OK  
739/2353flagme 1.65.0  (landing page)Mark Robinson , Riccardo Romoli  OK    OK    WARNINGS  
740/2353FLAMES 2.3.5  (landing page)Changqing Wang  ERROR    ERROR  skipped
741/2353flowAI 1.39.0  (landing page)Gianni Monaco  OK    OK    OK  
742/2353flowBeads 1.47.0  (landing page)Nikolas Pontikos  OK    OK    WARNINGS  
743/2353flowBin 1.45.0  (landing page)Kieran O'Neill  OK    OK    OK  
744/2353flowcatchR 1.43.0  (landing page)Federico Marini  OK    OK    OK  
745/2353flowCHIC 1.43.0  (landing page)Author: Joachim Schumann  OK    OK    OK  
746/2353flowClean 1.47.0  (landing page)Kipper Fletez-Brant  OK    OK    WARNINGS  
747/2353flowClust 3.47.0  (landing page)Greg Finak , Mike Jiang  OK    OK    WARNINGS  
748/2353flowCore 2.21.0  (landing page)Mike Jiang  OK    OK    WARNINGS  
749/2353flowCut 1.19.0  (landing page)Justin Meskas  OK    OK    OK  
750/2353flowCyBar 1.45.0  (landing page)Joachim Schumann  OK    OK    OK  
751/2353flowDensity 1.43.0  (landing page)Mehrnoush Malek  OK    OK    WARNINGS  
752/2353flowFP 1.67.0  (landing page)Herb Holyst , Wade Rogers  OK    OK    OK  
753/2353flowGate 1.9.0  (landing page)Andrew Wight  OK    OK    OK  
754/2353flowGraph 1.17.0  (landing page)Alice Yue  OK    OK    OK  
755/2353flowMatch 1.45.0  (landing page)Ariful Azad  OK    OK    OK  
756/2353flowMeans 1.69.0  (landing page)Nima Aghaeepour  OK    OK    OK  
757/2353flowMerge 2.57.0  (landing page)Greg Finak  OK    OK    WARNINGS  
758/2353flowPeaks 1.55.0  (landing page)Yongchao Ge  OK    OK    OK  
759/2353flowPloidy 1.35.0  (landing page)Tyler Smith  OK    OK    OK  
760/2353flowPlots 1.57.0  (landing page)N. Hawkins  OK    OK    OK  
761/2353FlowSOM 2.17.0  (landing page)Sofie Van Gassen  OK    OK    OK  
762/2353flowSpecs 1.23.0  (landing page)Jakob Theorell  OK    OK    OK  
763/2353flowStats 4.21.0  (landing page)Greg Finak , Mike Jiang  OK    OK    WARNINGS  
764/2353flowTime 1.33.0  (landing page)R. Clay Wright  OK    OK    OK  
765/2353flowTrans 1.61.0  (landing page)Greg Finak  OK    OK    OK  
766/2353flowViz 1.73.0  (landing page)Mike Jiang  OK    OK    OK  
767/2353flowVS 1.41.0  (landing page)Ariful Azad  OK    OK    OK  
768/2353flowWorkspace 4.21.0  (landing page)Greg Finak , Mike Jiang  OK    OK    WARNINGS  
769/2353fmcsR 1.51.0  (landing page)Thomas Girke  OK    OK    WARNINGS  
770/2353fmrs 1.19.0  (landing page)Farhad Shokoohi  OK    OK    OK  
771/2353fobitools 1.17.0  (landing page)Pol Castellano-Escuder  OK    OK    OK  
772/2353FRASER 2.5.2  (landing page)Christian Mertes  OK    OK    ERROR  
773/2353frenchFISH 1.21.0  (landing page)Adam Berman  OK    OK    OK  
774/2353FRGEpistasis 1.45.0  (landing page)Futao Zhang  OK    OK    OK  
775/2353frma 1.61.0  (landing page)Matthew N. McCall  OK    OK    OK  
776/2353frmaTools 1.61.0  (landing page)Matthew N. McCall  OK    OK    OK  
777/2353funOmics 1.3.0  (landing page)Elisa Gomez de Lope  OK    OK    OK  
778/2353funtooNorm 1.33.0  (landing page)Kathleen Klein  OK    OK    WARNINGS  
779/2353FuseSOM 1.11.0  (landing page)Elijah Willie  OK    OK    OK  
G
ABCDEFGHIJKLMNOPQRSTUVWXYZ
PackageMaintainerINSTALLBUILDCHECKBUILD BIN
780/2353G4SNVHunter 1.1.6  (landing page)Rongxin Zhang  OK    OK    WARNINGS  
781/2353GA4GHclient 1.33.1  (landing page)Welliton Souza  OK    OK    OK  
782/2353GA4GHshiny 1.31.1  (landing page)Welliton Souza  OK    OK    OK  
783/2353gaga 2.55.0  (landing page)David Rossell  OK    OK    WARNINGS  
784/2353gage 2.59.0  (landing page)Weijun Luo  OK    OK    WARNINGS  
785/2353GAprediction 1.35.0  (landing page)Jon Bohlin  OK    OK    OK  
786/2353garfield 1.37.0  (landing page)Valentina Iotchkova  OK    OK    WARNINGS  
787/2353GARS 1.29.0  (landing page)Mattia Chiesa  OK    OK    OK  
788/2353GateFinder 1.29.0  (landing page)Nima Aghaeepour  OK    OK    WARNINGS  
789/2353gatom 1.7.0  (landing page)Alexey Sergushichev  OK    OK    OK  
790/2353GBScleanR 2.3.2  (landing page)Tomoyuki Furuta  OK    OK    ERROR  
791/2353gcapc 1.33.1  (landing page)Mingxiang Teng  OK    OK    ERROR  
792/2353gcatest 2.9.0  (landing page)Alejandro Ochoa  OK    OK    OK  
793/2353GCPtools 0.99.4  (landing page)Marcel Ramos  OK    OK    OK  
794/2353gCrisprTools 2.15.0  (landing page)Russell Bainer  OK    OK    OK  
795/2353gcrma 2.81.0  (landing page)Z. Wu  OK    OK    OK  
796/2353GDCRNATools 1.29.0  (landing page)Ruidong Li  OK    OK    OK  
797/2353gDNAx 1.7.3  (landing page)Robert Castelo  OK    OK    TIMEOUT  
798/2353gDR 1.7.2  (landing page)Arkadiusz Gladki  OK    OK    OK  
799/2353gDRcore 1.7.8  (landing page)Arkadiusz Gladki  OK    OK    OK  
800/2353gDRimport 1.7.5  (landing page)Arkadiusz Gladki  OK    OK    OK  
801/2353gDRstyle 1.7.4  (landing page)Arkadiusz Gladki  OK    OK    OK  
802/2353gDRutils 1.7.18  (landing page)Arkadiusz Gladki  OK    OK    OK  
803/2353GDSArray 1.29.0  (landing page)Xiuwen Zheng  OK    OK    OK  
804/2353gdsfmt 1.45.2  (landing page)Xiuwen Zheng  OK    OK    OK  
805/2353GeDi 1.5.0  (landing page)Annekathrin Nedwed  OK    OK    ERROR  
806/2353GEM 1.35.0  (landing page)Hong Pan  OK    OK    OK  
807/2353gemini 1.23.0  (landing page)Sidharth Jain  OK    OK    OK  
808/2353gemma.R 3.5.13  (landing page)Ogan Mancarci  OK    ERROR  skipped
809/2353genArise 1.85.0  (landing page)IFC Development Team  OK    OK    WARNINGS  
810/2353geneAttribution 1.35.1  (landing page)Arthur Wuster  OK    OK    OK  
811/2353GeneBreak 1.39.0  (landing page)Evert van den Broek  OK    OK    OK  
812/2353geneClassifiers 1.33.0  (landing page)R Kuiper  OK    OK    OK  
813/2353GeneExpressionSignature 1.55.0  (landing page)Yang Cao  OK    OK    OK  
814/2353genefilter 1.91.0  (landing page)Bioconductor Package Maintainer  OK    OK    WARNINGS  
815/2353genefu 2.41.0  (landing page)Benjamin Haibe-Kains  OK    OK    WARNINGS  
816/2353GeneGA 1.59.0  (landing page)Zhenpeng Li  OK    ERROR  skipped
817/2353GeneMeta 1.81.0  (landing page)Bioconductor Package Maintainer  OK    OK    OK  
818/2353GeneNetworkBuilder 1.51.0  (landing page)Jianhong Ou  OK    OK    OK  
819/2353GeneOverlap 1.45.0  (landing page)António Miguel de Jesus Domingues, Max-Planck Institute for Cell Biology and Genetics  OK    OK    OK  
820/2353geneplast 1.35.0  (landing page)Mauro Castro  OK    OK    OK  
821/2353geneplotter 1.87.0  (landing page)Bioconductor Package Maintainer  OK    OK    OK  
822/2353geneRecommender 1.81.0  (landing page)Greg Hather  OK    OK    OK  
823/2353GeneRegionScan 1.65.0  (landing page)Lasse Folkersen  OK    OK    OK  
824/2353geneRxCluster 1.45.0  (landing page)Charles Berry  OK    OK    OK  
825/2353GeneSelectMMD 2.53.0  (landing page)Weiliang Qiu  OK    OK    WARNINGS  
826/2353GENESIS 2.39.3  (landing page)Stephanie M. Gogarten  OK    OK    OK  
827/2353GeneStructureTools 1.29.0  (landing page)Beth Signal  ERROR    ERROR  skipped
828/2353geNetClassifier 1.49.0  (landing page)Sara Aibar  OK    OK    OK  
829/2353GeneticsPed 1.71.0  (landing page)David Henderson  OK    OK    WARNINGS  
830/2353GeneTonic 3.3.3  (landing page)Federico Marini  OK    OK    ERROR  
831/2353geneXtendeR 1.35.0  (landing page)Bohdan Khomtchouk  OK    OK    WARNINGS  
832/2353GENIE3 1.31.0  (landing page)Van Anh Huynh-Thu  OK    OK    OK  
833/2353genomation 1.41.1  (landing page)Altuna Akalin , Vedran Franke  OK    OK    WARNINGS  
834/2353GenomAutomorphism 1.11.2  (landing page)Robersy Sanchez  OK    OK    OK  
835/2353GenomeInfoDb 1.45.12  (landing page)Hervé Pagès  OK    OK    TIMEOUT  
836/2353genomeIntervals 1.65.1  (landing page)Julien Gagneur  OK    OK    WARNINGS  
837/2353genomes 3.39.0  (landing page)Chris Stubben  OK    OK    OK  
838/2353GenomicAlignments 1.45.4  (landing page)Hervé Pagès  OK    OK    OK  
839/2353GenomicDataCommons 1.33.1  (landing page)Sean Davis  OK    OK    OK  
840/2353GenomicDistributions 1.17.1  (landing page)Kristyna Kupkova  OK    OK    OK  
841/2353GenomicFeatures 1.61.6  (landing page)H. Pagès  OK    OK    ERROR  
842/2353GenomicFiles 1.45.2  (landing page)Bioconductor Package Maintainer  OK    OK    OK  
843/2353genomicInstability 1.15.0  (landing page)Mariano Alvarez  OK    OK    TIMEOUT  
844/2353GenomicInteractionNodes 1.13.1  (landing page)Jianhong Ou  OK    OK    OK  
845/2353GenomicInteractions 1.43.1  (landing page)Liz Ing-Simmons  OK    OK    OK  
846/2353GenomicOZone 1.23.1  (landing page)Hua Zhong, Mingzhou Song  OK    OK    OK  
847/2353GenomicPlot 1.7.2  (landing page)Shuye Pu  OK    OK    OK  
848/2353GenomicRanges 1.61.5  (landing page)Hervé Pagès  OK    ERROR  skipped
849/2353GenomicScores 2.21.4  (landing page)Robert Castelo  OK    OK    OK  
850/2353GenomicSuperSignature 1.17.1  (landing page)Sehyun Oh  OK    OK    WARNINGS  
851/2353GenomicTuples 1.43.1  (landing page)Peter Hickey  OK    OK    OK  
852/2353GenProSeq 1.13.0  (landing page)Dongmin Jung  OK    OK    OK  
853/2353GenVisR 1.41.2  (landing page)Zachary Skidmore  OK    OK    ERROR  
854/2353GeoDiff 1.15.0  (landing page)Nicole Ortogero  OK    OK    OK  
855/2353GEOexplorer 1.15.0  (landing page)Guy Hunt  OK    OK    ERROR  
856/2353GEOfastq 1.17.0  (landing page)Alex Pickering  OK    OK    OK  
857/2353GEOmetadb 1.71.0  (landing page)Jack Zhu  OK    OK    WARNINGS  
858/2353geomeTriD 1.3.18  (landing page)Jianhong Ou  OK    OK    OK  
859/2353GeomxTools 3.13.1  (landing page)Maddy Griswold  OK    OK    OK  
860/2353GEOquery 2.77.6  (landing page)Sean Davis  OK    OK    ERROR  
861/2353GEOsubmission 1.61.0  (landing page)Alexandre Kuhn  OK    OK    OK  
862/2353GeoTcgaData 2.9.0  (landing page)Erqiang Hu  OK    OK    OK  
863/2353gep2pep 1.29.0  (landing page)Francesco Napolitano  OK    OK    OK  
864/2353getDEE2 1.19.3  (landing page)Mark 0000-0002-7688-6974 Ziemann  OK    OK    OK  
865/2353geva 1.17.0  (landing page)Itamar José Guimarães Nunes  OK    ERROR  skipped
866/2353GEWIST 1.53.0  (landing page)Wei Q. Deng  OK    OK    OK  
867/2353geyser 1.1.0  (landing page)David McGaughey  OK    OK    OK  
868/2353gg4way 1.7.1  (landing page)Benjamin I Laufer  OK    OK    OK  
869/2353ggbio 1.57.1  (landing page)Michael Lawrence  OK    OK    WARNINGS  
870/2353ggcyto 1.37.1  (landing page)Mike Jiang  OK    OK    WARNINGS  
871/2353ggkegg 1.7.2  (landing page)Noriaki Sato  OK    OK    OK  
872/2353ggmanh 1.13.0  (landing page)John Lee  OK    OK    OK  
873/2353ggmsa 1.15.1  (landing page)Guangchuang Yu  OK    OK    WARNINGS  
874/2353GGPA 1.21.0  (landing page)Dongjun Chung  OK    OK    OK  
875/2353ggsc 1.7.1  (landing page)Guangchuang Yu  OK    OK    OK  
876/2353ggseqalign 1.3.0  (landing page)Simeon Lim Rossmann  OK    OK    OK  
877/2353ggspavis 1.15.9  (landing page)Lukas M. Weber  OK    ERROR  skipped
878/2353ggtree 3.99.1  (landing page)Guangchuang Yu  OK    OK    OK  
879/2353ggtreeDendro 1.11.0  (landing page)Guangchuang Yu  OK    OK    WARNINGS  
880/2353ggtreeExtra 1.19.1  (landing page)Shuangbin Xu  OK    OK    OK  
881/2353ggtreeSpace 1.5.0  (landing page)Guangchuang Yu  OK    OK    WARNINGS  
882/2353GIGSEA 1.27.0  (landing page)Shijia Zhu  OK    OK    OK  
883/2353ginmappeR 1.5.0  (landing page)Fernando Sola  OK    OK    OK  
884/2353gINTomics 1.5.2  (landing page)Angelo Velle  OK    OK    OK  
885/2353GLAD 2.73.0  (landing page)Philippe Hupe  OK    OK    WARNINGS  
886/2353GladiaTOX 1.25.3  (landing page)PMP S.A. R Support  OK    OK    OK  
887/2353Glimma 2.19.2  (landing page)Shian Su  OK    OK    OK  
888/2353glmGamPoi 1.21.0  (landing page)Constantin Ahlmann-Eltze  OK    OK    WARNINGS  
889/2353glmSparseNet 1.27.0  (landing page)André Veríssimo  OK    OK    OK  
890/2353GlobalAncova 4.27.0  (landing page)Manuela Hummel  OK    OK    WARNINGS  
891/2353globalSeq 1.37.0  (landing page)Armin Rauschenberger  OK    OK    OK  
892/2353globaltest 5.63.0  (landing page)Jelle Goeman  OK    ERROR  skipped
893/2353GloScope 1.99.2  (landing page)William Torous  OK    OK    OK  
894/2353gmapR 1.51.1  (landing page)Michael Lawrence  OK    ERROR  skipped
895/2353GmicR 1.23.0  (landing page)Richard Virgen-Slane  OK    OK    WARNINGS  
896/2353gmoviz 1.21.1  (landing page)Kathleen Zeglinski  OK    OK    OK  
897/2353GMRP 1.37.0  (landing page)Yuan-De Tan  OK    OK    OK  
898/2353GNET2 1.25.0  (landing page)Chen Chen  OK    OK    OK  
899/2353GNOSIS 1.7.0  (landing page)Lydia King  OK    OK    WARNINGS  
900/2353goatea 0.99.9  (landing page)Maurits Unkel  OK    OK    OK  
901/2353GOexpress 1.43.1  (landing page)Kevin Rue-Albrecht  OK    OK    OK  
902/2353GOfuncR 1.29.0  (landing page)Steffi Grote  OK    OK    OK  
903/2353GOpro 1.35.0  (landing page)Lidia Chrabaszcz  OK    OK    OK  
904/2353goProfiles 1.71.0  (landing page)Alex Sanchez  OK    OK    OK  
905/2353GOSemSim 2.35.2  (landing page)Guangchuang Yu  OK    OK    OK  
906/2353goseq 1.61.1  (landing page)Federico Marini  OK    OK    OK  
907/2353goSorensen 1.11.0  (landing page)Pablo Flores  OK    OK    OK  
908/2353goSTAG 1.33.0  (landing page)Brian D. Bennett  OK    OK    OK  
909/2353GOstats 2.75.0  (landing page)Bioconductor Package Maintainer  OK    ERROR  skipped
910/2353GOTHiC 1.45.1  (landing page)Borbala Mifsud  OK    OK    OK  
911/2353goTools 1.83.0  (landing page)Agnes Paquet  OK    OK    OK  
912/2353GPA 1.21.0  (landing page)Dongjun Chung  OK    OK    OK  
913/2353gpls 1.81.0  (landing page)Bioconductor Package Maintainer  OK    OK    WARNINGS  
914/2353gpuMagic 1.25.1  (landing page)Jiefei Wang  ERROR    ERROR  skipped
915/2353GrafGen 1.5.0  (landing page)William Wheeler  OK    OK    OK  
916/2353GRaNIE 1.13.0  (landing page)Christian Arnold  OK    OK    ERROR  
917/2353granulator 1.17.0  (landing page)Sabina Pfister  OK    OK    ERROR  
918/2353graper 1.25.2  (landing page)Britta Velten  OK    OK    OK  
919/2353graph 1.87.0  (landing page)Bioconductor Package Maintainer  OK    OK    OK  
920/2353GraphAlignment 1.73.0  (landing page)Joern P. Meier  OK    OK    OK  
921/2353GraphAT 1.81.0  (landing page)Thomas LaFramboise  OK    OK    OK  
922/2353graphite 1.55.0  (landing page)Gabriele Sales  OK    OK    OK  
923/2353GRENITS 1.61.0  (landing page)Edward Morrissey  OK    OK    OK  
924/2353GreyListChIP 1.41.1  (landing page)Matt Eldridge  OK    OK    OK  
925/2353GRmetrics 1.35.0  (landing page)Nicholas Clark , Mario Medvedovic  OK    OK    OK  
926/2353groHMM 1.43.1  (landing page)Tulip Nandu  OK    OK    WARNINGS  
927/2353GSALightning 1.37.0  (landing page)Billy Heung Wing Chang  OK    OK    OK  
928/2353GSAR 1.43.2  (landing page)Yasir Rahmatallah , Galina Glazko  OK    OK    OK  
929/2353GSCA 2.39.0  (landing page)Zhicheng Ji  OK    OK    OK  
930/2353gscreend 1.23.0  (landing page)Katharina Imkeller  OK    OK    OK  
931/2353GSEABase 1.71.1  (landing page)Bioconductor Package Maintainer  OK    OK    OK  
932/2353GSEABenchmarkeR 1.29.1  (landing page)Ludwig Geistlinger  OK    OK    TIMEOUT  
933/2353GSEAlm 1.69.0  (landing page)Assaf Oron  OK    OK    OK  
934/2353GSEAmining 1.19.0  (landing page)Oriol Arqués  OK    OK    OK  
935/2353gsean 1.29.0  (landing page)Dongmin Jung  OK    OK    OK  
936/2353GSgalgoR 1.19.0  (landing page)Carlos Catania  OK    OK    OK  
937/2353GSReg 1.43.0  (landing page)Bahman Afsari , Elana J. Fertig  OK    OK    WARNINGS  
938/2353GSRI 2.57.0  (landing page)Julian Gehring  OK    OK    OK  
939/2353GSVA 2.3.4  (landing page)Robert Castelo  OK    OK    OK  
940/2353gtrellis 1.41.0  (landing page)Zuguang Gu  OK    OK    OK  
941/2353GUIDEseq 1.39.0  (landing page)Lihua Julie Zhu  OK    OK    OK  
942/2353Guitar 2.25.0  (landing page)Jia Meng  OK    OK    OK  
943/2353gVenn 0.99.5  (landing page)Christophe Tav  OK    OK    OK  
944/2353Gviz 1.53.1  (landing page)Robert Ivanek  OK    OK    OK  
945/2353GWAS.BAYES 1.19.0  (landing page)Jacob Williams  OK    OK    OK  
946/2353gwascat 2.41.1  (landing page)VJ Carey  OK    OK    OK  
947/2353GWASTools 1.55.0  (landing page)Stephanie M. Gogarten  OK    OK    OK  
948/2353gwasurvivr 1.27.0  (landing page)Abbas Rizvi  OK    OK    OK  
949/2353GWENA 1.19.0  (landing page)Gwenaëlle Lemoine  OK    OK    WARNINGS  
950/2353gypsum 1.5.0  (landing page)Aaron Lun  OK    OK    ERROR  
H
ABCDEFGHIJKLMNOPQRSTUVWXYZ
PackageMaintainerINSTALLBUILDCHECKBUILD BIN
951/2353h5mread 1.1.1  (landing page)Hervé Pagès  OK    OK    ERROR  
952/2353h5vc 2.43.0  (landing page)Paul Theodor Pyl  OK    ERROR  skipped
953/2353hapFabia 1.51.0  (landing page)Andreas Mitterecker  OK    OK    WARNINGS  
954/2353Harman 1.37.0  (landing page)Jason Ross  OK    OK    WARNINGS  
955/2353HarmonizR 1.7.0  (landing page)Simon Schlumbohm  OK    OK    OK  
956/2353Harshlight 1.81.1  (landing page)Maurizio Pellegrino  ERROR    ERROR  skipped
957/2353hca 1.17.0  (landing page)Martin Morgan  OK    ERROR  skipped
958/2353HDF5Array 1.37.0  (landing page)Hervé Pagès  OK    ERROR  skipped
959/2353HDTD 1.43.0  (landing page)Anestis Touloumis  OK    OK    OK  
960/2353hdxmsqc 1.5.0  (landing page)Oliver M. Crook  OK    OK    OK  
961/2353heatmaps 1.33.1  (landing page)Malcolm Perry  OK    OK    OK  
962/2353Heatplus 3.17.0  (landing page)Alexander Ploner  OK    OK    OK  
963/2353HelloRanges 1.35.2  (landing page)Michael Lawrence  OK    OK    OK  
964/2353HELP 1.67.0  (landing page)Reid F. Thompson  OK    OK    OK  
965/2353HEM 1.81.0  (landing page)HyungJun Cho  OK    OK    OK  
966/2353hermes 1.13.1  (landing page)Daniel Sabanés Bové  OK    OK    OK  
967/2353HERON 1.7.0  (landing page)Sean McIlwain  OK    OK    OK  
968/2353Herper 1.19.3  (landing page)Thomas Carroll  OK    OK    OK  
969/2353HGC 1.17.0  (landing page)XGlab  OK    OK    WARNINGS  
970/2353hiAnnotator 1.43.1  (landing page)Nirav V Malani  OK    ERROR  skipped
971/2353HIBAG 1.45.0  (landing page)Xiuwen Zheng  OK    ERROR  skipped
972/2353HicAggR 1.5.1  (landing page)Olivier Cuvier  OK    OK    WARNINGS  
973/2353HiCaptuRe 0.99.15  (landing page)Laureano Tomas-Daza  OK    OK    OK  
974/2353HiCBricks 1.27.1  (landing page)Koustav Pal  OK    OK    OK  
975/2353HiCcompare 1.31.0  (landing page)Mikhail Dozmorov  OK    OK    OK  
976/2353HiCDCPlus 1.17.0  (landing page)Merve Sahin  OK    OK    ERROR  
977/2353HiCDOC 1.11.2  (landing page)Maigné Élise  OK    OK    OK  
978/2353HiCExperiment 1.9.2  (landing page)Jacques Serizay  OK    OK    OK  
979/2353HiContacts 1.11.0  (landing page)Jacques Serizay  OK    ERROR  skipped
980/2353HiCool 1.9.1  (landing page)Jacques Serizay  OK    OK    OK  
981/2353HiCParser 1.1.1  (landing page)Maigné Élise  OK    OK    OK  
982/2353HiCPotts 0.99.6  (landing page)Itunu. Godwin Osuntoki  OK    OK    OK  
983/2353hicVennDiagram 1.7.3  (landing page)Jianhong Ou  OK    OK    OK  
984/2353hierGWAS 1.39.0  (landing page)Laura Buzdugan  OK    OK    WARNINGS  
985/2353hierinf 1.27.0  (landing page)Claude Renaux  OK    OK    ERROR  
986/2353HilbertCurve 2.3.0  (landing page)Zuguang Gu  OK    OK    OK  
987/2353HilbertVis 1.67.2  (landing page)Simon Anders  OK    OK    OK  
988/2353HilbertVisGUI 1.67.1  (landing page)Simon Anders  OK    OK    WARNINGS  
989/2353HiLDA 1.23.0  (landing page)Zhi Yang  ERROR    ERROR  skipped
990/2353hipathia 3.9.0  (landing page)Marta R. Hidalgo  OK    ERROR  skipped
991/2353HIPPO 1.21.0  (landing page)Tae Kim  OK    OK    OK  
992/2353hiReadsProcessor 1.45.1  (landing page)Nirav V Malani  OK    OK    ERROR  
993/2353HIREewas 1.27.0  (landing page)Xiangyu Luo  OK    OK    OK  
994/2353HiTC 1.53.1  (landing page)Nicolas Servant  OK    ERROR  skipped
995/2353hmdbQuery 1.29.0  (landing page)VJ Carey  OK    OK    OK  
996/2353HMMcopy 1.51.0  (landing page)Daniel Lai  OK    OK    WARNINGS  
997/2353HoloFoodR 1.3.1  (landing page)Tuomas Borman  OK    OK    OK  
998/2353hoodscanR 1.7.0  (landing page)Ning Liu  OK    OK    OK  
999/2353hopach 2.69.0  (landing page)Katherine S. Pollard  OK    OK    OK  
1000/2353HPAanalyze 1.27.2  (landing page)Anh Nhat Tran  OK    OK    OK  
1001/2353hpar 1.51.0  (landing page)Laurent Gatto  OK    OK    OK  
1002/2353HPiP 1.15.0  (landing page)Matineh Rahmatbakhsh  OK    ERROR  skipped
1003/2353HTqPCR 1.63.0  (landing page)Matthew N. McCall  OK    OK    OK  
1004/2353HTSFilter 1.49.0  (landing page)Andrea Rau  OK    OK    OK  
1005/2353HuBMAPR 1.3.2  (landing page)Christine Hou  OK    OK    OK  
1006/2353HubPub 1.17.1  (landing page)Kayla Interdonato  OK    OK    OK  
1007/2353hummingbird 1.19.0  (landing page)Eleni Adam  OK    OK    OK  
1008/2353HVP 0.99.5  (landing page)Wei Xin Chan  OK    OK    OK  
1009/2353HybridExpress 1.5.0  (landing page)Fabricio Almeida-Silva  OK    OK    OK  
1010/2353HybridMTest 1.53.0  (landing page)Demba Fofana  OK    OK    OK  
1011/2353hypeR 2.7.1  (landing page)Anthony Federico  ERROR    ERROR  skipped
1012/2353hyperdraw 1.61.0  (landing page)Paul Murrell  OK    OK    OK  
1013/2353hypergraph 1.81.0  (landing page)Bioconductor Package Maintainer  OK    OK    OK  
I
ABCDEFGHIJKLMNOPQRSTUVWXYZ
PackageMaintainerINSTALLBUILDCHECKBUILD BIN
1014/2353iASeq 1.53.0  (landing page)Yingying Wei  OK    OK    OK  
1015/2353iasva 1.27.0  (landing page)Donghyung Lee , Anthony Cheng  OK    OK    OK  
1016/2353iBBiG 1.53.0  (landing page)Aedin Culhane  OK    OK    OK  
1017/2353Ibex 0.99.34  (landing page)Nick Borcherding  OK    TIMEOUT  skipped
1018/2353ibh 1.57.0  (landing page)Kircicegi Korkmaz  OK    OK    OK  
1019/2353iBMQ 1.49.0  (landing page)Greg Imholte  OK    OK    OK  
1020/2353iCARE 1.37.0  (landing page)Parichoy Pal Choudhury  OK    OK    WARNINGS  
1021/2353Icens 1.81.0  (landing page)Bioconductor Package Maintainer  OK    OK    OK  
1022/2353icetea 1.27.1  (landing page)Vivek Bhardwaj  OK    OK    WARNINGS  
1023/2353iCheck 1.39.0  (landing page)Weiliang Qiu  OK    OK    OK  
1024/2353iChip 1.63.0  (landing page)Qianxing Mo  OK    OK    WARNINGS  
1025/2353iClusterPlus 1.45.0  (landing page)Qianxing Mo , Ronglai Shen  ERROR    ERROR  skipped
1026/2353iCNV 1.29.0  (landing page)Zilu Zhou  OK    OK    WARNINGS  
1027/2353iCOBRA 1.37.1  (landing page)Charlotte Soneson  OK    OK    OK  
1028/2353ideal 2.3.0  (landing page)Federico Marini  OK    OK    OK  
1029/2353IdeoViz 1.45.0  (landing page)Shraddha Pai  OK    OK    WARNINGS  
1030/2353idiogram 1.85.0  (landing page)Karl J. Dykema  OK    OK    OK  
1031/2353idpr 1.19.0  (landing page)William M. McFadden  OK    OK    OK  
1032/2353idr2d 1.23.1  (landing page)Konstantin Krismer  OK    OK    OK  
1033/2353IFAA 1.11.0  (landing page)Zhigang Li  OK    OK    OK  
1034/2353igblastr 0.99.22  (landing page)Hervé Pagès... NOT SUPPORTED ...
1035/2353iGC 1.39.0  (landing page)Liang-Bo Wang  OK    OK    OK  
1036/2353IgGeneUsage 1.23.0  (landing page)Simo Kitanovski  OK    OK    WARNINGS  
1037/2353igvR 1.29.0  (landing page)Arkadiusz Gladki  OK    OK    OK  
1038/2353igvShiny 1.5.0  (landing page)Arkadiusz Gladki  OK    OK    OK  
1039/2353IHW 1.37.0  (landing page)Nikos Ignatiadis  OK    OK    OK  
1040/2353illuminaio 0.51.0  (landing page)Kasper Daniel Hansen  OK    OK    OK  
1041/2353ILoReg 1.19.0  (landing page)Johannes Smolander  OK    ERROR  skipped
1042/2353imageTCGA 1.1.1  (landing page)Ilaria Billato  OK    OK    OK  
1043/2353IMAS 1.33.1  (landing page)Seonggyun Han  OK    ERROR  skipped
1044/2353imcRtools 1.15.4  (landing page)Daniel Schulz  OK    OK    ERROR  
1045/2353IMMAN 1.29.0  (landing page)Minoo Ashtiani  OK    OK    OK  
1046/2353immApex 1.3.7  (landing page)Nick Borcherding  OK    OK    OK  
1047/2353immunoClust 1.41.2  (landing page)Till Soerensen  OK    ERROR  skipped
1048/2353immunogenViewer 1.3.1  (landing page)Katharina Waury  OK    OK    OK  
1049/2353immunotation 1.17.5  (landing page)Katharina Imkeller  OK    OK    OK  
1050/2353IMPCdata 1.45.0  (landing page)Jeremy Mason  OK    OK    OK  
1051/2353impute 1.83.0  (landing page)Balasubramanian Narasimhan  OK    OK    WARNINGS  
1052/2353INDEED 2.23.0  (landing page)Ressom group  OK    OK    OK  
1053/2353iNETgrate 1.7.0  (landing page)Habil Zare  OK    OK    OK  
1054/2353infercnv 1.25.0  (landing page)Christophe Georgescu  ERROR    ERROR  skipped
1055/2353infinityFlow 1.19.0  (landing page)Etienne Becht  OK    OK    OK  
1056/2353Informeasure 1.19.0  (landing page)Chu Pan  OK    OK    OK  
1057/2353InPAS 2.17.1  (landing page)Jianhong Ou  OK    ERROR  skipped
1058/2353INPower 1.45.0  (landing page)Bill Wheeler  OK    OK    OK  
1059/2353INSPEcT 1.39.1  (landing page)Stefano de Pretis  OK    OK    OK  
1060/2353INTACT 1.9.0  (landing page)Jeffrey Okamoto  OK    OK    OK  
1061/2353InTAD 1.29.1  (landing page)Konstantin Okonechnikov  OK    OK    OK  
1062/2353intansv 1.49.0  (landing page)Wen Yao  OK    OK    OK  
1063/2353interacCircos 1.19.0  (landing page)Zhe Cui  OK    OK    OK  
1064/2353InteractionSet 1.37.1  (landing page)Aaron Lun  OK    OK    OK  
1065/2353InteractiveComplexHeatmap 1.17.0  (landing page)Zuguang Gu  OK    OK    OK  
1066/2353interactiveDisplay 1.47.1  (landing page)Bioconductor Package Maintainer  OK    OK    OK  
1067/2353interactiveDisplayBase 1.47.1  (landing page)Bioconductor Package Maintainer  OK    OK    OK  
1068/2353InterCellar 2.15.0  (landing page)Marta Interlandi  OK    OK    OK  
1069/2353IntEREst 1.33.0  (landing page)Ali Oghabian  OK    OK    OK  
1070/2353IntramiRExploreR 1.31.0  (landing page)Surajit Bhattacharya  OK    OK    WARNINGS  
1071/2353IONiseR 2.33.0  (landing page)Mike Smith  OK    OK    OK  
1072/2353iPath 1.15.0  (landing page)Kenong Su  OK    ERROR  skipped
1073/2353ipdDb 1.27.0  (landing page)Steffen Klasberg  OK    OK    OK  
1074/2353IPO 1.35.0  (landing page)Thomas Lieb  OK    OK    OK  
1075/2353IRanges 2.43.5  (landing page)Hervé Pagès  OK    OK    WARNINGS  
1076/2353ISAnalytics 1.19.3  (landing page)Francesco Gazzo  OK    OK    OK  
1077/2353iSEE 2.21.1  (landing page)Kevin Rue-Albrecht  OK    OK    OK  
1078/2353iSEEde 1.7.0  (landing page)Kevin Rue-Albrecht  OK    OK    OK  
1079/2353iSEEfier 1.5.0  (landing page)Najla Abassi  OK    OK    OK  
1080/2353iSEEhex 1.11.0  (landing page)Kevin Rue-Albrecht  OK    OK    OK  
1081/2353iSEEhub 1.11.0  (landing page)Kevin Rue-Albrecht  OK    OK    OK  
1082/2353iSEEindex 1.7.0  (landing page)Kevin Rue-Albrecht  OK    OK    OK  
1083/2353iSEEpathways 1.7.0  (landing page)Kevin Rue-Albrecht  OK    OK    OK  
1084/2353iSEEtree 1.3.2  (landing page)Giulio Benedetti  OK    OK    OK  
1085/2353iSEEu 1.21.0  (landing page)Kevin Rue-Albrecht  OK    OK    WARNINGS  
1086/2353iSeq 1.61.0  (landing page)Qianxing Mo  OK    OK    OK  
1087/2353ISLET 1.11.0  (landing page)Hao Feng  OK    OK    OK  
1088/2353islify 1.1.1  (landing page)Jakob Theorell  OK    OK    OK  
1089/2353isobar 1.55.0  (landing page)Florian P Breitwieser  OK    OK    WARNINGS  
1090/2353IsoBayes 1.7.1  (landing page)Simone Tiberi  OK    OK    OK  
1091/2353IsoCorrectoR 1.27.0  (landing page)Christian Kohler  OK    OK    OK  
1092/2353IsoCorrectoRGUI 1.25.0  (landing page)Christian Kohler  OK    OK    OK  
1093/2353IsoformSwitchAnalyzeR 2.9.1  (landing page)Kristoffer Vitting-Seerup  OK    OK    OK  
1094/2353ISoLDE 1.37.0  (landing page)Christelle Reynès  OK    OK    WARNINGS  
1095/2353isomiRs 1.37.1  (landing page)Lorena Pantano  OK    OK    ERROR  
1096/2353ITALICS 2.69.0  (landing page)Guillem Rigaill  OK    OK    OK  
1097/2353iterativeBMA 1.67.0  (landing page)Ka Yee Yeung  OK    OK    OK  
1098/2353iterativeBMAsurv 1.67.0  (landing page)Ka Yee Yeung  OK    OK    WARNINGS  
1099/2353IVAS 2.29.1  (landing page)Seonggyun Han  OK    OK    WARNINGS  
1100/2353ivygapSE 1.31.0  (landing page)VJ Carey  OK    OK    OK  
1101/2353IWTomics 1.33.0  (landing page)Marzia A Cremona  OK    OK    WARNINGS  
J
ABCDEFGHIJKLMNOPQRSTUVWXYZ
PackageMaintainerINSTALLBUILDCHECKBUILD BIN
1102/2353jazzPanda 1.1.3  (landing page)Melody Jin  OK    OK    ERROR  
K
ABCDEFGHIJKLMNOPQRSTUVWXYZ
PackageMaintainerINSTALLBUILDCHECKBUILD BIN
1103/2353karyoploteR 1.35.3  (landing page)Bernat Gel  OK    OK    OK  
1104/2353katdetectr 1.11.1  (landing page)Daan Hazelaar  OK    OK    OK  
1105/2353KBoost 1.17.0  (landing page)Luis F. Iglesias-Martinez  OK    OK    OK  
1106/2353KCsmart 2.67.0  (landing page)Jorma de Ronde  OK    OK    WARNINGS  
1107/2353kebabs 1.43.1  (landing page)Ulrich Bodenhofer  OK    OK    WARNINGS  
1108/2353KEGGgraph 1.69.0  (landing page)Jitao David Zhang  OK    OK    OK  
1109/2353KEGGlincs 1.35.0  (landing page)Shana White , Mario Medvedovic  OK    OK    OK  
1110/2353keggorthology 2.61.0  (landing page)VJ Carey  OK    OK    OK  
1111/2353KEGGREST 1.49.2  (landing page)Bioconductor Package Maintainer  OK    OK    OK  
1112/2353KinSwingR 1.27.0  (landing page)Ashley J. Waardenberg  OK    OK    OK  
1113/2353kissDE 1.29.0  (landing page)Aurélie Siberchicot  OK    OK    OK  
1114/2353kmcut 1.3.0  (landing page)Igor Kuznetsov  OK    OK    OK  
1115/2353KnowSeq 1.23.0  (landing page)Daniel Castillo-Secilla  OK    OK    OK  
1116/2353knowYourCG 1.5.2  (landing page)Goldberg David  OK    OK    OK  
1117/2353koinar 1.3.0  (landing page)Ludwig Lautenbacher  OK    OK    OK  
L
ABCDEFGHIJKLMNOPQRSTUVWXYZ
PackageMaintainerINSTALLBUILDCHECKBUILD BIN
1118/2353LACE 2.13.1  (landing page)Davide Maspero  OK    OK    OK  
1119/2353lapmix 1.75.0  (landing page)Yann Ruffieux  ERROR    ERROR  skipped
1120/2353LBE 1.77.0  (landing page)Cyril Dalmasso  OK    OK    OK  
1121/2353ldblock 1.39.1  (landing page)VJ Carey  OK    OK    OK  
1122/2353LEA 3.21.0  (landing page)Olivier Francois  OK    OK    OK  
1123/2353LedPred 1.43.0  (landing page)Aitor Gonzalez  OK    OK    WARNINGS  
1124/2353lefser 1.19.1  (landing page)Sehyun Oh  OK    OK    OK  
1125/2353lemur 1.7.1  (landing page)Constantin Ahlmann-Eltze  OK    OK    WARNINGS  
1126/2353les 1.59.0  (landing page)Julian Gehring  OK    OK    OK  
1127/2353levi 1.27.0  (landing page)Jose Luiz Rybarczyk Filho  OK    OK    OK  
1128/2353lfa 2.9.0  (landing page)Alejandro Ochoa  OK    OK    OK  
1129/2353Lheuristic 1.1.0  (landing page)Sanchez Pla Alex  OK    OK    OK  
1130/2353limma 3.65.5  (landing page)Gordon Smyth  OK    OK    OK  
1131/2353limmaGUI 1.85.0  (landing page)Gordon Smyth  OK    OK    OK  
1132/2353limpa 1.1.7  (landing page)Gordon Smyth  OK    OK    OK  
1133/2353limpca 1.5.1  (landing page)Manon Martin  OK    OK    OK  
1134/2353LimROTS 1.1.4  (landing page)Ali Mostafa Anwar  OK    OK    OK  
1135/2353lineagespot 1.13.0  (landing page)Nikolaos Pechlivanis  OK    OK    OK  
1136/2353LinkHD 1.23.0  (landing page)"Laura M Zingaretti"  OK    OK    OK  
1137/2353linkSet 0.99.19  (landing page)Gilbert Han  OK    OK    WARNINGS  
1138/2353Linnorm 2.33.0  (landing page)Shun Hang Yip  OK    OK    OK  
1139/2353LinTInd 1.13.1  (landing page)Luyue Wang  OK    ERROR  skipped
1140/2353lionessR 1.23.0  (landing page)Ping-Han Hsieh  OK    OK    OK  
1141/2353lipidr 2.23.0  (landing page)Ahmed Mohamed  OK    OK    OK  
1142/2353LipidTrend 0.99.2  (landing page)Wei-Chung Cheng  OK    OK    OK  
1143/2353LiquidAssociation 1.63.0  (landing page)Yen-Yi Ho  OK    OK    OK  
1144/2353lisaClust 1.17.0  (landing page)Ellis Patrick  OK    OK    OK  
1145/2353lmdme 1.51.0  (landing page)Cristobal Fresno  OK    OK    WARNINGS  
1146/2353LOBSTAHS 1.35.1  (landing page)Henry Holm  OK    OK    OK  
1147/2353loci2path 1.29.1  (landing page)Tianlei Xu  OK    OK    OK  
1148/2353logicFS 2.29.0  (landing page)Holger Schwender  OK    OK    OK  
1149/2353LOLA 1.39.1  (landing page)Nathan Sheffield  OK    OK    OK  
1150/2353looking4clusters 0.99.4  (landing page)David Barrios  OK    ERROR  skipped
1151/2353LoomExperiment 1.27.0  (landing page)Bioconductor Package Maintainer  OK    OK    OK  
1152/2353LPE 1.83.0  (landing page)Nitin Jain  OK    OK    OK  
1153/2353lpNet 2.41.0  (landing page)Lars Kaderali  OK    OK    WARNINGS  
1154/2353lpsymphony 1.37.0  (landing page)Vladislav Kim  OK    OK    WARNINGS  
1155/2353LRBaseDbi 2.19.1  (landing page)Koki Tsuyuzaki  OK    OK    OK  
1156/2353LRcell 1.17.0  (landing page)Wenjing Ma  OK    OK    OK  
1157/2353lumi 2.61.0  (landing page)Lei Huang  OK    OK    WARNINGS  
1158/2353lute 1.5.1  (landing page)Sean K Maden  OK    OK    OK  
1159/2353LymphoSeq 1.37.0  (landing page)David Coffey  OK    OK    OK  
M
ABCDEFGHIJKLMNOPQRSTUVWXYZ
PackageMaintainerINSTALLBUILDCHECKBUILD BIN
1160/2353M3C 1.31.0  (landing page)Christopher John  OK    OK    OK  
1161/2353M3Drop 1.35.0  (landing page)Tallulah Andrews  OK    OK    OK  
1162/2353m6Aboost 1.15.1  (landing page)You Zhou  OK    ERROR  skipped
1163/2353Maaslin2 1.23.0  (landing page)Lauren McIver  OK    ERROR  skipped
1164/2353maaslin3 1.1.2  (landing page)William Nickols  OK    OK    OK  
1165/2353Macarron 1.13.2  (landing page)Sagun Maharjan  OK    ERROR  skipped
1166/2353maCorrPlot 1.79.0  (landing page)Alexander Ploner  OK    OK    OK  
1167/2353MACSQuantifyR 1.23.0  (landing page)Raphaël Bonnet  OK    OK    OK  
1168/2353MACSr 1.17.0  (landing page)Qiang Hu  OK    OK    OK  
1169/2353made4 1.83.0  (landing page)Aedin Culhane  OK    OK    OK  
1170/2353MADSEQ 1.35.1  (landing page)Yu Kong  ERROR    ERROR  skipped
1171/2353maftools 2.25.10  (landing page)Anand Mayakonda  OK    OK    WARNINGS  
1172/2353MAGAR 1.17.0  (landing page)Michael Scherer  OK    OK    OK  
1173/2353magpie 1.9.0  (landing page)Daoyu Duan  OK    OK    WARNINGS  
1174/2353magrene 1.11.0  (landing page)Fabrício Almeida-Silva  OK    OK    OK  
1175/2353MAI 1.15.0  (landing page)Jonathan Dekermanjian  OK    OK    OK  
1176/2353MAIT 1.43.0  (landing page)Pol Sola-Santos  OK    OK    OK  
1177/2353makecdfenv 1.85.0  (landing page)James W. MacDonald  OK    OK    OK  
1178/2353MANOR 1.81.0  (landing page)Pierre Neuvial  OK    OK    OK  
1179/2353MantelCorr 1.79.0  (landing page)Brian Steinmeyer  OK    OK    OK  
1180/2353MAPFX 1.5.0  (landing page)Hsiao-Chi Liao  OK    OK    OK  
1181/2353maPredictDSC 1.47.0  (landing page)Adi Laurentiu Tarca  OK    TIMEOUT  skipped
1182/2353mapscape 1.33.0  (landing page)Maia Smith  OK    OK    WARNINGS  
1183/2353mariner 1.9.1  (landing page)Eric Davis  OK    ERROR  skipped
1184/2353markeR 0.99.6  (landing page)Rita Martins-Silva  OK    OK    OK  
1185/2353marr 1.19.0  (landing page)Tusharkanti Ghosh  OK    OK    OK  
1186/2353marray 1.87.0  (landing page)Yee Hwa (Jean) Yang  OK    OK    OK  
1187/2353martini 1.29.0  (landing page)Hector Climente-Gonzalez  OK    OK    ERROR  
1188/2353maser 1.27.1  (landing page)Diogo F.T. Veiga  OK    OK    OK  
1189/2353maSigPro 1.81.0  (landing page)Maria Jose Nueda  OK    OK    OK  
1190/2353maskBAD 1.53.0  (landing page)Michael Dannemann  OK    OK    OK  
1191/2353MassArray 1.61.0  (landing page)Reid F. Thompson  OK    OK    OK  
1192/2353massiR 1.45.0  (landing page)Sam Buckberry  OK    OK    OK  
1193/2353MassSpecWavelet 1.75.1  (landing page)Sergio Oller Moreno  OK    OK    OK  
1194/2353MAST 1.35.2  (landing page)Andrew McDavid  OK    OK    WARNINGS  
1195/2353mastR 1.9.1  (landing page)Jinjin Chen  OK    TIMEOUT  skipped
1196/2353matchBox 1.51.0  (landing page)Luigi Marchionni , Anuj Gupta  OK    OK    OK  
1197/2353MatrixGenerics 1.21.0  (landing page)Peter Hickey  OK    OK    OK  
1198/2353MatrixQCvis 1.17.1  (landing page)Thomas Naake  OK    OK    OK  
1199/2353MatrixRider 1.41.0  (landing page)Elena Grassi  OK    OK    WARNINGS  
1200/2353matter 2.11.2  (landing page)Kylie A. Bemis  OK    OK    OK  
1201/2353MBAmethyl 1.43.0  (landing page)Tao Wang  OK    OK    OK  
1202/2353MBASED 1.43.0  (landing page)Oleg Mayba  OK    OK    OK  
1203/2353MBCB 1.63.0  (landing page)Bo Yao  OK    OK    OK  
1204/2353MBECS 1.13.0  (landing page)Michael Olbrich  OK    OK    OK  
1205/2353mbkmeans 1.25.0  (landing page)Davide Risso  OK    OK    OK  
1206/2353mBPCR 1.63.0  (landing page)P.M.V. Rancoita  OK    OK    OK  
1207/2353MBQN 2.21.0  (landing page)Eva Brombacher  OK    OK    OK  
1208/2353mbQTL 1.9.0  (landing page)Mercedeh Movassagh  OK    OK    OK  
1209/2353MBttest 1.37.0  (landing page)Yuan-De Tan  OK    OK    OK  
1210/2353MCbiclust 1.33.0  (landing page)Robert Bentham  OK    OK    OK  
1211/2353mCSEA 1.29.0  (landing page)Jordi Martorell-Marugán  OK    ERROR  skipped
1212/2353mdp 1.29.0  (landing page)Helder Nakaya  OK    OK    OK  
1213/2353mdqc 1.71.0  (landing page)Gabriela Cohen-Freue  OK    OK    OK  
1214/2353MDTS 1.29.0  (landing page)Jack M.. Fu  OK    OK    OK  
1215/2353MEAL 1.39.0  (landing page)Xavier Escribà Montagut  OK    OK    WARNINGS  
1216/2353MeasurementError.cor 1.81.0  (landing page)Beiying Ding  OK    OK    OK  
1217/2353MEAT 1.21.0  (landing page)Sarah Voisin  OK    OK    WARNINGS  
1218/2353MEB 1.23.1  (landing page)Jiadi Zhu  OK    OK    OK  
1219/2353MEDIPS 1.61.0  (landing page)Lukas Chavez  OK    OK    OK  
1220/2353MEDME 1.69.0  (landing page)Mattia Pelizzola  OK    ERROR  skipped
1221/2353megadepth 1.19.0  (landing page)David Zhang  OK    ERROR  skipped
1222/2353MEIGOR 1.43.0  (landing page)Jose A. Egea  OK    OK    OK  
1223/2353Melissa 1.25.0  (landing page)C. A. Kapourani  OK    OK    OK  
1224/2353memes 1.17.2  (landing page)Spencer Nystrom  OK    OK    ERROR  
1225/2353Mergeomics 1.37.0  (landing page)Zeyneb Kurt  OK    OK    OK  
1226/2353MeSHDbi 1.45.0  (landing page)Koki Tsuyuzaki  OK    OK    OK  
1227/2353meshes 1.35.0  (landing page)Guangchuang Yu  OK    OK    OK  
1228/2353meshr 2.15.0  (landing page)Koki Tsuyuzaki  OK    OK    OK  
1229/2353MesKit 1.19.0  (landing page)Mengni Liu  OK    OK    WARNINGS  
1230/2353messina 1.45.0  (landing page)Mark Pinese  OK    OK    WARNINGS  
1231/2353metabCombiner 1.19.0  (landing page)Hani Habra  OK    OK    OK  
1232/2353metabinR 1.11.0  (landing page)Anestis Gkanogiannis  OK    OK    OK  
1233/2353MetaboAnnotation 1.13.3  (landing page)Johannes Rainer  OK    OK    OK  
1234/2353MetaboCoreUtils 1.17.1  (landing page)Johannes Rainer  OK    OK    OK  
1235/2353MetaboDynamics 1.1.10  (landing page)Katja Danielzik  OK    OK    WARNINGS  
1236/2353metabolomicsWorkbenchR 1.19.0  (landing page)Gavin Rhys Lloyd  OK    OK    OK  
1237/2353metabomxtr 1.43.0  (landing page)Michael Nodzenski  OK    OK    OK  
1238/2353MetaboSignal 1.39.0  (landing page)Andrea Rodriguez-Martinez  OK    OK    OK  
1239/2353metaCCA 1.37.0  (landing page)Anna Cichonska  OK    OK    WARNINGS  
1240/2353MetaCyto 1.31.0  (landing page)Zicheng Hu  OK    OK    OK  
1241/2353MetaDICT 0.99.4  (landing page)Bo Yuan  OK    OK    OK  
1242/2353metagene2 1.25.0  (landing page)Eric Fournier  OK    OK    WARNINGS  
1243/2353metagenomeSeq 1.51.0  (landing page)Joseph N. Paulson  OK    OK    OK  
1244/2353metahdep 1.67.0  (landing page)John R. Stevens  ERROR    ERROR  skipped
1245/2353metaMS 1.45.0  (landing page)Yann Guitton  OK    OK    OK  
1246/2353MetaNeighbor 1.29.0  (landing page)Stephan Fischer  OK    OK    ERROR  
1247/2353MetaPhOR 1.11.0  (landing page)Emily Isenhart  OK    OK    OK  
1248/2353metapod 1.17.0  (landing page)Aaron Lun  OK    OK    OK  
1249/2353metapone 1.15.0  (landing page)Tianwei Yu  OK    TIMEOUT  skipped
1250/2353metaSeq 1.49.0  (landing page)Koki Tsuyuzaki  OK    OK    OK  
1251/2353metaseqR2 1.21.2  (landing page)Panagiotis Moulos  OK    OK    OK  
1252/2353MetCirc 1.39.0  (landing page)Thomas Naake  OK    OK    OK  
1253/2353methimpute 1.31.0  (landing page)Aaron Taudt  OK    OK    WARNINGS  
1254/2353methInheritSim 1.31.1  (landing page)Pascal Belleau  OK    OK    OK  
1255/2353methodical 1.5.1  (landing page)Richard Heery  OK    ERROR  skipped
1256/2353MethPed 1.37.0  (landing page)Helena Carén  OK    OK    OK  
1257/2353MethReg 1.19.0  (landing page)Tiago Silva  OK    OK    OK  
1258/2353methrix 1.23.1  (landing page)Anand Mayakonda  OK    OK    ERROR  
1259/2353MethTargetedNGS 1.41.0  (landing page)Muhammad Ahmer Jamil  OK    OK    OK  
1260/2353MethylAid 1.43.0  (landing page)L.J.Sinke  OK    OK    OK  
1261/2353methylCC 1.23.0  (landing page)Stephanie C. Hicks  OK    OK    OK  
1262/2353methylclock 1.15.0  (landing page)Dolors Pelegri-Siso  OK    OK    OK  
1263/2353methylGSA 1.27.0  (landing page)Xu Ren  OK    OK    OK  
1264/2353methyLImp2 1.5.0  (landing page)Anna Plaksienko  OK    OK    OK  
1265/2353methylInheritance 1.33.1  (landing page)Astrid Deschênes  OK    OK    OK  
1266/2353methylKit 1.35.1  (landing page)Altuna Akalin , Alexander Blume  OK    OK    OK  
1267/2353MethylMix 2.39.0  (landing page)Olivier Gevaert  OK    OK    OK  
1268/2353methylMnM 1.47.0  (landing page)Yan Zhou  OK    OK    OK  
1269/2353methylPipe 1.43.1  (landing page)Mattia Furlan  OK    ERROR  skipped
1270/2353methylscaper 1.17.0  (landing page)Bacher Rhonda  OK    OK    OK  
1271/2353MethylSeekR 1.49.3  (landing page)Lukas Burger  OK    OK    OK  
1272/2353methylSig 1.21.2  (landing page)Raymond G. Cavalcante  OK    OK    OK  
1273/2353methylumi 2.55.0  (landing page)Sean Davis  OK    OK    OK  
1274/2353MetID 1.27.0  (landing page)Zhenzhi Li  OK    OK    OK  
1275/2353MetMashR 1.3.3  (landing page)Gavin Rhys Lloyd  OK    OK    OK  
1276/2353MetNet 1.27.2  (landing page)Thomas Naake  OK    ERROR  skipped
1277/2353mfa 1.31.0  (landing page)Kieran Campbell  OK    ERROR  skipped
1278/2353Mfuzz 2.69.0  (landing page)Matthias Futschik  OK    OK    OK  
1279/2353MGFM 1.43.0  (landing page)Khadija El Amrani  OK    OK    OK  
1280/2353MGFR 1.35.0  (landing page)Khadija El Amrani  OK    ERROR  skipped
1281/2353MGnifyR 1.5.1  (landing page)Tuomas Borman  OK    OK    OK  
1282/2353mgsa 1.57.0  (landing page)Sebastian Bauer  OK    OK    WARNINGS  
1283/2353mia 1.17.10  (landing page)Tuomas Borman  OK    OK    TIMEOUT  
1284/2353miaDash 1.1.5  (landing page)Giulio Benedetti  OK    OK    OK  
1285/2353miaSim 1.15.1  (landing page)Yagmur Simsek  OK    OK    OK  
1286/2353miaTime 0.99.13  (landing page)Tuomas Borman  OK    OK    OK  
1287/2353miaViz 1.17.10  (landing page)Tuomas Borman  OK    OK    OK  
1288/2353MiChip 1.63.0  (landing page)Jonathon Blake  OK    OK    OK  
1289/2353microbiome 1.31.4  (landing page)Leo Lahti  OK    OK    OK  
1290/2353microbiomeDASim 1.23.0  (landing page)Justin Williams  OK    OK    OK  
1291/2353microbiomeExplorer 1.19.0  (landing page)Janina Reeder  OK    OK    OK  
1292/2353MicrobiomeProfiler 1.15.0  (landing page)Guangchuang Yu  OK    OK    OK  
1293/2353MicrobiotaProcess 1.21.2  (landing page)Shuangbin Xu  OK    OK    OK  
1294/2353microRNA 1.67.0  (landing page)"Michael Lawrence"  OK    OK    OK  
1295/2353microSTASIS 1.9.0  (landing page)Pedro Sánchez-Sánchez  OK    OK    TIMEOUT  
1296/2353MICSQTL 1.7.0  (landing page)Qian Li  OK    OK    OK  
1297/2353midasHLA 1.17.0  (landing page)Maciej Migdał  OK    OK    ERROR  
1298/2353miloR 2.5.2  (landing page)Mike Morgan  OK    OK    WARNINGS  
1299/2353mimager 1.33.0  (landing page)Aaron Wolen  OK    OK    OK  
1300/2353mina 1.17.0  (landing page)Rui Guan  OK    ERROR  skipped
1301/2353MineICA 1.49.0  (landing page)Anne Biton  OK    OK    ERROR  
1302/2353minet 3.67.0  (landing page)Patrick E. Meyer  OK    OK    OK  
1303/2353minfi 1.55.1  (landing page)Kasper Daniel Hansen  OK    OK    OK  
1304/2353MinimumDistance 1.53.1  (landing page)Robert Scharpf  ERROR    ERROR  skipped
1305/2353MiPP 1.81.0  (landing page)Sukwoo Kim  OK    OK    OK  
1306/2353miQC 1.17.0  (landing page)Ariel Hippen  OK    OK    OK  
1307/2353MIRA 1.31.0  (landing page)John Lawson  OK    OK    OK  
1308/2353MiRaGE 1.51.0  (landing page)Y-h. Taguchi  OK    OK    ERROR  
1309/2353miRBaseConverter 1.33.0  (landing page)Taosheng Xu Taosheng Xu  OK    OK    OK  
1310/2353miRcomp 1.39.1  (landing page)Matthew N. McCall  OK    OK    OK  
1311/2353mirIntegrator 1.39.0  (landing page)Diana Diaz  OK    OK    OK  
1312/2353MIRit 1.5.2  (landing page)Jacopo Ronchi  OK    OK    OK  
1313/2353miRLAB 1.39.0  (landing page)Thuc Duy Le  OK    OK    WARNINGS  
1314/2353miRNAmeConverter 1.37.0  (landing page)Stefan J. Haunsberger  OK    OK    WARNINGS  
1315/2353miRNApath 1.69.0  (landing page)James M. Ward  OK    OK    OK  
1316/2353miRNAtap 1.43.0  (landing page)T. Ian Simpson  OK    OK    OK  
1317/2353miRSM 2.5.4  (landing page)Junpeng Zhang  OK    OK    OK  
1318/2353miRspongeR 2.13.5  (landing page)Junpeng Zhang  OK    OK    OK  
1319/2353mirTarRnaSeq 1.17.0  (landing page)Mercedeh Movassagh  OK    OK    OK  
1320/2353missMethyl 1.43.1  (landing page)Belinda Phipson  OK    OK    WARNINGS  
1321/2353missRows 1.29.0  (landing page)Gonzalez Ignacio  OK    OK    OK  
1322/2353mist 1.1.0  (landing page)Daoyu Duan  OK    OK    WARNINGS  
1323/2353mistyR 1.17.0  (landing page)Jovan Tanevski  OK    OK    ERROR  
1324/2353mitch 1.21.3  (landing page)Mark Ziemann  OK    OK    OK  
1325/2353mitoClone2 1.15.1  (landing page)Benjamin Story  OK    OK    WARNINGS  
1326/2353mitology 1.1.0  (landing page)Stefania Pirrotta  OK    OK    OK  
1327/2353mixOmics 6.33.0  (landing page)Eva Hamrud  OK    OK    ERROR  
1328/2353MLInterfaces 1.89.2  (landing page)Vincent Carey  OK    OK    WARNINGS  
1329/2353MLP 1.57.0  (landing page)Tobias Verbeke  OK    OK    OK  
1330/2353MLSeq 2.27.0  (landing page)Gokmen Zararsiz  OK    OK    OK  
1331/2353MMDiff2 1.37.1  (landing page)Gabriele Schweikert  OK    OK    OK  
1332/2353MMUPHin 1.23.0  (landing page)Siyuan MA  OK    OK    OK  
1333/2353mnem 1.25.0  (landing page)Martin Pirkl  OK    OK    WARNINGS  
1334/2353moanin 1.17.0  (landing page)Nelle Varoquaux  OK    OK    OK  
1335/2353mobileRNA 1.5.1  (landing page)Katie Jeynes-Cupper  OK    OK    OK  
1336/2353MODA 1.35.0  (landing page)Dong Li  OK    OK    OK  
1337/2353ModCon 1.17.0  (landing page)Johannes Ptok  OK    OK    OK  
1338/2353Modstrings 1.25.0  (landing page)Felix G.M. Ernst  OK    OK    OK  
1339/2353MOFA2 1.19.0  (landing page)Ricard Argelaguet  OK    ERROR  skipped
1340/2353MOGAMUN 1.19.0  (landing page)Elva-María Novoa-del-Toro  OK    OK    OK  
1341/2353mogsa 1.43.0  (landing page)Chen Meng  OK    OK    OK  
1342/2353MoleculeExperiment 1.9.0  (landing page)Shila Ghazanfar  OK    OK    OK  
1343/2353MOMA 1.21.0  (landing page)Sunny Jones  OK    OK    OK  
1344/2353monaLisa 1.15.3  (landing page)Michael Stadler  OK    ERROR  skipped
1345/2353monocle 2.37.0  (landing page)Cole Trapnell  OK    OK    OK  
1346/2353Moonlight2R 1.7.4  (landing page)Matteo Tiberti  OK    OK    OK  
1347/2353MoonlightR 1.35.0  (landing page)Matteo Tiberti  OK    OK    OK  
1348/2353mosaics 2.47.1  (landing page)Dongjun Chung  OK    OK    OK  
1349/2353mosbi 1.15.0  (landing page)Tim Daniel Rose  OK    ERROR  skipped
1350/2353MOSClip 1.3.3  (landing page)Paolo Martini  OK    OK    OK  
1351/2353mosdef 1.5.1  (landing page)Federico Marini  OK    OK    OK  
1352/2353MOSim 2.5.0  (landing page)Sonia Tarazona  OK    OK    WARNINGS  
1353/2353Motif2Site 1.13.0  (landing page)Peyman Zarrineh  OK    OK    ERROR  
1354/2353motifbreakR 2.23.0  (landing page)Simon Gert Coetzee  OK    OK    ERROR  
1355/2353motifcounter 1.33.0  (landing page)Wolfgang Kopp  OK    OK    ERROR  
1356/2353MotifDb 1.51.0  (landing page)Paul Shannon  OK    OK    WARNINGS  
1357/2353motifmatchr 1.31.1  (landing page)Alicia Schep  OK    OK    OK  
1358/2353MotifPeeker 1.1.3  (landing page)Hiranyamaya Dash  OK    OK    TIMEOUT  
1359/2353motifStack 1.53.0  (landing page)Jianhong Ou  OK    OK    OK  
1360/2353motifTestR 1.5.3  (landing page)Stevie Pederson  OK    OK    OK  
1361/2353MouseFM 1.19.1  (landing page)Matthias Munz  OK    OK    ERROR  
1362/2353MPAC 1.3.1  (landing page)Peng Liu  OK    OK    ERROR  
1363/2353MPFE 1.45.0  (landing page)Conrad Burden  OK    OK    OK  
1364/2353mpra 1.31.0  (landing page)Leslie Myint  OK    OK    OK  
1365/2353MPRAnalyze 1.27.0  (landing page)Tal Ashuach  OK    OK    OK  
1366/2353msa 1.41.3  (landing page)Ulrich Bodenhofer  OK    OK    WARNINGS  
1367/2353MSA2dist 1.13.0  (landing page)Kristian K Ullrich  OK    OK    OK  
1368/2353MsBackendMassbank 1.17.1  (landing page)RforMassSpectrometry Package Maintainer  OK    OK    OK  
1369/2353MsBackendMetaboLights 1.3.1  (landing page)Johannes Rainer  OK    OK    TIMEOUT  
1370/2353MsBackendMgf 1.17.0  (landing page)RforMassSpectrometry Package Maintainer  OK    OK    OK  
1371/2353MsBackendMsp 1.13.0  (landing page)Johannes Rainer  OK    OK    OK  
1372/2353MsBackendRawFileReader 1.15.1  (landing page)Christian Panse  OK    ERROR  skipped
1373/2353MsBackendSql 1.9.3  (landing page)Johannes Rainer  OK    OK    OK  
1374/2353MsCoreUtils 1.21.0  (landing page)RforMassSpectrometry Package Maintainer  OK    OK    OK  
1375/2353MsDataHub 1.9.0  (landing page)Laurent Gatto  OK    ERROR  skipped
1376/2353MsExperiment 1.11.1  (landing page)Laurent Gatto  OK    OK    OK  
1377/2353MsFeatures 1.17.1  (landing page)Johannes Rainer  OK    OK    OK  
1378/2353msgbsR 1.33.1  (landing page)Benjamin Mayne  OK    ERROR  skipped
1379/2353msImpute 1.19.0  (landing page)Soroor Hediyeh-zadeh  OK    OK    OK  
1380/2353mslp 1.11.0  (landing page)Chunxuan Shao  OK    OK    ERROR  
1381/2353msmsEDA 1.47.0  (landing page)Josep Gregori  OK    OK    OK  
1382/2353msmsTests 1.47.0  (landing page)Josep Gregori i Font  OK    OK    OK  
1383/2353MSnbase 2.35.2  (landing page)Laurent Gatto  OK    OK    OK  
1384/2353MSnID 1.43.0  (landing page)Vlad Petyuk  OK    OK    ERROR  
1385/2353mspms 1.1.0  (landing page)Charlie Bayne  OK    OK    OK  
1386/2353MSPrep 1.19.0  (landing page)Max McGrath  OK    OK    ERROR  
1387/2353msPurity 1.35.0  (landing page)Thomas N. Lawson  OK    OK    OK  
1388/2353msqrob2 1.17.1  (landing page)Lieven Clement  OK    OK    OK  
1389/2353MsQuality 1.9.2  (landing page)Thomas Naake  OK    OK    TIMEOUT  
1390/2353MSstats 4.17.2  (landing page)Meena Choi  OK    OK    WARNINGS  
1391/2353MSstatsBig 1.7.0  (landing page)Mateusz Staniak  OK    OK    OK  
1392/2353MSstatsBioNet 1.1.7  (landing page)Anthony Wu  OK    OK    OK  
1393/2353MSstatsConvert 1.19.3  (landing page)Mateusz Staniak  OK    OK    OK  
1394/2353MSstatsLiP 1.15.3  (landing page)Anthony Wu  OK    OK    OK  
1395/2353MSstatsLOBD 1.17.0  (landing page)Devon Kohler  OK    OK    OK  
1396/2353MSstatsPTM 2.11.5  (landing page)Anthony Wu  OK    OK    WARNINGS  
1397/2353MSstatsQC 2.27.0  (landing page)Eralp Dogu  OK    OK    OK  
1398/2353MSstatsQCgui 1.29.0  (landing page)Eralp Dogu  OK    OK    OK  
1399/2353MSstatsShiny 1.11.5  (landing page)Anthony Wu  OK    OK    WARNINGS  
1400/2353MSstatsTMT 2.17.0  (landing page)Devon Kohler  OK    OK    OK  
1401/2353MuData 1.13.0  (landing page)Ilia Kats  OK    OK    OK  
1402/2353Mulcom 1.59.0  (landing page)Claudio Isella  OK    OK    WARNINGS  
1403/2353MultiAssayExperiment 1.35.9  (landing page)Marcel Ramos  OK    OK    OK  
1404/2353MultiBaC 1.19.0  (landing page)The package maintainer  OK    OK    OK  
1405/2353multiClust 1.39.0  (landing page)Nathan Lawlor  OK    OK    OK  
1406/2353multicrispr 1.19.1  (landing page)Aditya Bhagwat  OK    ERROR  skipped
1407/2353MultiDataSet 1.37.0  (landing page)Xavier Escribà Montagut  OK    OK    ERROR  
1408/2353multiGSEA 1.19.0  (landing page)Sebastian Canzler  OK    TIMEOUT  skipped
1409/2353multiHiCcompare 1.27.0  (landing page)Mikhail Dozmorov  OK    OK    OK  
1410/2353MultiMed 2.31.0  (landing page)Simina M. Boca  OK    OK    OK  
1411/2353multiMiR 1.31.0  (landing page)Spencer Mahaffey  OK    OK    OK  
1412/2353MultimodalExperiment 1.9.0  (landing page)Lucas Schiffer  OK    OK    OK  
1413/2353MultiRNAflow 1.7.1  (landing page)Rodolphe Loubaton  OK    ERROR  skipped
1414/2353multiscan 1.69.0  (landing page)Mizanur Khondoker  OK    OK    OK  
1415/2353multistateQTL 2.1.2  (landing page)Amelia Dunstone  OK    OK    OK  
1416/2353multiWGCNA 1.7.0  (landing page)Dario Tommasini  OK    OK    ERROR  
1417/2353multtest 2.65.0  (landing page)Katherine S. Pollard  OK    OK    WARNINGS  
1418/2353mumosa 1.17.0  (landing page)Aaron Lun  OK    OK    OK  
1419/2353MungeSumstats 1.17.5  (landing page)Alan Murphy  OK    ERROR  skipped
1420/2353muscat 1.23.2  (landing page)Helena L. Crowell  OK    OK    OK  
1421/2353muscle 3.51.0  (landing page)Alex T. Kalinka  OK    OK    WARNINGS  
1422/2353musicatk 2.3.2  (landing page)Joshua D. Campbell  ERROR    ERROR  skipped
1423/2353MutationalPatterns 3.19.1  (landing page)Mark van Roosmalen  OK    OK    ERROR  
1424/2353mutscan 0.99.2  (landing page)Charlotte Soneson  OK    OK    OK  
1425/2353MVCClass 1.83.0  (landing page)Elizabeth Whalen  OK    OK    OK  
1426/2353MWASTools 1.33.0  (landing page)Andrea Rodriguez-Martinez , Rafael Ayala  OK    OK    OK  
1427/2353mygene 1.45.0  (landing page)Adam Mark, Cyrus Afrasiabi, Chunlei Wu  OK    OK    OK  
1428/2353myvariant 1.39.1  (landing page)Adam Mark, Chunlei Wu  OK    OK    OK  
1429/2353mzID 1.47.0  (landing page)Laurent Gatto  OK    OK    OK  
1430/2353mzR 2.43.3  (landing page)Steffen Neumann  OK    OK    WARNINGS  
N
ABCDEFGHIJKLMNOPQRSTUVWXYZ
PackageMaintainerINSTALLBUILDCHECKBUILD BIN
1431/2353NADfinder 1.33.0  (landing page)Jianhong Ou  OK    ERROR  skipped
1432/2353NanoMethViz 3.5.6  (landing page)Shian Su  OK    OK    OK  
1433/2353NanoStringDiff 1.39.0  (landing page)tingting zhai ,hong wang  OK    OK    WARNINGS  
1434/2353NanoStringNCTools 1.17.2  (landing page)Maddy Griswold  OK    OK    OK  
1435/2353NanoTube 1.15.0  (landing page)Caleb Class  OK    OK    OK  
1436/2353NBAMSeq 1.25.0  (landing page)Xu Ren  OK    OK    OK  
1437/2353ncdfFlow 2.55.0  (landing page)Mike Jiang  OK    OK    WARNINGS  
1438/2353ncGTW 1.23.0  (landing page)Chiung-Ting Wu  OK    OK    OK  
1439/2353NCIgraph 1.57.0  (landing page)Laurent Jacob  OK    OK    OK  
1440/2353ncRNAtools 1.19.0  (landing page)Lara Selles Vidal  OK    OK    OK  
1441/2353ndexr 1.31.0  (landing page)Florian Auer  OK    OK    OK  
1442/2353nearBynding 1.19.1  (landing page)Veronica Busa  OK    OK    OK  
1443/2353Nebulosa 1.19.0  (landing page)Jose Alquicira-Hernandez  OK    OK    OK  
1444/2353nempi 1.17.0  (landing page)Martin Pirkl  OK    OK    OK  
1445/2353NetActivity 1.11.0  (landing page)Carlos Ruiz-Arenas  OK    OK    OK  
1446/2353netboost 2.17.0  (landing page)Pascal Schlosser  OK    ERROR  skipped
1447/2353nethet 1.41.0  (landing page)Nicolas Staedler  OK    OK    WARNINGS  
1448/2353NetPathMiner 1.45.0  (landing page)Ahmed Mohamed  OK    OK    OK  
1449/2353netprioR 1.35.0  (landing page)Fabian Schmich  OK    OK    OK  
1450/2353netresponse 1.69.0  (landing page)Leo Lahti  OK    OK    OK  
1451/2353NetSAM 1.49.0  (landing page)Zhiao Shi  OK    OK    OK  
1452/2353netSmooth 1.29.0  (landing page)Jonathan Ronen  OK    OK    OK  
1453/2353netZooR 1.13.23  (landing page)Marouen Ben Guebila  ERROR    ERROR  skipped
1454/2353NewWave 1.19.0  (landing page)Federico Agostinis  OK    OK    OK  
1455/2353ngsReports 2.11.1  (landing page)Stevie Pederson  OK    OK    OK  
1456/2353nipalsMCIA 1.7.0  (landing page)Maximilian Mattessich  OK    ERROR  skipped
1457/2353nnNorm 2.73.0  (landing page)Adi Laurentiu Tarca  OK    OK    OK  
1458/2353nnSVG 1.13.1  (landing page)Lukas M. Weber  OK    OK    OK  
1459/2353NOISeq 2.53.0  (landing page)Sonia Tarazona  OK    OK    OK  
1460/2353nondetects 2.39.1  (landing page)Valeriia Sherina  OK    OK    OK  
1461/2353NoRCE 1.21.2  (landing page)Gulden Olgun  OK    OK    OK  
1462/2353normalize450K 1.37.0  (landing page)Jonathan Alexander Heiss  OK    OK    OK  
1463/2353NormalyzerDE 1.27.0  (landing page)Jakob Willforss  OK    OK    WARNINGS  
1464/2353NormqPCR 1.55.0  (landing page)James Perkins  OK    OK    OK  
1465/2353normr 1.35.0  (landing page)Johannes Helmuth  OK    OK    WARNINGS  
1466/2353notame 0.99.7  (landing page)Vilhelm Suksi  OK    OK    OK  
1467/2353notameStats 0.99.1  (landing page)Vilhelm Suksi  OK    OK    OK  
1468/2353notameViz 0.99.5  (landing page)Vilhelm Suksi  OK    OK    OK  
1469/2353NPARC 1.21.0  (landing page)Nils Kurzawa  OK    OK    OK  
1470/2353npGSEA 1.45.0  (landing page)Jessica Larson  OK    OK    OK  
1471/2353NTW 1.59.0  (landing page)Yuanhua Liu  OK    OK    WARNINGS  
1472/2353nucleoSim 1.37.0  (landing page)Astrid Deschênes  OK    OK    OK  
1473/2353nucleR 2.41.1  (landing page)Alba Sala  OK    OK    WARNINGS  
1474/2353nuCpos 1.27.0  (landing page)Hiroaki Kato  OK    OK    OK  
1475/2353nullranges 1.15.1  (landing page)Michael Love  OK    OK    OK  
1476/2353NuPoP 2.17.0  (landing page)Ji-Ping Wang  OK    OK    OK  
O
ABCDEFGHIJKLMNOPQRSTUVWXYZ
PackageMaintainerINSTALLBUILDCHECKBUILD BIN
1477/2353occugene 1.69.0  (landing page)Oliver Will  OK    OK    OK  
1478/2353OCplus 1.83.0  (landing page)Alexander Ploner  OK    OK    OK  
1479/2353octad 1.11.1  (landing page)E. Chekalin  OK    OK    OK  
1480/2353odseq 1.37.0  (landing page)José Jiménez  OK    OK    OK  
1481/2353OGRE 1.13.1  (landing page)Sven Berres  OK    OK    OK  
1482/2353oligo 1.73.0  (landing page)Benilton Carvalho  OK    OK    ERROR  
1483/2353oligoClasses 1.71.0  (landing page)Benilton Carvalho and Robert Scharpf  OK    OK    ERROR  
1484/2353OLIN 1.87.0  (landing page)Matthias Futschik  OK    OK    OK  
1485/2353OLINgui 1.83.0  (landing page)Matthias Futschik  OK    OK    OK  
1486/2353omada 1.11.0  (landing page)Sokratis Kariotis  OK    OK    OK  
1487/2353OmaDB 2.25.0  (landing page)Klara Kaleb , Adrian Altenhoff  OK    OK    ERROR  
1488/2353omicade4 1.49.0  (landing page)Chen Meng  OK    OK    OK  
1489/2353OmicCircos 1.47.0  (landing page)Ying Hu  OK    OK    WARNINGS  
1490/2353omicplotR 1.29.0  (landing page)Daniel Giguere  OK    OK    OK  
1491/2353omicRexposome 1.31.0  (landing page)Xavier Escribà Montagut  OK    OK    OK  
1492/2353OmicsMLRepoR 1.3.3  (landing page)Sehyun Oh  OK    OK    OK  
1493/2353OMICsPCA 1.27.1  (landing page)Subhadeep Das  OK    OK    OK  
1494/2353omicsPrint 1.29.0  (landing page)Davy Cats  OK    OK    WARNINGS  
1495/2353omicsViewer 1.13.2  (landing page)Chen Meng  OK    OK    OK  
1496/2353Omixer 1.19.0  (landing page)Lucy Sinke  OK    OK    OK  
1497/2353OmnipathR 3.17.6  (landing page)Denes Turei  OK    OK    ERROR  
1498/2353ompBAM 1.13.0  (landing page)Alex Chit Hei Wong  OK    OK    OK  
1499/2353omXplore 1.3.0  (landing page)Samuel Wieczorek  OK    OK    WARNINGS  
1500/2353oncomix 1.31.0  (landing page)Daniel Pique  OK    OK    OK  
1501/2353oncoscanR 1.11.1  (landing page)Yann Christinat  OK    OK    OK  
1502/2353OncoScore 1.37.1  (landing page)Luca De Sano  OK    OK    OK  
1503/2353OncoSimulR 4.11.1  (landing page)Ramon Diaz-Uriarte  OK    TIMEOUT  skipped
1504/2353onlineFDR 2.17.0  (landing page)David S. Robertson  OK    OK    OK  
1505/2353ontoProc 2.3.11  (landing page)Vincent Carey  OK    ERROR  skipped
1506/2353openCyto 2.21.1  (landing page)Mike Jiang  OK    OK    WARNINGS  
1507/2353openPrimeR 1.31.1  (landing page)Matthias Döring  OK    OK    OK  
1508/2353OpenStats 1.21.0  (landing page)Marina Kan  OK    OK    OK  
1509/2353oposSOM 2.27.0  (landing page)Henry Loeffler-Wirth  OK    OK    ERROR  
1510/2353oppar 1.37.0  (landing page)Soroor Hediyeh zadeh  OK    OK    WARNINGS  
1511/2353oppti 1.23.1  (landing page)Abdulkadir Elmas  OK    ERROR  skipped
1512/2353optimalFlow 1.21.0  (landing page)Hristo Inouzhe  OK    OK    OK  
1513/2353OPWeight 1.31.0  (landing page)Mohamad Hasan  OK    OK    OK  
1514/2353OrderedList 1.81.0  (landing page)Claudio Lottaz  OK    OK    OK  
1515/2353ORFhunteR 1.17.0  (landing page)Vasily V. Grinev  OK    OK    WARNINGS  
1516/2353ORFik 1.29.9  (landing page)Haakon Tjeldnes  OK    OK    OK  
1517/2353Organism.dplyr 1.37.1  (landing page)Martin Morgan  OK    OK    ERROR  
1518/2353OrganismDbi 1.51.5  (landing page)Bioconductor Package Maintainer  OK    OK    OK  
1519/2353orthogene 1.15.02  (landing page)Brian Schilder  OK    OK    OK  
1520/2353orthos 1.7.4  (landing page)Panagiotis Papasaikas  OK    TIMEOUT  skipped
1521/2353OSAT 1.57.0  (landing page)Li Yan  OK    OK    OK  
1522/2353Oscope 1.39.0  (landing page)Ning Leng  OK    OK    OK  
1523/2353OSTA.data 1.1.2  (landing page)Yixing E. Dong  OK    ERROR  skipped
1524/2353OTUbase 1.59.0  (landing page)Daniel Beck  OK    OK    OK  
1525/2353OUTRIDER 1.27.2  (landing page)Christian Mertes  OK    OK    OK  
1526/2353OutSplice 1.9.0  (landing page)Theresa Guo  OK    OK    OK  
1527/2353OVESEG 1.25.0  (landing page)Lulu Chen  OK    OK    OK  
P
ABCDEFGHIJKLMNOPQRSTUVWXYZ
PackageMaintainerINSTALLBUILDCHECKBUILD BIN
1528/2353PAA 1.43.0  (landing page)Michael Turewicz , Martin Eisenacher  OK    OK    OK  
1529/2353packFinder 1.21.0  (landing page)Jack Gisby  OK    OK    OK  
1530/2353padma 1.19.0  (landing page)Andrea Rau  OK    OK    OK  
1531/2353PADOG 1.51.0  (landing page)Adi L. Tarca  OK    OK    OK  
1532/2353pageRank 1.19.0  (landing page)Hongxu Ding  OK    OK    OK  
1533/2353PAIRADISE 1.25.0  (landing page)Qiang Hu , Levon Demirdjian  OK    OK    OK  
1534/2353paircompviz 1.47.0  (landing page)Michal Burda  OK    OK    OK  
1535/2353pairedGSEA 1.9.0  (landing page)Søren Helweg Dam  OK    OK    OK  
1536/2353pairkat 1.15.0  (landing page)Max McGrath  OK    OK    OK  
1537/2353pandaR 1.41.0  (landing page)Joseph N. Paulson , Dan Schlauch  OK    OK    WARNINGS  
1538/2353panelcn.mops 1.31.2  (landing page)Gundula Povysil  OK    OK    OK  
1539/2353PanomiR 1.13.0  (landing page)Pourya Naderi  OK    OK    OK  
1540/2353panp 1.79.0  (landing page)Peter Warren  OK    OK    OK  
1541/2353PANR 1.55.0  (landing page)Xin Wang  OK    OK    OK  
1542/2353parglms 1.41.0  (landing page)VJ Carey  OK    OK    OK  
1543/2353parody 1.67.0  (landing page)Vince Carey  OK    OK    OK  
1544/2353partCNV 1.7.0  (landing page)Ziyi Li  OK    OK    OK  
1545/2353PAST 1.25.0  (landing page)Thrash Adam  OK    OK    WARNINGS  
1546/2353Path2PPI 1.39.0  (landing page)Oliver Philipp  OK    OK    OK  
1547/2353pathifier 1.47.0  (landing page)Assif Yitzhaky  OK    OK    OK  
1548/2353pathlinkR 1.5.3  (landing page)Travis Blimkie  OK    OK    OK  
1549/2353pathMED 1.1.6  (landing page)Jordi Martorell-Marugán  OK    OK    OK  
1550/2353PathNet 1.49.0  (landing page)Ludwig Geistlinger  OK    OK    OK  
1551/2353PathoStat 1.35.0  (landing page)Solaiappan Manimaran  OK    OK    OK  
1552/2353pathRender 1.77.0  (landing page)Vince Carey  OK    OK    OK  
1553/2353pathview 1.49.0  (landing page)Weijun Luo  OK    OK    WARNINGS  
1554/2353pathwayPCA 1.25.0  (landing page)Gabriel Odom  OK    OK    OK  
1555/2353pcaExplorer 3.3.0  (landing page)Federico Marini  OK    OK    OK  
1556/2353pcaMethods 2.1.0  (landing page)Henning Redestig  OK    OK    OK  
1557/2353PCAN 1.37.0  (landing page)Matthew Page and Patrice Godard  OK    OK    OK  
1558/2353PCAtools 2.21.0  (landing page)Kevin Blighe  OK    OK    OK  
1559/2353PDATK 1.17.0  (landing page)Benjamin Haibe-Kains  OK    OK    WARNINGS  
1560/2353pdInfoBuilder 1.73.0  (landing page)Benilton Carvalho  OK    OK    OK  
1561/2353PeacoQC 1.19.0  (landing page)Annelies Emmaneel  OK    OK    OK  
1562/2353peakCombiner 0.99.602  (landing page)Markus Muckenhuber  OK    OK    OK  
1563/2353peakPantheR 1.23.3  (landing page)Arnaud Wolfer  OK    OK    OK  
1564/2353PECA 1.45.0  (landing page)Tomi Suomi  OK    OK    OK  
1565/2353peco 1.21.1  (landing page)Chiaowen Joyce Hsiao  OK    OK    OK  
1566/2353Pedixplorer 1.5.6  (landing page)Louis Le Nezet  OK    OK    OK  
1567/2353pengls 1.15.2  (landing page)Stijn Hawinkel  OK    OK    OK  
1568/2353PepSetTest 1.3.0  (landing page)Junmin Wang  OK    OK    OK  
1569/2353PepsNMR 1.27.0  (landing page)Manon Martin  OK    OK    OK  
1570/2353pepStat 1.43.0  (landing page)Gregory C Imholte  OK    OK    OK  
1571/2353pepXMLTab 1.43.0  (landing page)Xiaojing Wang  OK    OK    OK  
1572/2353periodicDNA 1.19.1  (landing page)Jacques Serizay  OK    OK    ERROR  
1573/2353pfamAnalyzeR 1.9.0  (landing page)Kristoffer Vitting-Seerup  OK    OK    OK  
1574/2353pgca 1.33.0  (landing page)Gabriela Cohen-Freue  OK    OK    OK  
1575/2353pgxRpi 1.5.5  (landing page)Hangjia Zhao  OK    ERROR  skipped
1576/2353phantasus 1.29.0  (landing page)Alexey Sergushichev  OK    OK    OK  
1577/2353phantasusLite 1.7.0  (landing page)Alexey Sergushichev  OK    OK    OK  
1578/2353PharmacoGx 3.13.2  (landing page)Benjamin Haibe-Kains  OK    OK    OK  
1579/2353PhenoGeneRanker 1.17.0  (landing page)Cagatay Dursun  OK    OK    OK  
1580/2353phenomis 1.11.0  (landing page)Etienne A. Thevenot  OK    OK    OK  
1581/2353phenopath 1.33.0  (landing page)Kieran Campbell  OK    OK    OK  
1582/2353phenoTest 1.57.0  (landing page)Evarist Planet  OK    OK    OK  
1583/2353PhenStat 2.45.1  (landing page)Hamed Haselimashhadi  OK    OK    OK  
1584/2353philr 1.35.0  (landing page)Justin Silverman  OK    OK    OK  
1585/2353PhIPData 1.17.0  (landing page)Athena Chen  OK    OK    OK  
1586/2353phosphonormalizer 1.33.0  (landing page)Sohrab Saraei  OK    OK    OK  
1587/2353PhosR 1.19.2  (landing page)Di Xiao  OK    OK    OK  
1588/2353PhyloProfile 2.1.12  (landing page)Vinh Tran  OK    OK    OK  
1589/2353phyloseq 1.53.0  (landing page)Paul J. McMurdie  OK    OK    WARNINGS  
1590/2353piano 2.25.0  (landing page)Leif Varemo Wigge  OK    OK    ERROR  
1591/2353PICB 1.1.1  (landing page)Franziska Ahrend  OK    OK    OK  
1592/2353pickgene 1.81.0  (landing page)Brian S. Yandell  OK    OK    WARNINGS  
1593/2353Pigengene 1.35.0  (landing page)Habil Zare  OK    OK    ERROR  
1594/2353pipeComp 1.19.0  (landing page)Pierre-Luc Germain  OK    OK    OK  
1595/2353pipeFrame 1.25.1  (landing page)Zheng Wei  OK    OK    OK  
1596/2353PIPETS 1.5.0  (landing page)Quinlan Furumo  OK    OK    OK  
1597/2353Pirat 1.3.6  (landing page)Lucas Etourneau  OK    ERROR  skipped
1598/2353PIUMA 1.5.0  (landing page)Mattia Chiesa  OK    ERROR  skipped
1599/2353planet 1.17.0  (landing page)Victor Yuan  OK    OK    OK  
1600/2353planttfhunter 1.9.0  (landing page)Fabrício Almeida-Silva  OK    OK    OK  
1601/2353plasmut 1.7.0  (landing page)Adith Arun  OK    OK    OK  
1602/2353plgem 1.81.0  (landing page)Norman Pavelka  OK    OK    OK  
1603/2353plier 1.79.0  (landing page)Crispin Miller  OK    OK    WARNINGS  
1604/2353plotgardener 1.15.1  (landing page)Nicole Kramer  OK    OK    OK  
1605/2353plotGrouper 1.27.0  (landing page)John D. Gagnon  OK    OK    OK  
1606/2353PLPE 1.69.0  (landing page)Soo-heang Eo  OK    OK    OK  
1607/2353PLSDAbatch 1.5.0  (landing page)Yiwen (Eva) Wang  OK    OK    OK  
1608/2353plyinteractions 1.7.1  (landing page)Jacques Serizay  OK    ERROR  skipped
1609/2353plyranges 1.29.1  (landing page)Michael Love  OK    OK    OK  
1610/2353plyxp 1.3.9  (landing page)Justin Landis  OK    OK    ERROR  
1611/2353pmm 1.41.0  (landing page)Anna Drewek  OK    OK    OK  
1612/2353pmp 1.21.0  (landing page)Gavin Rhys Lloyd  OK    OK    ERROR  
1613/2353PMScanR 0.99.6  (landing page)Jan Pawel Jastrzebski  OK    OK    OK  
1614/2353PoDCall 1.17.1  (landing page)Hans Petter Brodal  OK    OK    OK  
1615/2353podkat 1.41.1  (landing page)Ulrich Bodenhofer  OK    ERROR  skipped
1616/2353poem 1.1.2  (landing page)Siyuan Luo  OK    OK    OK  
1617/2353pogos 1.29.0  (landing page)VJ Carey  OK    OK    OK  
1618/2353PolySTest 1.3.1  (landing page)Veit Schwämmle  OK    OK    OK  
1619/2353Polytect 1.1.0  (landing page)Yao Chen  OK    OK    OK  
1620/2353POMA 1.19.0  (landing page)Pol Castellano-Escuder  OK    OK    OK  
1621/2353powerTCR 1.29.0  (landing page)Hillary Koch  OK    OK    WARNINGS  
1622/2353POWSC 1.17.1  (landing page)Kenong Su  OK    OK    OK  
1623/2353ppcseq 1.17.0  (landing page)Stefano Mangiola  OK    ERROR  skipped
1624/2353PPInfer 1.35.0  (landing page)Dongmin Jung  OK    OK    OK  
1625/2353pqsfinder 2.25.0  (landing page)Jiri Hon  ERROR    ERROR  skipped
1626/2353pram 1.25.1  (landing page)Peng Liu  OK    OK    OK  
1627/2353prebs 1.49.1  (landing page)Karolis Uziela  OK    OK    OK  
1628/2353preciseTAD 1.19.0  (landing page)Mikhail Dozmorov  OK    OK    OK  
1629/2353PREDA 1.55.0  (landing page)Francesco Ferrari  OK    OK    WARNINGS  
1630/2353preprocessCore 1.71.2  (landing page)Ben Bolstad  OK    OK    WARNINGS  
1631/2353primirTSS 1.27.0  (landing page)Pumin Li  OK    OK    WARNINGS  
1632/2353PrInCE 1.25.0  (landing page)Michael Skinnider  OK    OK    WARNINGS  
1633/2353proActiv 1.19.3  (landing page)Joseph Lee  OK    OK    OK  
1634/2353proBAMr 1.43.1  (landing page)Xiaojing Wang  OK    OK    OK  
1635/2353PROcess 1.85.0  (landing page)Xiaochun Li  OK    OK    OK  
1636/2353procoil 2.37.1  (landing page)Ulrich Bodenhofer  OK    OK    OK  
1637/2353proDA 1.23.0  (landing page)Constantin Ahlmann-Eltze  OK    OK    OK  
1638/2353profileplyr 1.25.1  (landing page)Tom Carroll , Doug Barrows  OK    OK    OK  
1639/2353profileScoreDist 1.37.0  (landing page)Paal O. Westermark  OK    OK    OK  
1640/2353progeny 1.31.0  (landing page)Aurélien Dugourd  OK    OK    OK  
1641/2353projectR 1.25.0  (landing page)Genevieve Stein-O'Brien  OK    OK    OK  
1642/2353pRoloc 1.49.2  (landing page)Lisa Breckels  OK    OK    WARNINGS  
1643/2353pRolocGUI 2.19.0  (landing page)Lisa Breckels  OK    OK    OK  
1644/2353PROMISE 1.61.0  (landing page)Stan Pounds , Xueyuan Cao  OK    OK    OK  
1645/2353PRONE 1.3.2  (landing page)Lis Arend  OK    OK    OK  
1646/2353PROPER 1.41.0  (landing page)Hao Wu  OK    OK    WARNINGS  
1647/2353PROPS 1.31.0  (landing page)Lichy Han  OK    OK    OK  
1648/2353Prostar 1.41.0  (landing page)Samuel Wieczorek  OK    OK    WARNINGS  
1649/2353proteinProfiles 1.49.0  (landing page)Julian Gehring  OK    OK    OK  
1650/2353ProteoDisco 1.15.1  (landing page)Job van Riet  OK    OK    TIMEOUT  
1651/2353ProteoMM 1.27.0  (landing page)Yuliya V Karpievitch  OK    OK    OK  
1652/2353protGear 1.13.0  (landing page)Kennedy Mwai  OK    OK    OK  
1653/2353ProtGenerics 1.41.0  (landing page)Laurent Gatto  OK    OK    OK  
1654/2353psichomics 1.35.0  (landing page)Nuno Saraiva-Agostinho  OK    OK    OK  
1655/2353PSMatch 1.13.2  (landing page)Laurent Gatto  OK    OK    OK  
1656/2353ptairMS 1.17.0  (landing page)camille Roquencourt  OK    OK    WARNINGS  
1657/2353puma 3.51.0  (landing page)Xuejun Liu  OK    OK    OK  
1658/2353PureCN 2.15.4  (landing page)Markus Riester  OK    OK    OK  
1659/2353pvac 1.57.0  (landing page)Jun Lu , Pierre R. Bushel  OK    OK    OK  
1660/2353pvca 1.49.0  (landing page)Jianying LI  OK    OK    OK  
1661/2353Pviz 1.43.0  (landing page)Renan Sauteraud  OK    OK    WARNINGS  
1662/2353pwalign 1.5.0  (landing page)Hervé Pagès  OK    OK    OK  
1663/2353PWMEnrich 4.45.0  (landing page)Diego Diez  OK    OK    OK  
Q
ABCDEFGHIJKLMNOPQRSTUVWXYZ
PackageMaintainerINSTALLBUILDCHECKBUILD BIN
1664/2353qckitfastq 1.25.1  (landing page)August Guang  ERROR    ERROR  skipped
1665/2353qcmetrics 1.47.0  (landing page)Laurent Gatto  OK    OK    OK  
1666/2353QDNAseq 1.45.1  (landing page)Daoud Sie  OK    OK    OK  
1667/2353QFeatures 1.19.2  (landing page)Laurent Gatto  OK    OK    OK  
1668/2353qmtools 1.13.0  (landing page)Jaehyun Joo  OK    OK    OK  
1669/2353qpcrNorm 1.67.0  (landing page)Jessica Mar  OK    OK    OK  
1670/2353qpgraph 2.43.1  (landing page)Robert Castelo  OK    OK    OK  
1671/2353qPLEXanalyzer 1.27.0  (landing page)Ashley Sawle  OK    OK    OK  
1672/2353QRscore 1.1.1  (landing page)Fanding Zhou  OK    OK    WARNINGS  
1673/2353qsea 1.35.1  (landing page)Matthias Lienhard  OK    OK    WARNINGS  
1674/2353qsmooth 1.25.0  (landing page)Stephanie C. Hicks  OK    OK    WARNINGS  
1675/2353QSutils 1.27.0  (landing page)Mercedes Guerrero-Murillo  OK    OK    OK  
1676/2353qsvaR 1.13.3  (landing page)Nicholas J. Eagles  OK    OK    OK  
1677/2353QTLExperiment 2.1.2  (landing page)Amelia Dunstone  OK    OK    OK  
1678/2353Qtlizer 1.23.0  (landing page)Matthias Munz  OK    OK    OK  
1679/2353quantiseqr 1.17.0  (landing page)Federico Marini  OK    OK    OK  
1680/2353quantro 1.43.0  (landing page)Stephanie Hicks  OK    OK    OK  
1681/2353quantsmooth 1.75.0  (landing page)Jan Oosting  OK    OK    OK  
1682/2353QuasR 1.49.3  (landing page)Michael Stadler  OK    OK    WARNINGS  
1683/2353QuaternaryProd 1.43.0  (landing page)Carl Tony Fakhry  OK    OK    OK  
1684/2353QUBIC 1.37.0  (landing page)Yu Zhang  OK    OK    OK  
1685/2353qusage 2.43.0  (landing page)Christopher Bolen  OK    OK    OK  
1686/2353qvalue 2.41.0  (landing page)John D. Storey , Andrew J. Bass  OK    OK    OK  
R
ABCDEFGHIJKLMNOPQRSTUVWXYZ
PackageMaintainerINSTALLBUILDCHECKBUILD BIN
1687/2353R3CPET 1.41.0  (landing page)Mohamed Nadhir Djekidel  OK    OK    WARNINGS  
1688/2353r3Cseq 1.55.1  (landing page)Supat Thongjuea or  OK    OK    ERROR  
1689/2353R453Plus1Toolbox 1.59.0  (landing page)Hans-Ulrich Klein  OK    ERROR  skipped
1690/2353R4RNA 1.37.0  (landing page)Daniel Lai  OK    OK    OK  
1691/2353RadioGx 2.13.0  (landing page)Benjamin Haibe-Kains  OK    OK    OK  
1692/2353raer 1.7.2  (landing page)Kent Riemondy  OK    OK    OK  
1693/2353RaggedExperiment 1.33.7  (landing page)Marcel Ramos  OK    OK    OK  
1694/2353RAIDS 1.7.3  (landing page)Pascal Belleau  OK    OK    OK  
1695/2353rain 1.43.0  (landing page)Paul F. Thaben  OK    OK    OK  
1696/2353ramr 1.17.1  (landing page)Oleksii Nikolaienko  OK    OK    OK  
1697/2353ramwas 1.33.0  (landing page)Andrey A Shabalin  OK    OK    OK  
1698/2353randPack 1.55.0  (landing page)Robert Gentleman  OK    OK    OK  
1699/2353randRotation 1.21.0  (landing page)Peter Hettegger  OK    OK    ERROR  
1700/2353RankProd 3.35.0  (landing page)Francesco Del Carratore  OK    OK    OK  
1701/2353RAREsim 1.13.0  (landing page)Ryan Barnard  OK    OK    OK  
1702/2353RareVariantVis 2.37.0  (landing page)Tomasz Stokowy  OK    OK    OK  
1703/2353Rarr 1.9.17  (landing page)Hugo Gruson  OK    OK    OK  
1704/2353rawDiag 1.5.3  (landing page)Christian Panse  OK    ERROR  skipped
1705/2353rawrr 1.17.13  (landing page)Christian Panse  OK    ERROR  skipped
1706/2353RbcBook1 1.77.0  (landing page)Vince Carey  OK    OK    WARNINGS  
1707/2353Rbec 1.17.0  (landing page)Pengfan Zhang  ERROR    ERROR  skipped
1708/2353RBGL 1.85.0  (landing page)Bioconductor Package Maintainer  OK    OK    WARNINGS  
1709/2353RBioFormats 1.9.0  (landing page)Andrzej Oleś  OK    OK    OK  
1710/2353rBiopaxParser 2.49.0  (landing page)Frank Kramer  OK    OK    OK  
1711/2353rBLAST 1.5.0  (landing page)Michael Hahsler  OK    OK    OK  
1712/2353RBM 1.41.0  (landing page)Dongmei Li  OK    OK    OK  
1713/2353Rbowtie 1.49.0  (landing page)Michael Stadler  OK    OK    OK  
1714/2353Rbowtie2 2.15.0  (landing page)Zheng Wei  OK    OK    OK  
1715/2353RbowtieCuda 1.1.10  (landing page)Franck RICHARD... NOT SUPPORTED ...
1716/2353rbsurv 2.67.0  (landing page)Soo-heang Eo  OK    OK    OK  
1717/2353Rbwa 1.13.0  (landing page)Jean-Philippe Fortin  OK    OK    WARNINGS  
1718/2353RCAS 1.35.0  (landing page)Bora Uyar  OK    OK    OK  
1719/2353RCASPAR 1.55.0  (landing page)Douaa Mugahid , Lars Kaderali  OK    OK    OK  
1720/2353rcellminer 2.31.1  (landing page)Augustin Luna , Vinodh Rajapakse  OK    OK    WARNINGS  
1721/2353rCGH 1.39.1  (landing page)Frederic Commo  OK    OK    OK  
1722/2353RcisTarget 1.29.0  (landing page)Gert Hulselmans  OK    OK    ERROR  
1723/2353RCM 1.25.0  (landing page)Stijn Hawinkel  OK    OK    OK  
1724/2353Rcollectl 1.9.0  (landing page)Vincent Carey  OK    ERROR  skipped
1725/2353Rcpi 1.45.0  (landing page)Nan Xiao  OK    OK    OK  
1726/2353RCSL 1.17.0  (landing page)Qinglin Mei  OK    OK    OK  
1727/2353Rcwl 1.25.0  (landing page)Qiang Hu  OK    OK    OK  
1728/2353RcwlPipelines 1.25.0  (landing page)Qiang Hu  OK    OK    OK  
1729/2353RCX 1.13.1  (landing page)Florian Auer  OK    OK    OK  
1730/2353RCy3 2.29.2  (landing page)Alex Pico  OK    OK    OK  
1731/2353RCyjs 2.31.0  (landing page)Paul Shannon  OK    OK    WARNINGS  
1732/2353Rdisop 1.69.2  (landing page)Steffen Neumann  OK    OK    OK  
1733/2353RDRToolbox 1.59.0  (landing page)Christoph Bartenhagen  OK    OK    OK  
1734/2353ReactomeGraph4R 1.17.1  (landing page)Chi-Lam Poon  ERROR    ERROR  skipped
1735/2353ReactomeGSA 1.23.0  (landing page)Johannes Griss  OK    OK    OK  
1736/2353ReactomePA 1.53.0  (landing page)Guangchuang Yu  OK    OK    OK  
1737/2353ReadqPCR 1.55.0  (landing page)James Perkins  OK    OK    OK  
1738/2353REBET 1.27.0  (landing page)Bill Wheeler  OK    OK    OK  
1739/2353rebook 1.19.0  (landing page)Aaron Lun  OK    OK    WARNINGS  
1740/2353receptLoss 1.21.0  (landing page)Daniel Pique  OK    OK    ERROR  
1741/2353reconsi 1.21.0  (landing page)Stijn Hawinkel  OK    OK    OK  
1742/2353recount 1.35.0  (landing page)Leonardo Collado-Torres  OK    OK    OK  
1743/2353recount3 1.19.3  (landing page)Leonardo Collado-Torres  OK    OK    OK  
1744/2353recountmethylation 1.19.0  (landing page)Sean K Maden  OK    OK    OK  
1745/2353recoup 1.37.1  (landing page)Panagiotis Moulos  OK    OK    OK  
1746/2353RedeR 3.5.0  (landing page)Mauro Castro  OK    OK    OK  
1747/2353RedisParam 1.11.0  (landing page)Martin Morgan  OK    OK    OK  
1748/2353REDseq 1.55.0  (landing page)Lihua Julie Zhu  OK    OK    OK  
1749/2353ReducedExperiment 1.1.2  (landing page)Jack Gisby  OK    OK    OK  
1750/2353RegEnrich 1.19.0  (landing page)Weiyang Tao  OK    ERROR  skipped
1751/2353regionalpcs 1.7.0  (landing page)Tiffany Eulalio  OK    OK    OK  
1752/2353RegionalST 1.7.1  (landing page)Ziyi Li  OK    OK    OK  
1753/2353regioneR 1.41.3  (landing page)Bernat Gel  OK    TIMEOUT  skipped
1754/2353regioneReloaded 1.11.0  (landing page)Roberto Malinverni  OK    OK    OK  
1755/2353regionReport 1.43.1  (landing page)Leonardo Collado-Torres  OK    OK    OK  
1756/2353regsplice 1.35.0  (landing page)Lukas M. Weber  OK    OK    OK  
1757/2353regutools 1.21.0  (landing page)Joselyn Chavez  OK    OK    OK  
1758/2353REMP 1.33.1  (landing page)Yinan Zheng  OK    ERROR  skipped
1759/2353Repitools 1.55.2  (landing page)Mark Robinson  OK    OK    ERROR  
1760/2353ReportingTools 2.49.0  (landing page)Jason A. Hackney , Gabriel Becker  OK    OK    OK  
1761/2353RepViz 1.25.0  (landing page)Thomas Faux, Asta Laiho   OK    ERROR  skipped
1762/2353ResidualMatrix 1.19.0  (landing page)Aaron Lun  OK    OK    OK  
1763/2353RESOLVE 1.11.2  (landing page)Luca De Sano  ERROR    ERROR  skipped
1764/2353retrofit 1.9.0  (landing page)Adam Park  OK    OK    OK  
1765/2353ReUseData 1.9.0  (landing page)Qian Liu  OK    OK    OK  
1766/2353rexposome 1.31.0  (landing page)Xavier Escribà Montagut  OK    OK    WARNINGS  
1767/2353rfaRm 1.21.0  (landing page)Lara Selles Vidal  ERROR    OK    ERROR  
1768/2353Rfastp 1.19.1  (landing page)Thomas Carroll  ERROR    ERROR  skipped
1769/2353RFLOMICS 1.1.4  (landing page)Nadia Bessoltane  OK    OK    OK  
1770/2353rfPred 1.47.1  (landing page)Hugo Varet  OK    OK    OK  
1771/2353rGADEM 2.57.1  (landing page)Arnaud Droit  ERROR    ERROR  skipped
1772/2353rGenomeTracks 1.15.0  (landing page)Omar Elashkar  OK    OK    OK  
1773/2353RgnTX 1.11.1  (landing page)Yue Wang  OK    ERROR  skipped
1774/2353rgoslin 1.13.0  (landing page)Nils Hoffmann  OK    OK    OK  
1775/2353RGraph2js 1.37.0  (landing page)Stephane Cano  OK    OK    OK  
1776/2353Rgraphviz 2.53.0  (landing page)Kasper Daniel Hansen  OK    OK    WARNINGS  
1777/2353rGREAT 2.11.0  (landing page)Zuguang Gu  OK    OK    OK  
1778/2353RGSEA 1.43.0  (landing page)Chengcheng Ma  OK    OK    OK  
1779/2353rgsepd 1.41.0  (landing page)Karl Stamm  OK    OK    OK  
1780/2353rhdf5 2.53.6  (landing page)Hugo Gruson  OK    OK    WARNINGS  
1781/2353rhdf5client 1.31.2  (landing page)Alexey Sergushichev  OK    OK    OK  
1782/2353rhdf5filters 1.21.4  (landing page)Hugo Gruson  OK    OK    OK  
1783/2353Rhdf5lib 1.31.1  (landing page)Hugo Gruson  OK    OK    WARNINGS  
1784/2353rhinotypeR 1.3.0  (landing page)Martha Luka  NA    ERROR  skipped
1785/2353Rhisat2 1.25.0  (landing page)Charlotte Soneson  OK    OK    WARNINGS  
1786/2353Rhtslib 3.5.0  (landing page)Hervé Pagès  OK    OK    OK  
1787/2353RiboCrypt 1.15.4  (landing page)Michal Swirski  OK    OK    OK  
1788/2353RiboDiPA 1.17.1  (landing page)Ji-Ping Wang  OK    OK    OK  
1789/2353RiboProfiling 1.39.1  (landing page)A. Popa  OK    ERROR  skipped
1790/2353ribor 1.21.0  (landing page)Michael Geng  OK    OK    OK  
1791/2353riboSeqR 1.43.1  (landing page)Samuel Granjeaud  OK    OK    OK  
1792/2353ribosomeProfilingQC 1.21.2  (landing page)Jianhong Ou  OK    OK    OK  
1793/2353rifi 1.13.1  (landing page)Jens Georg  OK    OK    TIMEOUT  
1794/2353rifiComparative 1.9.0  (landing page)Loubna Youssar  OK    OK    OK  
1795/2353Rigraphlib 1.1.2  (landing page)Aaron Lun  OK    OK    WARNINGS  
1796/2353rigvf 1.1.3  (landing page)Michael Love  OK    OK    OK  
1797/2353RImmPort 1.37.0  (landing page)Zicheng Hu , Ravi Shankar  OK    OK    OK  
1798/2353RITAN 1.33.0  (landing page)Michael Zimmermann  OK    OK    WARNINGS  
1799/2353RIVER 1.33.0  (landing page)Yungil Kim  OK    OK    OK  
1800/2353RJMCMCNucleosomes 1.33.2  (landing page)Astrid Deschênes  OK    OK    OK  
1801/2353RLassoCox 1.17.0  (landing page)Wei Liu  OK    OK    OK  
1802/2353RLMM 1.71.0  (landing page)Nusrat Rabbee  OK    OK    OK  
1803/2353Rmagpie 1.65.0  (landing page)Camille Maumet  OK    OK    OK  
1804/2353RMassBank 3.19.0  (landing page)RMassBank at Eawag  OK    OK    OK  
1805/2353rmelting 1.25.0  (landing page)J. Aravind  OK    OK    OK  
1806/2353Rmmquant 1.27.0  (landing page)Zytnicki Matthias  OK    OK    OK  
1807/2353rmspc 1.15.0  (landing page)Meriem Bahda  OK    OK    OK  
1808/2353RNAAgeCalc 1.21.0  (landing page)Xu Ren  OK    OK    OK  
1809/2353RNAdecay 1.29.0  (landing page)Reed Sorenson  OK    ERROR  skipped
1810/2353rnaEditr 1.19.2  (landing page)Lanyu Zhang  OK    OK    WARNINGS  
1811/2353RNAmodR 1.23.2  (landing page)Felix G.M. Ernst  OK    OK    OK  
1812/2353RNAmodR.AlkAnilineSeq 1.23.1  (landing page)Felix G.M. Ernst  OK    OK    OK  
1813/2353RNAmodR.ML 1.23.0  (landing page)Felix G.M. Ernst  OK    OK    OK  
1814/2353RNAmodR.RiboMethSeq 1.23.1  (landing page)Felix G.M. Ernst  OK    OK    OK  
1815/2353RNAsense 1.23.0  (landing page)Marcus Rosenblatt  OK    OK    WARNINGS  
1816/2353rnaseqcomp 1.39.0  (landing page)Mingxiang Teng  OK    OK    OK  
1817/2353RNAseqCovarImpute 1.7.0  (landing page)Brennan Baker  OK    OK    OK  
1818/2353RNASeqPower 1.49.0  (landing page)Terry M Therneau  OK    OK    OK  
1819/2353RnaSeqSampleSize 2.19.0  (landing page)Shilin Zhao Developer  OK    OK    OK  
1820/2353RnBeads 2.27.2  (landing page)Fabian Mueller  OK    OK    OK  
1821/2353Rnits 1.43.0  (landing page)Dipen P. Sangurdekar  OK    OK    WARNINGS  
1822/2353roar 1.45.0  (landing page)Elena Grassi  OK    OK    OK  
1823/2353roastgsa 1.7.0  (landing page)Adria Caballe  OK    OK    OK  
1824/2353ROC 1.85.0  (landing page)Vince Carey  OK    OK    OK  
1825/2353ROCpAI 1.21.0  (landing page)Juan-Pedro Garcia  OK    OK    OK  
1826/2353RolDE 1.13.0  (landing page)Medical Bioinformatics Centre  OK    OK    OK  
1827/2353rols 3.5.0  (landing page)Laurent Gatto  OK    ERROR  skipped
1828/2353ROntoTools 2.37.0  (landing page)Sorin Draghici  OK    OK    WARNINGS  
1829/2353ropls 1.41.0  (landing page)Etienne A. Thevenot  OK    OK    OK  
1830/2353ROSeq 1.21.0  (landing page)Krishan Gupta  OK    OK    WARNINGS  
1831/2353ROTS 2.1.1  (landing page)Tomi Suomi  OK    OK    OK  
1832/2353RPA 1.65.0  (landing page)Leo Lahti  OK    OK    OK  
1833/2353rprimer 1.13.0  (landing page)Sofia Persson  OK    OK    OK  
1834/2353RProtoBufLib 2.21.0  (landing page)Mike Jiang  OK    OK    WARNINGS  
1835/2353rpx 2.17.0  (landing page)Laurent Gatto  OK    OK    ERROR  
1836/2353Rqc 1.43.0  (landing page)Welliton Souza  OK    OK    OK  
1837/2353rqt 1.35.0  (landing page)Ilya Zhbannikov  OK    OK    OK  
1838/2353rqubic 1.55.0  (landing page)Jitao David Zhang  OK    OK    WARNINGS  
1839/2353rRDP 1.43.1  (landing page)Michael Hahsler  OK    OK    OK  
1840/2353RRHO 1.49.0  (landing page)Jonathan Rosenblatt  OK    OK    OK  
1841/2353rrvgo 1.21.5  (landing page)Sergi Sayols  OK    OK    OK  
1842/2353Rsamtools 2.25.3  (landing page)Bioconductor Package Maintainer  OK    OK    WARNINGS  
1843/2353rsbml 2.67.0  (landing page)Michael Lawrence  ERROR    ERROR  skipped
1844/2353rScudo 1.25.0  (landing page)Matteo Ciciani  OK    OK    OK  
1845/2353rsemmed 1.19.0  (landing page)Leslie Myint  OK    OK    OK  
1846/2353RSeqAn 1.29.0  (landing page)August Guang  OK    OK    OK  
1847/2353Rsubread 2.23.8  (landing page)Wei Shi , Yang Liao and Gordon K Smyth  OK    OK    OK  
1848/2353RSVSim 1.49.0  (landing page)Christoph Bartenhagen  OK    OK    OK  
1849/2353rSWeeP 1.21.0  (landing page)Camila P Perico  OK    OK    OK  
1850/2353RTCA 1.61.0  (landing page)Jitao David Zhang  OK    OK    WARNINGS  
1851/2353RTCGA 1.39.0  (landing page)Marcin Kosinski  OK    OK    OK  
1852/2353RTCGAToolbox 2.39.1  (landing page)Marcel Ramos  OK    OK    OK  
1853/2353RTN 2.33.0  (landing page)Mauro Castro  OK    OK    OK  
1854/2353RTNduals 1.33.0  (landing page)Mauro Castro , Clarice Groeneveld  OK    OK    OK  
1855/2353RTNsurvival 1.33.1  (landing page)Clarice Groeneveld , Mauro A. A. Castro  OK    OK    OK  
1856/2353RTopper 1.55.0  (landing page)Luigi Marchionni  OK    OK    OK  
1857/2353Rtpca 1.19.1  (landing page)Nils Kurzawa  OK    OK    OK  
1858/2353rtracklayer 1.69.1  (landing page)Michael Lawrence  OK    OK    WARNINGS  
1859/2353rTRM 1.47.0  (landing page)Diego Diez  OK    ERROR  skipped
1860/2353rTRMui 1.47.0  (landing page)Diego Diez  OK    OK    OK  
1861/2353RUCova 1.1.0  (landing page)Rosario Astaburuaga-García  OK    OK    OK  
1862/2353runibic 1.31.0  (landing page)Patryk Orzechowski  OK    OK    OK  
1863/2353RUVcorr 1.41.0  (landing page)Saskia Freytag  OK    OK    WARNINGS  
1864/2353RUVnormalize 1.43.0  (landing page)Laurent Jacob  OK    OK    OK  
1865/2353RUVSeq 1.43.0  (landing page)Davide Risso  OK    OK    OK  
1866/2353Rvisdiff 1.7.1  (landing page)David Barrios  OK    OK    OK  
1867/2353RVS 1.31.0  (landing page)Alexandre Bureau  OK    OK    WARNINGS  
1868/2353rWikiPathways 1.29.2  (landing page)Egon Willighagen  OK    OK    OK  
S
ABCDEFGHIJKLMNOPQRSTUVWXYZ
PackageMaintainerINSTALLBUILDCHECKBUILD BIN
1869/2353S4Arrays 1.9.1  (landing page)Hervé Pagès  OK    OK    OK  
1870/2353S4Vectors 0.47.4  (landing page)Hervé Pagès  OK    OK    WARNINGS  
1871/2353safe 3.49.0  (landing page)Ludwig Geistlinger  OK    OK    OK  
1872/2353sagenhaft 1.79.0  (landing page)Tim Beissbarth  OK    OK    WARNINGS  
1873/2353SAIGEgds 2.9.2  (landing page)Xiuwen Zheng  OK    OK    ERROR  
1874/2353sampleClassifier 1.33.0  (landing page)Khadija El Amrani  OK    OK    OK  
1875/2353SamSPECTRAL 1.63.0  (landing page)Habil  OK    OK    WARNINGS  
1876/2353sangeranalyseR 1.19.0  (landing page)Kuan-Hao Chao  ERROR    ERROR  skipped
1877/2353sangerseqR 1.45.0  (landing page)Jonathon Hill  OK    OK    OK  
1878/2353SanityR 0.99.3  (landing page)Teo Sakel  OK    OK    OK  
1879/2353SANTA 2.45.0  (landing page)Alex Cornish  OK    OK    OK  
1880/2353SARC 1.7.1  (landing page)Krutik Patel  OK    OK    ERROR  
1881/2353sarks 1.21.0  (landing page)Dennis Wylie  OK    OK    OK  
1882/2353saseR 1.5.1  (landing page)Alexandre Segers  OK    OK    WARNINGS  
1883/2353satuRn 1.17.0  (landing page)Jeroen Gilis  OK    OK    OK  
1884/2353SBGNview 1.23.0  (landing page)Weijun Luo  OK    OK    OK  
1885/2353SBMLR 2.5.0  (landing page)Tomas Radivoyevitch  OK    OK    ERROR  
1886/2353SC3 1.37.0  (landing page)Vladimir Kiselev  OK    OK    OK  
1887/2353scafari 0.99.12  (landing page)Sophie Wind  OK    OK    OK  
1888/2353Scale4C 1.31.1  (landing page)Carolin Walter  OK    OK    OK  
1889/2353ScaledMatrix 1.17.0  (landing page)Aaron Lun  OK    OK    OK  
1890/2353SCAN.UPC 2.51.0  (landing page)Stephen R. Piccolo  OK    OK    OK  
1891/2353scanMiR 1.15.1  (landing page)Pierre-Luc Germain  OK    OK    OK  
1892/2353scanMiRApp 1.15.1  (landing page)Pierre-Luc Germain  OK    OK    ERROR  
1893/2353scAnnotatR 1.15.0  (landing page)Johannes Griss  OK    OK    WARNINGS  
1894/2353SCANVIS 1.23.0  (landing page)Phaedra Agius  OK    OK    OK  
1895/2353SCArray 1.17.0  (landing page)Xiuwen Zheng  OK    OK    OK  
1896/2353SCArray.sat 1.9.0  (landing page)Xiuwen Zheng  OK    OK    OK  
1897/2353scater 1.37.0  (landing page)Alan O'Callaghan  OK    OK    OK  
1898/2353scatterHatch 1.15.0  (landing page)Atul Deshpande  OK    OK    OK  
1899/2353scBFA 1.23.0  (landing page)Ruoxin Li  OK    OK    OK  
1900/2353SCBN 1.27.0  (landing page)Yan Zhou  OK    OK    OK  
1901/2353scBubbletree 1.11.0  (landing page)Simo Kitanovski  OK    OK    OK  
1902/2353scCB2 1.19.0  (landing page)Zijian Ni  OK    OK    OK  
1903/2353scClassify 1.21.0  (landing page)Yingxin Lin  OK    OK    OK  
1904/2353sccomp 2.1.17  (landing page)Stefano Mangiola  OK    OK    OK  
1905/2353scDataviz 1.19.1  (landing page)Kevin Blighe  OK    OK    OK  
1906/2353scDblFinder 1.23.4  (landing page)Pierre-Luc Germain  OK    OK    WARNINGS  
1907/2353scDD 1.33.1  (landing page)Keegan Korthauer  OK    OK    OK  
1908/2353scDDboost 1.11.0  (landing page)Xiuyu Ma  OK    OK    WARNINGS  
1909/2353scde 2.37.0  (landing page)Evan Biederstedt  OK    OK    WARNINGS  
1910/2353scDesign3 1.7.7  (landing page)Dongyuan Song  OK    OK    OK  
1911/2353scDiagnostics 1.3.0  (landing page)Anthony Christidis  OK    OK    OK  
1912/2353scDotPlot 1.3.1  (landing page)Benjamin I Laufer  OK    OK    OK  
1913/2353scds 1.25.1  (landing page)Dennis Kostka  OK    OK    OK  
1914/2353SCFA 1.19.0  (landing page)Duc Tran  OK    OK    OK  
1915/2353scFeatureFilter 1.29.0  (landing page)Guillaume Devailly  OK    OK    OK  
1916/2353scFeatures 1.9.0  (landing page)Yue Cao  OK    OK    ERROR  
1917/2353scGPS 1.23.0  (landing page)Quan Nguyen  OK    ERROR  skipped
1918/2353scGraphVerse 0.99.19  (landing page)Francesco Cecere  OK    OK    OK  
1919/2353schex 1.23.0  (landing page)Saskia Freytag  OK    OK    OK  
1920/2353scHiCcompare 1.1.0  (landing page)My Nguyen  OK    OK    OK  
1921/2353scHOT 1.21.0  (landing page)Shila Ghazanfar  OK    OK    OK  
1922/2353scider 1.7.3  (landing page)Yunshun Chen  OK    OK    OK  
1923/2353scifer 1.11.5  (landing page)Rodrigo Arcoverde Cerveira  OK    OK    OK  
1924/2353scLANE 0.99.999999  (landing page)Jack R. Leary  OK    OK    WARNINGS  
1925/2353scmap 1.31.0  (landing page)Vladimir Kiselev  OK    OK    OK  
1926/2353scMerge 1.25.1  (landing page)Yingxin Lin  OK    ERROR  skipped
1927/2353scMET 1.11.0  (landing page)Andreas C. Kapourani  OK    OK    WARNINGS  
1928/2353scmeth 1.29.1  (landing page)Divy Kangeyan  OK    ERROR  skipped
1929/2353scMitoMut 1.5.0  (landing page)Wenjie Sun  OK    OK    OK  
1930/2353scMultiSim 1.5.0  (landing page)Hechen Li  OK    OK    OK  
1931/2353SCnorm 1.31.1  (landing page)Rhonda Bacher  OK    OK    OK  
1932/2353scone 1.33.0  (landing page)Davide Risso  OK    OK    OK  
1933/2353Sconify 1.29.1  (landing page)Tyler J Burns  OK    OK    OK  
1934/2353SCOPE 1.21.0  (landing page)Rujin Wang  OK    OK    ERROR  
1935/2353scoreInvHap 1.31.0  (landing page)Dolors Pelegri-Siso  OK    OK    OK  
1936/2353scoup 1.3.0  (landing page)Hassan Sadiq  OK    OK    OK  
1937/2353scp 1.19.5  (landing page)Christophe Vanderaa  OK    OK    WARNINGS  
1938/2353scPCA 1.23.0  (landing page)Philippe Boileau  OK    OK    OK  
1939/2353scPipe 2.9.0  (landing page)Shian Su  OK    OK    OK  
1940/2353scQTLtools 1.1.7  (landing page)Xiaofeng Wu  OK    OK    ERROR  
1941/2353scran 1.37.0  (landing page)Aaron Lun  OK    OK    WARNINGS  
1942/2353scrapper 1.3.14  (landing page)Aaron Lun  OK    OK    WARNINGS  
1943/2353scReClassify 1.15.1  (landing page)Taiyun Kim  OK    OK    OK  
1944/2353scRecover 1.25.0  (landing page)Zhun Miao  OK    OK    OK  
1945/2353screenCounter 1.9.0  (landing page)Aaron Lun  OK    OK    OK  
1946/2353ScreenR 1.11.0  (landing page)Emanuel Michele Soda  OK    OK    ERROR  
1947/2353scRepertoire 2.5.8  (landing page)Nick Borcherding  OK    OK    OK  
1948/2353scRNAseqApp 1.9.26  (landing page)Jianhong Ou  OK    OK    OK  
1949/2353scruff 1.27.1  (landing page)Zhe Wang  OK    OK    OK  
1950/2353scry 1.21.0  (landing page)Kelly Street  OK    OK    OK  
1951/2353scShapes 1.15.0  (landing page)Malindrie Dharmaratne  OK    OK    OK  
1952/2353scTensor 2.19.2  (landing page)Koki Tsuyuzaki  OK    OK    WARNINGS  
1953/2353scTGIF 1.23.0  (landing page)Koki Tsuyuzaki  OK    OK    OK  
1954/2353scTHI 1.21.0  (landing page)Michele Ceccarelli  OK    OK    OK  
1955/2353scTreeViz 1.15.0  (landing page)Jayaram Kancherla  OK    OK    OK  
1956/2353scuttle 1.19.0  (landing page)Aaron Lun  OK    OK    OK  
1957/2353scviR 1.9.13  (landing page)Vincent Carey  OK    ERROR  skipped
1958/2353SDAMS 1.29.0  (landing page)Yuntong Li  OK    OK    OK  
1959/2353seahtrue 1.3.0  (landing page)Vincent de Boer  ERROR    ERROR  skipped
1960/2353sechm 1.17.1  (landing page)Pierre-Luc Germain  OK    OK    OK  
1961/2353segmenter 1.15.0  (landing page)Mahmoud Ahmed  OK    OK    OK  
1962/2353segmentSeq 2.43.1  (landing page)Samuel Granjeaud  OK    OK    OK  
1963/2353selectKSigs 1.21.0  (landing page)Zhi Yang  ERROR    ERROR  skipped
1964/2353SELEX 1.41.0  (landing page)Harmen J. Bussemaker  OK    OK    OK  
1965/2353SemDist 1.43.0  (landing page)Ian Gonzalez  OK    OK    OK  
1966/2353semisup 1.33.0  (landing page)Armin Rauschenberger  OK    OK    OK  
1967/2353seq.hotSPOT 1.9.0  (landing page)Sydney Grant  OK    OK    OK  
1968/2353seq2pathway 1.41.0  (landing page)Arjun Kinstlick  OK    OK    ERROR  
1969/2353seqArchR 1.13.1  (landing page)Sarvesh Nikumbh  OK    OK    ERROR  
1970/2353seqArchRplus 1.9.2  (landing page)Sarvesh Nikumbh  OK    OK    WARNINGS  
1971/2353SeqArray 1.49.8  (landing page)Xiuwen Zheng  OK    OK    OK  
1972/2353seqCAT 1.31.0  (landing page)Erik Fasterius  OK    OK    OK  
1973/2353seqcombo 1.31.0  (landing page)Guangchuang Yu  OK    OK    OK  
1974/2353SeqGate 1.19.0  (landing page)Stéphanie Rialle  OK    OK    OK  
1975/2353SeqGSEA 1.49.0  (landing page)Xi Wang  OK    OK    OK  
1976/2353Seqinfo 0.99.2  (landing page)Hervé Pagès  OK    OK    OK  
1977/2353seqLogo 1.75.0  (landing page)Robert Ivanek  OK    OK    OK  
1978/2353seqPattern 1.41.0  (landing page)Vanja Haberle  OK    OK    OK  
1979/2353seqsetvis 1.29.1  (landing page)Joseph R Boyd  OK    OK    OK  
1980/2353SeqSQC 1.31.0  (landing page)Qian Liu  OK    OK    WARNINGS  
1981/2353seqTools 1.43.1  (landing page)Wolfgang Kaisers  ERROR    ERROR  skipped
1982/2353SeqVarTools 1.47.0  (landing page)Stephanie M. Gogarten  OK    OK    OK  
1983/2353SEraster 1.1.0  (landing page)Gohta Aihara  OK    OK    OK  
1984/2353sesame 1.27.1  (landing page)Wanding Zhou  OK    OK    OK  
1985/2353SETA 0.99.6  (landing page)Kyle Kimler  OK    OK    OK  
1986/2353SEtools 1.23.3  (landing page)Pierre-Luc Germain  OK    OK    OK  
1987/2353sevenbridges 1.39.0  (landing page)Phil Webster  OK    OK    OK  
1988/2353sevenC 1.29.2  (landing page)Jonas Ibn-Salem  OK    OK    OK  
1989/2353SGCP 1.9.0  (landing page)Niloofar AghaieAbiane  OK    ERROR  skipped
1990/2353SGSeq 1.43.1  (landing page)Leonard Goldstein  OK    OK    OK  
1991/2353SharedObject 1.23.0  (landing page)Jiefei Wang  OK    OK    WARNINGS  
1992/2353shiny.gosling 1.5.0  (landing page)Appsilon  OK    ERROR  skipped
1993/2353shinybiocloader 0.99.1  (landing page)Marcel Ramos  OK    OK    OK  
1994/2353shinyDSP 1.1.2  (landing page)Seung J. Kim  OK    OK    OK  
1995/2353shinyepico 1.17.0  (landing page)Octavio Morante-Palacios  OK    OK    OK  
1996/2353shinyMethyl 1.45.0  (landing page)Jean-Philippe Fortin  OK    OK    OK  
1997/2353ShortRead 1.67.1  (landing page)Bioconductor Package Maintainer  OK    OK    ERROR  
1998/2353SIAMCAT 2.13.0  (landing page)Jakob Wirbel  OK    OK    OK  
1999/2353SICtools 1.39.0  (landing page)Xiaobin Xing  OK    OK    WARNINGS  
2000/2353SigCheck 2.41.0  (landing page)Rory Stark  OK    OK    OK  
2001/2353sigFeature 1.27.0  (landing page)Pijush Das Developer  OK    OK    WARNINGS  
2002/2353SigFuge 1.47.0  (landing page)Patrick Kimes  OK    ERROR  skipped
2003/2353siggenes 1.83.0  (landing page)Holger Schwender  OK    OK    OK  
2004/2353sights 1.35.0  (landing page)Elika Garg  OK    OK    OK  
2005/2353signatureSearch 1.23.0  (landing page)Brendan Gongol  OK    OK    OK  
2006/2353signeR 2.11.2  (landing page)Renan Valieris  OK    OK    OK  
2007/2353signifinder 1.11.0  (landing page)Stefania Pirrotta  OK    OK    OK  
2008/2353SigsPack 1.23.0  (landing page)Franziska Schumann  OK    OK    OK  
2009/2353sigsquared 1.41.0  (landing page)UnJin Lee  OK    OK    OK  
2010/2353SIM 1.79.0  (landing page)Renee X. de Menezes  OK    OK    WARNINGS  
2011/2353SIMAT 1.41.0  (landing page)M. R. Nezami Ranjbar  OK    OK    OK  
2012/2353SimBu 1.11.0  (landing page)Alexander Dietrich  OK    OK    OK  
2013/2353SIMD 1.27.0  (landing page)Jiadi Zhu  OK    OK    OK  
2014/2353SimFFPE 1.21.0  (landing page)Lanying Wei  OK    OK    OK  
2015/2353similaRpeak 1.41.0  (landing page)Astrid Deschênes  OK    OK    OK  
2016/2353SIMLR 1.35.1  (landing page)Luca De Sano  OK    OK    OK  
2017/2353simona 1.7.1  (landing page)Zuguang Gu  OK    OK    OK  
2018/2353simPIC 1.5.3  (landing page)Sagrika Chugh  OK    OK    OK  
2019/2353simpleSeg 1.11.1  (landing page)Ellis Patrick  OK    OK    OK  
2020/2353simplifyEnrichment 2.3.0  (landing page)Zuguang Gu  OK    OK    OK  
2021/2353sincell 1.41.0  (landing page)Miguel Julia , Antonio Rausell  OK    OK    OK  
2022/2353SingleCellAlleleExperiment 1.5.1  (landing page)Jonas Schuck  OK    OK    OK  
2023/2353SingleCellExperiment 1.31.1  (landing page)Davide Risso  OK    OK    OK  
2024/2353SingleCellSignalR 1.99.1  (landing page)Jean-Philippe Villemin  OK    OK    WARNINGS  
2025/2353singleCellTK 2.19.2  (landing page)Joshua David Campbell  OK    OK    OK  
2026/2353SingleMoleculeFootprinting 2.3.2  (landing page)Guido Barzaghi  OK    ERROR  skipped
2027/2353SingleR 2.11.3  (landing page)Aaron Lun  OK    OK    OK  
2028/2353singscore   (landing page)  ERROR   (Bad DESCRIPTION file)
2029/2353SiPSiC 1.9.0  (landing page)Daniel Davis  OK    OK    OK  
2030/2353sitadela 1.17.1  (landing page)Panagiotis Moulos  OK    OK    OK  
2031/2353Site2Target 1.1.0  (landing page)Peyman Zarrineh  OK    OK    OK  
2032/2353sitePath 1.25.1  (landing page)Chengyang Ji  OK    OK    OK  
2033/2353sizepower 1.79.0  (landing page)Weiliang Qiu  OK    OK    OK  
2034/2353sketchR 1.5.2  (landing page)Charlotte Soneson  OK    OK    OK  
2035/2353skewr 1.41.0  (landing page)Ryan Putney  OK    OK    OK  
2036/2353slalom 1.31.1  (landing page)Davis McCarthy  OK    OK    WARNINGS  
2037/2353slingshot 2.17.0  (landing page)Kelly Street  OK    ERROR  skipped
2038/2353SLqPCR 1.75.0  (landing page)Matthias Kohl  OK    OK    OK  
2039/2353SMAD 1.25.0  (landing page)Qingzhou Zhang  OK    OK    WARNINGS  
2040/2353smartid 1.5.0  (landing page)Jinjin Chen  OK    OK    OK  
2041/2353SmartPhos 0.99.30  (landing page)Shubham Agrawal  OK    OK    OK  
2042/2353SMITE 1.37.0  (landing page)Neil Ari Wijetunga  OK    OK    OK  
2043/2353smoothclust 1.5.7  (landing page)Lukas M. Weber  OK    OK    OK  
2044/2353smoppix 1.1.9  (landing page)Stijn Hawinkel  OK    TIMEOUT  skipped
2045/2353SNAGEE 1.49.0  (landing page)David Venet  OK    OK    OK  
2046/2353snapcount 1.21.0  (landing page)Rone Charles  ERROR    OK    ERROR  
2047/2353snifter 1.19.3  (landing page)Alan O'Callaghan  OK    OK    OK  
2048/2353snm 1.57.0  (landing page)John D. Storey  OK    OK    OK  
2049/2353SNPediaR 1.35.0  (landing page)David Montaner  OK    OK    OK  
2050/2353SNPhood 1.39.0  (landing page)Christian Arnold  OK    OK    OK  
2051/2353SNPRelate 1.43.1  (landing page)Xiuwen Zheng  OK    OK    OK  
2052/2353snpStats 1.59.2  (landing page)David Clayton  OK    OK    WARNINGS  
2053/2353soGGi 1.41.2  (landing page)Tom Carroll  OK    OK    ERROR  
2054/2353SomaticSignatures 2.45.1  (landing page)Julian Gehring  OK    ERROR  skipped
2055/2353SOMNiBUS 1.17.0  (landing page)Kathleen Klein  OK    OK    OK  
2056/2353sosta 1.1.2  (landing page)Samuel Gunz  OK    OK    OK  
2057/2353SpaceMarkers 1.5.0  (landing page)Atul Deshpande  OK    OK    OK  
2058/2353SpaceTrooper 0.99.44  (landing page)Dario Righelli  OK    OK    ERROR  
2059/2353spacexr 1.1.1  (landing page)Gabriel Grajeda  OK    OK    OK  
2060/2353Spaniel 1.23.0  (landing page)Rachel Queen  OK    OK    OK  
2061/2353SpaNorm 1.3.1  (landing page)Dharmesh D. Bhuva  OK    OK    OK  
2062/2353spARI 0.99.17  (landing page)Yinqiao Yan  OK    OK    OK  
2063/2353sparrow 1.15.0  (landing page)Steve Lianoglou  OK    OK    OK  
2064/2353SparseArray 1.9.1  (landing page)Hervé Pagès  OK    ERROR  skipped
2065/2353sparseMatrixStats 1.21.0  (landing page)Constantin Ahlmann-Eltze  OK    OK    OK  
2066/2353sparsenetgls 1.27.0  (landing page)Irene Zeng  OK    OK    OK  
2067/2353SparseSignatures 2.19.2  (landing page)Luca De Sano  OK    ERROR  skipped
2068/2353spaSim 1.11.0  (landing page)Yuzhou Feng  OK    OK    ERROR  
2069/2353SpatialCPie 1.25.0  (landing page)Joseph Bergenstraahle  OK    OK    OK  
2070/2353spatialDE 1.15.1  (landing page)Gabriele Sales  OK    OK    OK  
2071/2353SpatialDecon 1.19.0  (landing page)Maddy Griswold  OK    OK    ERROR  
2072/2353SpatialExperiment 1.19.1  (landing page)Dario Righelli  OK    OK    OK  
2073/2353SpatialExperimentIO 1.1.0  (landing page)Yixing E. Dong  OK    OK    OK  
2074/2353spatialFDA 1.1.21  (landing page)Martin Emons  OK    OK    OK  
2075/2353SpatialFeatureExperiment 1.11.1  (landing page)Lambda Moses  OK    ERROR  skipped
2076/2353spatialHeatmap 2.15.2  (landing page)Jianhai Zhang  OK    OK    OK  
2077/2353SpatialOmicsOverlay 1.9.2  (landing page)Maddy Griswold  OK    TIMEOUT  skipped
2078/2353spatialSimGP 1.3.0  (landing page)Kinnary Shah  OK    OK    OK  
2079/2353spatzie 1.15.1  (landing page)Jennifer Hammelman  OK    OK    ERROR  
2080/2353speckle 1.9.1  (landing page)Belinda Phipson  OK    OK    OK  
2081/2353specL 1.43.0  (landing page)Christian Panse  OK    OK    OK  
2082/2353SpeCond 1.63.0  (landing page)Florence Cavalli  OK    OK    OK  
2083/2353Spectra 1.19.10  (landing page)RforMassSpectrometry Package Maintainer  OK    OK    OK  
2084/2353SpectralTAD 1.25.0  (landing page)Mikhail Dozmorov  OK    OK    OK  
2085/2353SpectraQL 1.3.1  (landing page)Johannes Rainer  OK    OK    OK  
2086/2353SpectriPy 0.99.13  (landing page)Johannes Rainer  OK    OK    WARNINGS  
2087/2353SPEM 1.49.0  (landing page)Xinyi YANG  OK    OK    OK  
2088/2353SPIA 2.61.0  (landing page)Adi Laurentiu Tarca  OK    OK    OK  
2089/2353SPIAT 1.11.1  (landing page)Yuzhou Feng  OK    OK    OK  
2090/2353SPICEY 0.99.5  (landing page)Georgina Fuentes-Páez  OK    OK    OK  
2091/2353spicyR 1.21.9  (landing page)Ellis Patrick  OK    OK    OK  
2092/2353spikeLI 2.69.0  (landing page)Enrico Carlon  OK    OK    OK  
2093/2353spiky 1.15.0  (landing page)Tim Triche  OK    OK    ERROR  
2094/2353spillR 1.5.0  (landing page)Marco Guazzini  OK    OK    OK  
2095/2353spkTools 1.65.0  (landing page)Matthew N McCall  OK    OK    OK  
2096/2353splatter 1.33.1  (landing page)Luke Zappia  OK    OK    OK  
2097/2353SpliceWiz 1.11.0  (landing page)Alex Chit Hei Wong  OK    OK    WARNINGS  
2098/2353SplicingFactory 1.17.0  (landing page)Endre Sebestyen  OK    OK    OK  
2099/2353SplicingGraphs 1.49.1  (landing page)H. Pagès  OK    ERROR  skipped
2100/2353SplineDV 1.1.1  (landing page)Shreyan Gupta  OK    OK    OK  
2101/2353splineTimeR 1.37.0  (landing page)Herbert Braselmann , Martin Selmansberger  OK    OK    OK  
2102/2353SPLINTER 1.35.1  (landing page)Diana Low  OK    ERROR  skipped
2103/2353splots 1.75.0  (landing page)Wolfgang Huber  OK    OK    OK  
2104/2353SPONGE 1.31.0  (landing page)Markus List  OK    OK    WARNINGS  
2105/2353spoon 1.5.0  (landing page)Kinnary Shah  OK    OK    OK  
2106/2353SpotClean 1.11.0  (landing page)Zijian Ni  OK    OK    OK  
2107/2353SPOTlight 1.13.2  (landing page)Marc Elosua-Bayes  OK    OK    ERROR  
2108/2353SpotSweeper 1.5.1  (landing page)Michael Totty  OK    OK    OK  
2109/2353spqn 1.21.0  (landing page)Yi Wang  OK    OK    OK  
2110/2353SPsimSeq 1.19.0  (landing page)Joris Meys  OK    OK    OK  
2111/2353SQLDataFrame 1.23.0  (landing page)Qian Liu  OK    OK    ERROR  
2112/2353squallms 1.3.0  (landing page)William Kumler  OK    OK    OK  
2113/2353sRACIPE 2.1.1  (landing page)Mingyang Lu  OK    OK    OK  
2114/2353SRAdb 1.71.0  (landing page)Jack Zhu  OK    OK    OK  
2115/2353srnadiff 1.29.1  (landing page)Zytnicki Matthias  OK    OK    WARNINGS  
2116/2353sscu 2.39.0  (landing page)Yu Sun  OK    OK    WARNINGS  
2117/2353sSeq 1.47.0  (landing page)Danni Yu  OK    OK    OK  
2118/2353ssize 1.83.0  (landing page)Gregory R. Warnes  OK    OK    OK  
2119/2353sSNAPPY 1.13.0  (landing page)Wenjun Liu  OK    OK    OK  
2120/2353ssPATHS 1.23.0  (landing page)Natalie R. Davidson  OK    OK    OK  
2121/2353ssrch 1.25.0  (landing page)VJ Carey  OK    OK    OK  
2122/2353ssviz 1.43.0  (landing page)Diana Low  OK    OK    OK  
2123/2353StabMap 1.3.0  (landing page)Shila Ghazanfar  OK    OK    OK  
2124/2353STADyUM 0.99.4  (landing page)Rebecca Hassett  OK    OK    OK  
2125/2353stageR 1.31.0  (landing page)Koen Van den Berge  OK    OK    WARNINGS  
2126/2353standR 1.13.0  (landing page)Ning Liu  OK    OK    OK  
2127/2353STATegRa 1.45.0  (landing page)David Gomez-Cabrero , Núria Planell  OK    OK    OK  
2128/2353Statial 1.11.7  (landing page)Farhan Ameen  OK    OK    ERROR  
2129/2353statTarget 1.39.0  (landing page)Hemi Luan  OK    OK    OK  
2130/2353stepNorm 1.81.0  (landing page)Yuanyuan Xiao  OK    OK    OK  
2131/2353stJoincount 1.11.0  (landing page)Jiarong Song  OK    OK    OK  
2132/2353stPipe 0.99.995  (landing page)Yang Xu  OK    OK    WARNINGS  
2133/2353strandCheckR 1.27.2  (landing page)Thu-Hien To  OK    OK    OK  
2134/2353Streamer 1.55.1  (landing page)Martin Morgan  OK    OK    OK  
2135/2353STRINGdb 2.21.0  (landing page)Damian Szklarczyk  OK    OK    OK  
2136/2353struct 1.21.1  (landing page)Gavin Rhys Lloyd  OK    OK    OK  
2137/2353Structstrings 1.25.3  (landing page)Felix G.M. Ernst  OK    OK    OK  
2138/2353structToolbox 1.21.0  (landing page)Gavin Rhys Lloyd  OK    OK    OK  
2139/2353StructuralVariantAnnotation 1.25.0  (landing page)Daniel Cameron  OK    OK    OK  
2140/2353SubCellBarCode 1.25.0  (landing page)Taner Arslan  OK    OK    WARNINGS  
2141/2353subSeq 1.39.0  (landing page)Andrew J. Bass , John D. Storey  OK    OK    OK  
2142/2353SUITOR 1.11.0  (landing page)Bill Wheeler  OK    OK    OK  
2143/2353SummarizedExperiment 1.39.2  (landing page)Hervé Pagès  OK    OK    OK  
2144/2353Summix 2.15.0  (landing page)Audrey Hendricks  OK    OK    OK  
2145/2353SuperCellCyto 0.99.3  (landing page)Givanna Putri  OK    OK    OK  
2146/2353supersigs 1.17.0  (landing page)Albert Kuo  OK    OK    WARNINGS  
2147/2353surfaltr 1.15.0  (landing page)Pooja Gangras  OK    OK    OK  
2148/2353SurfR 1.5.2  (landing page)Aurora Maurizio  OK    OK    OK  
2149/2353survClust 1.3.0  (landing page)Arshi Arora  OK    OK    WARNINGS  
2150/2353survcomp 1.59.0  (landing page)Benjamin Haibe-Kains  OK    OK    OK  
2151/2353survtype 1.25.0  (landing page)Dongmin Jung  OK    OK    OK  
2152/2353sva 3.57.0  (landing page)Jeffrey T. Leek , John D. Storey  OK    OK    OK  
2153/2353svaNUMT 1.15.1  (landing page)Ruining Dong  OK    OK    OK  
2154/2353svaRetro 1.15.1  (landing page)Ruining Dong  OK    ERROR  skipped
2155/2353SVMDO 1.9.0  (landing page)Mustafa Erhan Ozer  OK    OK    OK  
2156/2353SVP 1.1.1  (landing page)Shuangbin Xu  OK    ERROR  skipped
2157/2353SWATH2stats 1.39.1  (landing page)Peter Blattmann  OK    OK    OK  
2158/2353SwathXtend 2.31.0  (landing page)Jemma Wu  OK    OK    OK  
2159/2353swfdr 1.35.0  (landing page)Simina M. Boca , Jeffrey T. Leek  OK    OK    WARNINGS  
2160/2353switchBox 1.45.0  (landing page)Bahman Afsari , Luigi Marchionni  OK    OK    WARNINGS  
2161/2353switchde 1.35.0  (landing page)Kieran Campbell  OK    OK    OK  
2162/2353synapsis 1.15.0  (landing page)Lucy McNeill  OK    OK    OK  
2163/2353synergyfinder 3.17.0  (landing page)Shuyu Zheng  OK    OK    WARNINGS  
2164/2353SynExtend 1.21.2  (landing page)Nicholas Cooley  OK    OK    ERROR  
2165/2353synlet 2.9.0  (landing page)Chunxuan Shao  OK    OK    OK  
2166/2353SynMut 1.25.0  (landing page)Haogao Gu  OK    OK    OK  
2167/2353syntenet 1.11.2  (landing page)Fabrício Almeida-Silva  OK    OK    OK  
2168/2353systemPipeR 2.15.2  (landing page)Thomas Girke  OK    OK    OK  
2169/2353systemPipeShiny 1.19.1  (landing page)Le Zhang  OK    OK    OK  
2170/2353systemPipeTools 1.17.0  (landing page)Daniela Cassol  OK    OK    WARNINGS  
T
ABCDEFGHIJKLMNOPQRSTUVWXYZ
PackageMaintainerINSTALLBUILDCHECKBUILD BIN
2171/2353tadar 1.7.1  (landing page)Lachlan Baer  OK    OK    OK  
2172/2353TADCompare 1.19.0  (landing page)Mikhail Dozmorov  OK    OK    OK  
2173/2353tanggle 1.15.2  (landing page)Klaus Schliep  OK    OK    OK  
2174/2353TAPseq 1.21.0  (landing page)Andreas R. Gschwind  OK    OK    WARNINGS  
2175/2353target 1.23.1  (landing page)Mahmoud Ahmed  OK    OK    OK  
2176/2353TargetDecoy 1.15.0  (landing page)Elke Debrie  OK    OK    OK  
2177/2353TargetScore 1.47.0  (landing page)Yue Li  OK    OK    OK  
2178/2353TargetSearch 2.11.1  (landing page)Alvaro Cuadros-Inostroza  OK    OK    OK  
2179/2353TaxSEA 1.1.9  (landing page)Feargal Ryan  OK    OK    OK  
2180/2353TBSignatureProfiler 1.21.4  (landing page)Kiloni Quiles  OK    OK    OK  
2181/2353TCC 1.49.1  (landing page)Jianqiang Sun  OK    OK    OK  
2182/2353TCGAbiolinks 2.37.3  (landing page)Tiago Chedraoui Silva  OK    OK    WARNINGS  
2183/2353TCGAutils 1.29.5  (landing page)Marcel Ramos  OK    ERROR  skipped
2184/2353TCseq 1.33.0  (landing page)Mengjun Wu  OK    OK    WARNINGS  
2185/2353TDbasedUFE 1.9.0  (landing page)Y-h. Taguchi  OK    OK    OK  
2186/2353TDbasedUFEadv 1.9.1  (landing page)Y-h. Taguchi  OK    OK    OK  
2187/2353TEKRABber 1.13.1  (landing page)Yao-Chung Chen  OK    OK    OK  
2188/2353TENET 1.1.90  (landing page)Rhie Lab at the University of Southern California  OK    OK    ERROR  
2189/2353TENxIO 1.11.5  (landing page)Marcel Ramos  OK    OK    OK  
2190/2353tenXplore 1.31.0  (landing page)VJ Carey  OK    OK    OK  
2191/2353TEQC 4.31.1  (landing page)Sarah Bonnin  OK    OK    WARNINGS  
2192/2353terapadog 1.1.0  (landing page)Gionmattia Carancini  OK    OK    OK  
2193/2353ternarynet 1.53.0  (landing page)McCall N. Matthew  OK    OK    OK  
2194/2353terraTCGAdata 1.13.0  (landing page)Marcel Ramos  OK    OK    OK  
2195/2353TFARM 1.31.0  (landing page)Liuba Nausicaa Martino  OK    OK    OK  
2196/2353TFBSTools 1.47.1  (landing page)Ge Tan  OK    OK    OK  
2197/2353TFEA.ChIP 1.29.4  (landing page)Yosra Berrouayel  OK    OK    OK  
2198/2353TFHAZ 1.31.0  (landing page)Gaia Ceddia  OK    OK    WARNINGS  
2199/2353TFutils 1.29.1  (landing page)Vincent Carey  OK    OK    OK  
2200/2353tidybulk 1.99.4  (landing page)Stefano Mangiola  OK    OK    OK  
2201/2353tidyCoverage 1.5.0  (landing page)Jacques Serizay  OK    TIMEOUT  skipped
2202/2353tidyFlowCore 1.3.0  (landing page)Timothy Keyes  OK    OK    OK  
2203/2353tidyomics 1.5.0  (landing page)Stefano Mangiola  OK    OK    WARNINGS  
2204/2353tidysbml 1.3.0  (landing page)Veronica Paparozzi  OK    OK    OK  
2205/2353tidySingleCellExperiment 1.19.1  (landing page)Stefano Mangiola  OK    OK    OK  
2206/2353tidySpatialExperiment 1.5.0  (landing page)William Hutchison  OK    OK    OK  
2207/2353tidySummarizedExperiment 1.19.6  (landing page)Stefano Mangiola  OK    OK    OK  
2208/2353tidytof 1.3.0  (landing page)Timothy Keyes  OK    OK    ERROR  
2209/2353tigre 1.63.0  (landing page)Antti Honkela  OK    OK    OK  
2210/2353TileDBArray 1.19.1  (landing page)Aaron Lun  ERROR    ERROR  skipped
2211/2353tilingArray 1.87.0  (landing page)Zhenyu Xu  OK    OK    OK  
2212/2353timecourse 1.81.0  (landing page)Yu Chuan Tai  OK    OK    OK  
2213/2353timeOmics 1.21.0  (landing page)Antoine Bodein  OK    OK    WARNINGS  
2214/2353timescape 1.33.0  (landing page)Maia Smith  OK    OK    WARNINGS  
2215/2353TIN 1.41.0  (landing page)Bjarne Johannessen  OK    OK    OK  
2216/2353TissueEnrich 1.29.0  (landing page)Ashish Jain  OK    OK    OK  
2217/2353TitanCNA 1.47.1  (landing page)Gavin Ha  OK    ERROR  skipped
2218/2353tkWidgets 1.87.0  (landing page)J. Zhang  OK    OK    OK  
2219/2353tLOH 1.17.0  (landing page)Michelle Webb  OK    OK    OK  
2220/2353TMixClust 1.31.0  (landing page)Monica Golumbeanu  OK    OK    OK  
2221/2353TMSig 1.3.0  (landing page)Tyler Sagendorf  OK    OK    OK  
2222/2353TnT 1.31.0  (landing page)Jialin Ma  OK    OK    OK  
2223/2353TOAST 1.23.0  (landing page)Ziyi Li  OK    OK    OK  
2224/2353tomoda 1.19.0  (landing page)Wendao Liu  OK    OK    OK  
2225/2353tomoseqr 1.13.0  (landing page)Ryosuke Matsuzawa  OK    OK    OK  
2226/2353TOP 1.9.0  (landing page)Harry Robertson  OK    OK    OK  
2227/2353topconfects 1.25.0  (landing page)Paul Harrison  OK    OK    OK  
2228/2353topdownr 1.31.1  (landing page)Sebastian Gibb  OK    OK    OK  
2229/2353topGO 2.61.1  (landing page)Federico Marini  OK    OK    WARNINGS  
2230/2353ToxicoGx 2.13.0  (landing page)Benjamin Haibe-Kains  OK    OK    OK  
2231/2353TPP 3.37.0  (landing page)Dorothee Childs  OK    OK    OK  
2232/2353TPP2D 1.25.2  (landing page)Nils Kurzawa  OK    OK    OK  
2233/2353tpSVG 1.5.0  (landing page)Boyi Guo  OK    OK    OK  
2234/2353tracktables 1.43.0  (landing page)Tom Carroll  OK    OK    WARNINGS  
2235/2353trackViewer 1.45.2  (landing page)Jianhong Ou  OK    OK    OK  
2236/2353tradeSeq 1.23.0  (landing page)Hector Roux de Bezieux  OK    OK    OK  
2237/2353TrajectoryGeometry 1.17.0  (landing page)Michael Shapiro  OK    OK    OK  
2238/2353TrajectoryUtils 1.17.0  (landing page)Aaron Lun  OK    OK    OK  
2239/2353transcriptogramer 1.31.0  (landing page)Diego Morais  OK    OK    OK  
2240/2353transcriptR 1.37.0  (landing page)Armen R. Karapetyan  OK    OK    ERROR  
2241/2353transformGamPoi 1.15.0  (landing page)Constantin Ahlmann-Eltze  OK    OK    OK  
2242/2353transite 1.27.1  (landing page)Konstantin Krismer  OK    OK    OK  
2243/2353tRanslatome 1.47.0  (landing page)Toma Tebaldi , Erik Dassi  OK    OK    OK  
2244/2353transmogR 1.5.2  (landing page)Stevie Pederson  OK    OK    OK  
2245/2353transomics2cytoscape 1.19.0  (landing page)Kozo Nishida  OK    OK    OK  
2246/2353TransView 1.53.1  (landing page)Julius Muller  OK    OK    OK  
2247/2353traseR 1.39.0  (landing page)li chen  OK    OK    OK  
2248/2353traviz 1.15.1  (landing page)Koen Van den Berge  ERROR    ERROR  skipped
2249/2353TreeAndLeaf 1.21.0  (landing page)Milena A. Cardoso  OK    OK    OK  
2250/2353treeclimbR 1.5.1  (landing page)Charlotte Soneson  OK    OK    OK  
2251/2353treeio 1.33.0  (landing page)Guangchuang Yu  OK    OK    OK  
2252/2353treekoR 1.17.0  (landing page)Adam Chan  OK    OK    OK  
2253/2353TreeSummarizedExperiment 2.17.1  (landing page)Ruizhu Huang  OK    OK    OK  
2254/2353TREG 1.13.0  (landing page)Louise Huuki-Myers  OK    OK    OK  
2255/2353Trendy 1.31.0  (landing page)Rhonda Bacher  OK    OK    OK  
2256/2353TRESS 1.15.0  (landing page)Zhenxing Guo  OK    OK    OK  
2257/2353tricycle 1.17.1  (landing page)Shijie Zheng  OK    OK    WARNINGS  
2258/2353TrIdent 1.1.5  (landing page)Jessie Maier  OK    OK    OK  
2259/2353trio 3.47.0  (landing page)Holger Schwender  OK    OK    OK  
2260/2353triplex 1.49.0  (landing page)Jiri Hon  OK    OK    WARNINGS  
2261/2353tripr 1.15.0  (landing page)Nikolaos Pechlivanis  OK    OK    WARNINGS  
2262/2353tRNA 1.27.1  (landing page)Felix GM Ernst  OK    OK    OK  
2263/2353tRNAdbImport 1.27.0  (landing page)Felix G.M. Ernst  OK    OK    OK  
2264/2353tRNAscanImport 1.29.1  (landing page)Felix G.M. Ernst  OK    OK    OK  
2265/2353TRONCO 2.41.1  (landing page)Luca De Sano  OK    OK    OK  
2266/2353TSAR 1.7.0  (landing page)Xinlin Gao  OK    OK    OK  
2267/2353TSCAN 1.47.0  (landing page)Zhicheng Ji  OK    OK    OK  
2268/2353ttgsea 1.17.0  (landing page)Dongmin Jung  OK    OK    OK  
2269/2353TTMap 1.31.0  (landing page)Rachel Jeitziner  OK    OK    OK  
2270/2353TurboNorm 1.57.0  (landing page)Maarten van Iterson  OK    OK    OK  
2271/2353TVTB 1.35.2  (landing page)Kevin Rue-Albrecht  OK    OK    OK  
2272/2353tweeDEseq 1.55.0  (landing page)Dolors Pelegri-Siso  OK    OK    WARNINGS  
2273/2353twilight 1.85.0  (landing page)Stefanie Senger  OK    OK    OK  
2274/2353twoddpcr 1.33.0  (landing page)Anthony Chiu  OK    OK    OK  
2275/2353txcutr 1.15.2  (landing page)Mervin Fansler  OK    OK    OK  
2276/2353txdbmaker 1.5.6  (landing page)H. Pagès  OK    OK    OK  
2277/2353tximeta 1.27.16  (landing page)Michael Love  OK    OK    OK  
2278/2353tximport 1.37.2  (landing page)Michael Love  OK    OK    OK  
U
ABCDEFGHIJKLMNOPQRSTUVWXYZ
PackageMaintainerINSTALLBUILDCHECKBUILD BIN
2279/2353UCell 2.13.3  (landing page)Massimo Andreatta  OK    OK    OK  
2280/2353UCSC.utils 1.5.0  (landing page)Hervé Pagès  OK    OK    OK  
2281/2353Ularcirc 1.27.2  (landing page)David Humphreys  OK    OK    WARNINGS  
2282/2353UMI4Cats 1.19.2  (landing page)Mireia Ramos-Rodriguez  OK    OK    OK  
2283/2353uncoverappLib 1.19.0  (landing page)Emanuela Iovino  OK    OK    OK  
2284/2353UNDO 1.51.0  (landing page)Niya Wang  OK    OK    OK  
2285/2353unifiedWMWqPCR 1.45.0  (landing page)Joris Meys  OK    OK    OK  
2286/2353UniProt.ws 2.49.4  (landing page)Marcel Ramos  OK    OK    OK  
2287/2353Uniquorn 2.29.1  (landing page)'Raik Otto'  OK    OK    OK  
2288/2353universalmotif 1.27.4  (landing page)Benjamin Jean-Marie Tremblay  OK    OK    OK  
2289/2353updateObject 1.13.0  (landing page)Hervé Pagès  OK    OK    OK  
2290/2353UPDhmm 1.5.1  (landing page)Marta Sevilla  OK    OK    OK  
2291/2353uSORT 1.35.0  (landing page)Hao Chen  OK    OK    WARNINGS  
V
ABCDEFGHIJKLMNOPQRSTUVWXYZ
PackageMaintainerINSTALLBUILDCHECKBUILD BIN
2292/2353VAExprs 1.15.0  (landing page)Dongmin Jung  OK    OK    OK  
2293/2353VanillaICE 1.71.0  (landing page)Robert Scharpf  ERROR    ERROR  skipped
2294/2353VarCon 1.17.0  (landing page)Johannes Ptok  OK    OK    OK  
2295/2353variancePartition 1.39.3  (landing page)Gabriel E. Hoffman  OK    OK    OK  
2296/2353VariantAnnotation 1.55.2  (landing page)Bioconductor Package Maintainer  OK    OK    WARNINGS  
2297/2353VariantExperiment 1.23.0  (landing page)Qian Liu  OK    OK    OK  
2298/2353VariantFiltering 1.45.2  (landing page)Robert Castelo  OK    ERROR  skipped
2299/2353VariantTools 1.51.0  (landing page)Michael Lawrence  OK    ERROR  skipped
2300/2353VaSP 1.21.0  (landing page)Huihui Yu  OK    OK    OK  
2301/2353vbmp 1.77.0  (landing page)Nicola Lama  OK    OK    OK  
2302/2353VCFArray 1.25.0  (landing page)Qian Liu  OK    OK    OK  
2303/2353VDJdive 1.11.0  (landing page)Kelly Street  OK    OK    OK  
2304/2353VegaMC 3.47.0  (landing page)Sandro Morganella  OK    OK    WARNINGS  
2305/2353velociraptor 1.19.1  (landing page)Kevin Rue-Albrecht  OK    ERROR  skipped
2306/2353veloviz 1.15.0  (landing page)Lyla Atta  OK    OK    OK  
2307/2353VennDetail 1.25.3  (landing page)Kai Guo  OK    OK    WARNINGS  
2308/2353VERSO 1.19.1  (landing page)Davide Maspero  OK    OK    OK  
2309/2353vidger 1.29.1  (landing page)Brandon Monier  OK    OK    OK  
2310/2353viper 1.43.0  (landing page)Mariano J Alvarez  OK    OK    WARNINGS  
2311/2353ViSEAGO 1.23.0  (landing page)Aurelien Brionne  OK    OK    WARNINGS  
2312/2353VisiumIO 1.5.11  (landing page)Marcel Ramos  OK    OK    OK  
2313/2353visiumStitched 1.1.2  (landing page)Nicholas J. Eagles  OK    OK    OK  
2314/2353vissE 1.17.0  (landing page)Dharmesh D. Bhuva  OK    OK    OK  
2315/2353vmrseq 1.1.2  (landing page)Ning Shen  OK    OK    OK  
2316/2353Voyager 1.11.0  (landing page)Lambda Moses  OK    OK    WARNINGS  
2317/2353VplotR 1.19.1  (landing page)Jacques Serizay  OK    OK    OK  
2318/2353vsclust 1.11.2  (landing page)Veit Schwammle  OK    OK    OK  
2319/2353vsn 3.77.0  (landing page)Wolfgang Huber  OK    OK    OK  
2320/2353vtpnet 0.49.0  (landing page)VJ Carey  OK    OK    OK  
2321/2353vulcan 1.31.0  (landing page)Federico M. Giorgi  OK    OK    OK  
W
ABCDEFGHIJKLMNOPQRSTUVWXYZ
PackageMaintainerINSTALLBUILDCHECKBUILD BIN
2322/2353waddR 1.23.0  (landing page)Julian Flesch  OK    OK    OK  
2323/2353wateRmelon 2.15.0  (landing page)Leo C Schalkwyk  OK    OK    WARNINGS  
2324/2353wavClusteR 2.43.0  (landing page)Federico Comoglio  OK    OK    OK  
2325/2353weaver 1.75.0  (landing page)Seth Falcon  OK    OK    WARNINGS  
2326/2353webbioc 1.81.0  (landing page)Colin A. Smith  OK    OK    OK  
2327/2353weitrix 1.21.0  (landing page)Paul Harrison  OK    OK    OK  
2328/2353widgetTools 1.87.0  (landing page)Jianhua Zhang  OK    OK    OK  
2329/2353wiggleplotr 1.33.2  (landing page)Kaur Alasoo  OK    OK    OK  
2330/2353wpm 1.19.0  (landing page)Helene Borges  OK    OK    OK  
2331/2353wppi 1.17.0  (landing page)Ana Galhoz  OK    OK    OK  
2332/2353Wrench 1.27.0  (landing page)Hector Corrada Bravo  OK    OK    OK  
X
ABCDEFGHIJKLMNOPQRSTUVWXYZ
PackageMaintainerINSTALLBUILDCHECKBUILD BIN
2333/2353XAItest 1.1.5  (landing page)Ghislain FIEVET  OK    OK    WARNINGS  
2334/2353xCell2 1.1.0  (landing page)Almog Angel  OK    OK    OK  
2335/2353xcms 4.7.3  (landing page)Steffen Neumann  OK    OK    OK  
2336/2353xcore 1.13.0  (landing page)Maciej Migdał  OK    OK    OK  
2337/2353XDE 2.55.0  (landing page)Robert Scharpf  OK    OK    WARNINGS  
2338/2353XeniumIO 1.1.3  (landing page)Marcel Ramos  OK    ERROR  skipped
2339/2353xenLite 1.3.0  (landing page)Vincent Carey  OK    ERROR  skipped
2340/2353Xeva 1.25.0  (landing page)Benjamin Haibe-Kains  OK    OK    OK  
2341/2353XINA 1.27.0  (landing page)Lang Ho Lee  OK    OK    OK  
2342/2353xmapbridge 1.67.0  (landing page)Chris Wirth  OK    OK    OK  
2343/2353XNAString 1.17.1  (landing page)Marianna Plucinska  ERROR    ERROR  skipped
2344/2353XVector 0.49.1  (landing page)Hervé Pagès  OK    OK    WARNINGS  
Y
ABCDEFGHIJKLMNOPQRSTUVWXYZ
PackageMaintainerINSTALLBUILDCHECKBUILD BIN
2345/2353yamss 1.35.0  (landing page)Leslie Myint  OK    OK    OK  
2346/2353YAPSA 1.35.1  (landing page)Zuguang Gu  OK    OK    OK  
2347/2353yarn 1.35.0  (landing page)Joseph N Paulson  OK    OK    OK  
Z
ABCDEFGHIJKLMNOPQRSTUVWXYZ
PackageMaintainerINSTALLBUILDCHECKBUILD BIN
2348/2353zellkonverter 1.19.2  (landing page)Luke Zappia  OK    OK    OK  
2349/2353zenith 1.11.0  (landing page)Gabriel Hoffman  OK    OK    WARNINGS  
2350/2353zFPKM 1.31.0  (landing page)Ron Ammar  OK    ERROR  skipped
2351/2353zinbwave 1.31.0  (landing page)Davide Risso  OK    OK    OK  
2352/2353zitools 1.3.0  (landing page)Carlotta Meyring  OK    OK    WARNINGS  
2353/2353ZygosityPredictor 1.9.1  (landing page)Marco Rheinnecker  OK    OK    OK