| Back to Multiple platform build/check report for BioC 3.22: simplified long |
|
This page was generated on 2025-10-20 12:08 -0400 (Mon, 20 Oct 2025).
| Hostname | OS | Arch (*) | R version | Installed pkgs |
|---|---|---|---|---|
| nebbiolo2 | Linux (Ubuntu 24.04.3 LTS) | x86_64 | 4.5.1 Patched (2025-08-23 r88802) -- "Great Square Root" | 4887 |
| lconway | macOS 12.7.6 Monterey | x86_64 | 4.5.1 Patched (2025-09-10 r88807) -- "Great Square Root" | 4677 |
| kjohnson3 | macOS 13.7.7 Ventura | arm64 | 4.5.1 Patched (2025-09-10 r88807) -- "Great Square Root" | 4622 |
| taishan | Linux (openEuler 24.03 LTS) | aarch64 | 4.5.0 (2025-04-11) -- "How About a Twenty-Six" | 4632 |
| Click on any hostname to see more info about the system (e.g. compilers) (*) as reported by 'uname -p', except on Windows and Mac OS X | ||||
| Package 1838/2353 | Hostname | OS / Arch | INSTALL | BUILD | CHECK | BUILD BIN | ||||||||
| rqubic 1.55.0 (landing page) Jitao David Zhang
| nebbiolo2 | Linux (Ubuntu 24.04.3 LTS) / x86_64 | OK | OK | WARNINGS | |||||||||
| lconway | macOS 12.7.6 Monterey / x86_64 | OK | OK | OK | OK | |||||||||
| kjohnson3 | macOS 13.7.7 Ventura / arm64 | OK | OK | OK | OK | |||||||||
| taishan | Linux (openEuler 24.03 LTS) / aarch64 | OK | OK | WARNINGS | ||||||||||
|
To the developers/maintainers of the rqubic package: - Allow up to 24 hours (and sometimes 48 hours) for your latest push to git@git.bioconductor.org:packages/rqubic.git to reflect on this report. See Troubleshooting Build Report for more information. - Use the following Renviron settings to reproduce errors and warnings. - If 'R CMD check' started to fail recently on the Linux builder(s) over a missing dependency, add the missing dependency to 'Suggests:' in your DESCRIPTION file. See Renviron.bioc for more information. - See Martin Grigorov's blog post for how to debug Linux ARM64 related issues on a x86_64 host. |
| Package: rqubic |
| Version: 1.55.0 |
| Command: /home/biocbuild/R/R/bin/R CMD INSTALL rqubic |
| StartedAt: 2025-10-16 21:23:49 -0000 (Thu, 16 Oct 2025) |
| EndedAt: 2025-10-16 21:24:02 -0000 (Thu, 16 Oct 2025) |
| EllapsedTime: 12.9 seconds |
| RetCode: 0 |
| Status: OK |
##############################################################################
##############################################################################
###
### Running command:
###
### /home/biocbuild/R/R/bin/R CMD INSTALL rqubic
###
##############################################################################
##############################################################################
* installing to library ‘/home/biocbuild/R/R-4.5.0/site-library’
* installing *source* package ‘rqubic’ ...
** this is package ‘rqubic’ version ‘1.55.0’
** using staged installation
** libs
using C compiler: ‘aarch64-unknown-linux-gnu-gcc (GCC) 14.2.0’
/opt/ohpc/pub/compiler/gcc/14.2.0/bin/aarch64-unknown-linux-gnu-gcc -std=gnu23 -I"/home/biocbuild/R/R-4.5.0/include" -DNDEBUG -I/usr/local/include -fPIC -g -O2 -Wall -Werror=format-security -c bicluster.c -o bicluster.o
bicluster.c: In function ‘seed_intersect_r’:
bicluster.c:354:11: warning: suggest parentheses around assignment used as truth value [-Wparentheses]
354 | if (flag=ss) (*m_cnt)++;
| ^~~~
/opt/ohpc/pub/compiler/gcc/14.2.0/bin/aarch64-unknown-linux-gnu-gcc -std=gnu23 -I"/home/biocbuild/R/R-4.5.0/include" -DNDEBUG -I/usr/local/include -fPIC -g -O2 -Wall -Werror=format-security -c discretize.c -o discretize.o
In file included from discretize.c:9:
rqubic.h:62:20: warning: ‘MINCOL_ATT_NAME’ defined but not used [-Wunused-variable]
62 | static const char *MINCOL_ATT_NAME="minimumCol";
| ^~~~~~~~~~~~~~~
rqubic.h:61:20: warning: ‘EDGELIST_ATT_NAME’ defined but not used [-Wunused-variable]
61 | static const char *EDGELIST_ATT_NAME="edgelist";
| ^~~~~~~~~~~~~~~~~
/opt/ohpc/pub/compiler/gcc/14.2.0/bin/aarch64-unknown-linux-gnu-gcc -std=gnu23 -I"/home/biocbuild/R/R-4.5.0/include" -DNDEBUG -I/usr/local/include -fPIC -g -O2 -Wall -Werror=format-security -c fib.c -o fib.o
In file included from fib.c:35:
rqubic.h:62:20: warning: ‘MINCOL_ATT_NAME’ defined but not used [-Wunused-variable]
62 | static const char *MINCOL_ATT_NAME="minimumCol";
| ^~~~~~~~~~~~~~~
rqubic.h:61:20: warning: ‘EDGELIST_ATT_NAME’ defined but not used [-Wunused-variable]
61 | static const char *EDGELIST_ATT_NAME="edgelist";
| ^~~~~~~~~~~~~~~~~
/opt/ohpc/pub/compiler/gcc/14.2.0/bin/aarch64-unknown-linux-gnu-gcc -std=gnu23 -I"/home/biocbuild/R/R-4.5.0/include" -DNDEBUG -I/usr/local/include -fPIC -g -O2 -Wall -Werror=format-security -c graph.c -o graph.o
In function ‘compare_edges’,
inlined from ‘fh_insert_fixed’ at graph.c:41:9,
inlined from ‘generate_sorted_seeds’ at graph.c:147:7:
graph.c:31:13: warning: array subscript ‘struct Edge[0]’ is partly outside array bounds of ‘struct Edge[0]’ [-Warray-bounds=]
31 | const int score_a = ((pEdge)a)->score;
| ^~~~~~~
graph.c: In function ‘generate_sorted_seeds’:
graph.c:131:9: note: object ‘_cur_min’ of size 8
131 | pEdge _cur_min = &__cur_min;
| ^~~~~~~~
/opt/ohpc/pub/compiler/gcc/14.2.0/bin/aarch64-unknown-linux-gnu-gcc -std=gnu23 -I"/home/biocbuild/R/R-4.5.0/include" -DNDEBUG -I/usr/local/include -fPIC -g -O2 -Wall -Werror=format-security -c rqubic.c -o rqubic.o
In file included from rqubic.c:5:
rqubic.h:62:20: warning: ‘MINCOL_ATT_NAME’ defined but not used [-Wunused-variable]
62 | static const char *MINCOL_ATT_NAME="minimumCol";
| ^~~~~~~~~~~~~~~
rqubic.h:61:20: warning: ‘EDGELIST_ATT_NAME’ defined but not used [-Wunused-variable]
61 | static const char *EDGELIST_ATT_NAME="edgelist";
| ^~~~~~~~~~~~~~~~~
/opt/ohpc/pub/compiler/gcc/14.2.0/bin/aarch64-unknown-linux-gnu-gcc -std=gnu23 -shared -L/home/biocbuild/R/R-4.5.0/lib -L/usr/local/lib -o rqubic.so bicluster.o discretize.o fib.o graph.o rqubic.o -L/home/biocbuild/R/R-4.5.0/lib -lR
installing to /home/biocbuild/R/R-4.5.0/site-library/00LOCK-rqubic/00new/rqubic/libs
** R
** inst
** byte-compile and prepare package for lazy loading
** help
*** installing help indices
** building package indices
** installing vignettes
** testing if installed package can be loaded from temporary location
** checking absolute paths in shared objects and dynamic libraries
** testing if installed package can be loaded from final location
** testing if installed package keeps a record of temporary installation path
* DONE (rqubic)