Back to Multiple platform build/check report for BioC 3.22:   simplified   long
ABCDEFGHIJKLMNOPQRS[T]UVWXYZ

This page was generated on 2025-10-21 12:08 -0400 (Tue, 21 Oct 2025).

HostnameOSArch (*)R versionInstalled pkgs
nebbiolo2Linux (Ubuntu 24.04.3 LTS)x86_644.5.1 Patched (2025-08-23 r88802) -- "Great Square Root" 4887
lconwaymacOS 12.7.6 Montereyx86_644.5.1 Patched (2025-09-10 r88807) -- "Great Square Root" 4677
kjohnson3macOS 13.7.7 Venturaarm644.5.1 Patched (2025-09-10 r88807) -- "Great Square Root" 4622
taishanLinux (openEuler 24.03 LTS)aarch644.5.0 (2025-04-11) -- "How About a Twenty-Six" 4642
Click on any hostname to see more info about the system (e.g. compilers)      (*) as reported by 'uname -p', except on Windows and Mac OS X

Package 2265/2353HostnameOS / ArchINSTALLBUILDCHECKBUILD BIN
TRONCO 2.41.1  (landing page)
Luca De Sano
Snapshot Date: 2025-10-20 13:45 -0400 (Mon, 20 Oct 2025)
git_url: https://git.bioconductor.org/packages/TRONCO
git_branch: devel
git_last_commit: ac0844f
git_last_commit_date: 2025-09-11 16:54:45 -0400 (Thu, 11 Sep 2025)
nebbiolo2Linux (Ubuntu 24.04.3 LTS) / x86_64  OK    OK    OK  UNNEEDED, same version is already published
lconwaymacOS 12.7.6 Monterey / x86_64  OK    OK    OK    OK  UNNEEDED, same version is already published
kjohnson3macOS 13.7.7 Ventura / arm64  OK    OK    OK    OK  UNNEEDED, same version is already published
taishanLinux (openEuler 24.03 LTS) / aarch64  OK    OK    OK  


CHECK results for TRONCO on taishan

To the developers/maintainers of the TRONCO package:
- Allow up to 24 hours (and sometimes 48 hours) for your latest push to git@git.bioconductor.org:packages/TRONCO.git to reflect on this report. See Troubleshooting Build Report for more information.
- Use the following Renviron settings to reproduce errors and warnings.
- If 'R CMD check' started to fail recently on the Linux builder(s) over a missing dependency, add the missing dependency to 'Suggests:' in your DESCRIPTION file. See Renviron.bioc for more information.
- See Martin Grigorov's blog post for how to debug Linux ARM64 related issues on a x86_64 host.

raw results


Summary

Package: TRONCO
Version: 2.41.1
Command: /home/biocbuild/R/R/bin/R CMD check --install=check:TRONCO.install-out.txt --library=/home/biocbuild/R/R/site-library --no-vignettes --timings TRONCO_2.41.1.tar.gz
StartedAt: 2025-10-17 14:44:40 -0000 (Fri, 17 Oct 2025)
EndedAt: 2025-10-17 14:48:56 -0000 (Fri, 17 Oct 2025)
EllapsedTime: 255.5 seconds
RetCode: 0
Status:   OK  
CheckDir: TRONCO.Rcheck
Warnings: 0

Command output

##############################################################################
##############################################################################
###
### Running command:
###
###   /home/biocbuild/R/R/bin/R CMD check --install=check:TRONCO.install-out.txt --library=/home/biocbuild/R/R/site-library --no-vignettes --timings TRONCO_2.41.1.tar.gz
###
##############################################################################
##############################################################################


* using log directory ‘/home/biocbuild/bbs-3.22-bioc/meat/TRONCO.Rcheck’
* using R version 4.5.0 (2025-04-11)
* using platform: aarch64-unknown-linux-gnu
* R was compiled by
    aarch64-unknown-linux-gnu-gcc (GCC) 14.2.0
    GNU Fortran (GCC) 14.2.0
* running under: openEuler 24.03 (LTS)
* using session charset: UTF-8
* using option ‘--no-vignettes’
* checking for file ‘TRONCO/DESCRIPTION’ ... OK
* this is package ‘TRONCO’ version ‘2.41.1’
* package encoding: UTF-8
* checking package namespace information ... OK
* checking package dependencies ... OK
* checking if this is a source package ... OK
* checking if there is a namespace ... OK
* checking for hidden files and directories ... OK
* checking for portable file names ... OK
* checking for sufficient/correct file permissions ... OK
* checking whether package ‘TRONCO’ can be installed ... OK
* checking installed package size ... OK
* checking package directory ... OK
* checking ‘build’ directory ... OK
* checking DESCRIPTION meta-information ... OK
* checking top-level files ... OK
* checking for left-over files ... OK
* checking index information ... OK
* checking package subdirectories ... OK
* checking code files for non-ASCII characters ... OK
* checking R files for syntax errors ... OK
* checking whether the package can be loaded ... OK
* checking whether the package can be loaded with stated dependencies ... OK
* checking whether the package can be unloaded cleanly ... OK
* checking whether the namespace can be loaded with stated dependencies ... OK
* checking whether the namespace can be unloaded cleanly ... OK
* checking loading without being on the library search path ... OK
* checking whether startup messages can be suppressed ... OK
* checking dependencies in R code ... OK
* checking S3 generic/method consistency ... OK
* checking replacement functions ... OK
* checking foreign function calls ... OK
* checking R code for possible problems ... OK
* checking Rd files ... OK
* checking Rd metadata ... OK
* checking Rd cross-references ... OK
* checking for missing documentation entries ... OK
* checking for code/documentation mismatches ... OK
* checking Rd \usage sections ... OK
* checking Rd contents ... OK
* checking for unstated dependencies in examples ... OK
* checking contents of ‘data’ directory ... OK
* checking data for non-ASCII characters ... OK
* checking data for ASCII and uncompressed saves ... OK
* checking files in ‘vignettes’ ... OK
* checking examples ... OK
Examples with CPU (user + system) or elapsed time > 5s
                  user system elapsed
tronco.bootstrap 0.121  0.009  13.966
* checking for unstated dependencies in ‘tests’ ... OK
* checking tests ...
  Running ‘testthat.R’
 OK
* checking for unstated dependencies in vignettes ... OK
* checking package vignettes ... OK
* checking running R code from vignettes ... SKIPPED
* checking re-building of vignette outputs ... SKIPPED
* checking PDF version of manual ... OK
* DONE

Status: OK


Installation output

TRONCO.Rcheck/00install.out

##############################################################################
##############################################################################
###
### Running command:
###
###   /home/biocbuild/R/R/bin/R CMD INSTALL TRONCO
###
##############################################################################
##############################################################################


* installing to library ‘/home/biocbuild/R/R-4.5.0/site-library’
* installing *source* package ‘TRONCO’ ...
** this is package ‘TRONCO’ version ‘2.41.1’
** using staged installation
** R
** data
** inst
** byte-compile and prepare package for lazy loading
** help
*** installing help indices
** building package indices
** installing vignettes
** testing if installed package can be loaded from temporary location
** testing if installed package can be loaded from final location
** testing if installed package keeps a record of temporary installation path
* DONE (TRONCO)

Tests output

TRONCO.Rcheck/tests/testthat.Rout


R version 4.5.0 (2025-04-11) -- "How About a Twenty-Six"
Copyright (C) 2025 The R Foundation for Statistical Computing
Platform: aarch64-unknown-linux-gnu

R is free software and comes with ABSOLUTELY NO WARRANTY.
You are welcome to redistribute it under certain conditions.
Type 'license()' or 'licence()' for distribution details.

R is a collaborative project with many contributors.
Type 'contributors()' for more information and
'citation()' on how to cite R or R packages in publications.

Type 'demo()' for some demos, 'help()' for on-line help, or
'help.start()' for an HTML browser interface to help.
Type 'q()' to quit R.

> Sys.setenv("R_TESTS" = "")
> 
> library(testthat)
> library(TRONCO)
> 
> test_check("TRONCO")
*** Checking input events.
*** Inferring a progression model with the following settings.
	Dataset size: n = 40, m = 30.
	Algorithm: CAPRESE with shrinkage coefficient: 0.5.
*** Evaluating LogLik informations.
The reconstruction has been successfully completed in 00h:00m:00s 
*** Checking input events.
*** Inferring a progression model with the following settings.
	Dataset size: n = 40, m = 30.
	Algorithm: Edmonds with "no_reg" regularization	Random seed: NULL.
	Bootstrap iterations (Wilcoxon): 1.
		exhaustive bootstrap: TRUE.
		p-value: 0.05.
		minimum bootstrapped scores: 3.
*** Bootstraping selective advantage scores (prima facie).
	.......
	Evaluating "temporal priority" (Wilcoxon, p-value 0.05)
	Evaluating "probability raising" (Wilcoxon, p-value 0.05)
*** Loop detection found loops to break.
	Removed 9 edges out of 55 (16%)
*** Performing likelihood-fit with regularization: no_reg and score: pmi .
*** Evaluating BIC / AIC / LogLik informations.
The reconstruction has been successfully completed in 00h:00m:02s 
*** Checking input events.
*** Inferring a progression model with the following settings.
	Dataset size: n = 40, m = 30.
	Algorithm: Gabow with "no_reg" regularization	Random seed: NULL.
	Bootstrap iterations (Wilcoxon): 1.
		exhaustive bootstrap: TRUE.
		p-value: 0.05.
		minimum bootstrapped scores: 3.
*** Bootstraping selective advantage scores (prima facie).
	.............
	Evaluating "temporal priority" (Wilcoxon, p-value 0.05)
	Evaluating "probability raising" (Wilcoxon, p-value 0.05)
*** Loop detection found loops to break.
	Removed 3 edges out of 50 (6%)
*** Performing likelihood-fit with regularization: no_reg .
*** Evaluating BIC / AIC / LogLik informations.
The reconstruction has been successfully completed in 00h:00m:02s 
*** Checking input events.
*** Inferring a progression model with the following settings.
	Dataset size: n = 40, m = 30.
	Algorithm: Chow Liu with "bic, aic" regularization	Random seed: NULL.
	Bootstrap iterations (Wilcoxon): 1.
		exhaustive bootstrap: TRUE.
		p-value: 0.05.
		minimum bootstrapped scores: 3.
*** Bootstraping selective advantage scores (prima facie).
	.............
	Evaluating "temporal priority" (Wilcoxon, p-value 0.05)
	Evaluating "probability raising" (Wilcoxon, p-value 0.05)
*** Loop detection found loops to break.
	Removed 8 edges out of 50 (16%)
*** Performing likelihood-fit with regularization bic .
*** Performing likelihood-fit with regularization aic .
*** Evaluating BIC / AIC / LogLik informations.
The reconstruction has been successfully completed in 00h:00m:02s 
*** Checking input events.
*** Inferring a progression model with the following settings.
	Dataset size: n = 40, m = 30.
	Algorithm: Prim with "no_reg" regularization	Random seed: NULL.
	Bootstrap iterations (Wilcoxon): 1.
		exhaustive bootstrap: TRUE.
		p-value: 0.05.
		minimum bootstrapped scores: 3.
*** Bootstraping selective advantage scores (prima facie).
	.....
	Evaluating "temporal priority" (Wilcoxon, p-value 0.05)
	Evaluating "probability raising" (Wilcoxon, p-value 0.05)
*** Loop detection found loops to break.
	Removed 7 edges out of 53 (13%)
*** Performing likelihood-fit with regularization: no_reg .
*** Evaluating BIC / AIC / LogLik informations.
The reconstruction has been successfully completed in 00h:00m:02s 
[ FAIL 0 | WARN 23 | SKIP 0 | PASS 225 ]

[ FAIL 0 | WARN 23 | SKIP 0 | PASS 225 ]
> 
> proc.time()
   user  system elapsed 
 55.927   0.911 125.378 

Example timings

TRONCO.Rcheck/TRONCO-Ex.timings

nameusersystemelapsed
TCGA.multiple.samples0.0210.0000.021
TCGA.remove.multiple.samples0.0130.0040.017
TCGA.shorten.barcodes0.0110.0000.011
annotate.description0.0070.0040.011
annotate.stages0.0050.0040.009
as.adj.matrix0.0100.0000.009
as.alterations0.0040.0000.004
as.bootstrap.scores0.1730.0000.174
as.colors0.0020.0000.001
as.confidence0.0070.0040.011
as.description0.0020.0000.001
as.events0.0020.0000.002
as.events.in.patterns0.0040.0000.004
as.events.in.sample0.0050.0000.005
as.gene0.0050.0000.005
as.genes0.0020.0000.002
as.genes.in.patterns0.0040.0000.004
as.genotypes0.0060.0040.009
as.hypotheses0.0020.0020.003
as.joint.probs0.0030.0050.008
as.kfold.eloss0.0780.0000.078
as.kfold.posterr0.0970.0040.101
as.kfold.prederr0.1010.0040.106
as.marginal.probs0.0040.0000.005
as.models0.0150.0000.015
as.parameters0.0030.0000.003
as.pathway0.0080.0000.008
as.patterns0.0030.0000.003
as.samples0.0020.0000.002
as.selective.advantage.relations0.0890.0080.097
as.stages0.0050.0040.010
as.types0.0020.0000.002
as.types.in.patterns0.0040.0000.004
change.color0.0020.0000.002
consolidate.data0.0620.0240.087
delete.event0.0070.0000.007
delete.gene0.0060.0000.006
delete.hypothesis0.0370.0040.040
delete.model0.0040.0000.004
delete.pattern0.0130.0040.017
delete.samples0.0050.0000.004
delete.type0.0030.0040.007
duplicates0.0020.0000.003
enforce.numeric0.0010.0030.004
enforce.string0.0040.0000.004
events.selection0.0050.0000.006
export.graphml0.1900.0120.206
export.mutex0.0090.0040.012
has.duplicates0.0020.0000.002
has.model0.0020.0000.003
has.stages0.0100.0000.009
import.GISTIC0.0070.0000.008
import.MAF0.0920.0080.100
intersect.datasets0.0020.0000.001
is.compliant0.0020.0000.002
join.events0.0040.0000.004
join.types0.0610.0120.073
keysToNames0.0050.0000.005
nameToKey0.0030.0000.003
nevents0.0010.0000.002
ngenes0.0020.0000.002
nhypotheses0.0020.0000.001
npatterns0.0000.0010.002
nsamples0.0000.0020.002
ntypes0.0020.0000.002
oncoprint.cbio0.0070.0000.007
order.frequency0.0030.0040.008
pheatmap0.0440.0040.049
rank.recurrents0.0040.0000.005
rename.gene0.0030.0000.002
rename.type0.0000.0020.003
samples.selection0.0030.0010.004
trim0.0040.0000.004
tronco.bootstrap 0.121 0.00913.966
tronco.caprese0.2120.0080.221
tronco.capri2.8420.0472.904
tronco.chowliu1.9640.0001.970
tronco.edmonds1.8950.0201.921
tronco.gabow1.8370.0001.844
tronco.kfold.eloss0.0990.0080.107
tronco.kfold.posterr0.1300.0334.479
tronco.kfold.prederr0.0980.0394.219
tronco.plot0.2060.0040.212
tronco.prim3.3040.0603.374
view0.0040.0000.005
which.samples0.0030.0000.004