Back to Multiple platform build/check report for BioC 3.22:   simplified   long
ABCDEFGH[I]JKLMNOPQRSTUVWXYZ

This page was generated on 2025-10-18 12:07 -0400 (Sat, 18 Oct 2025).

HostnameOSArch (*)R versionInstalled pkgs
nebbiolo2Linux (Ubuntu 24.04.3 LTS)x86_644.5.1 Patched (2025-08-23 r88802) -- "Great Square Root" 4887
lconwaymacOS 12.7.6 Montereyx86_644.5.1 Patched (2025-09-10 r88807) -- "Great Square Root" 4677
kjohnson3macOS 13.7.7 Venturaarm644.5.1 Patched (2025-09-10 r88807) -- "Great Square Root" 4622
taishanLinux (openEuler 24.03 LTS)aarch644.5.0 (2025-04-11) -- "How About a Twenty-Six" 4632
Click on any hostname to see more info about the system (e.g. compilers)      (*) as reported by 'uname -p', except on Windows and Mac OS X

Package 1076/2353HostnameOS / ArchINSTALLBUILDCHECKBUILD BIN
ISAnalytics 1.19.3  (landing page)
Francesco Gazzo
Snapshot Date: 2025-10-17 13:45 -0400 (Fri, 17 Oct 2025)
git_url: https://git.bioconductor.org/packages/ISAnalytics
git_branch: devel
git_last_commit: 923672f
git_last_commit_date: 2025-07-21 09:31:21 -0400 (Mon, 21 Jul 2025)
nebbiolo2Linux (Ubuntu 24.04.3 LTS) / x86_64  OK    OK    OK  UNNEEDED, same version is already published
lconwaymacOS 12.7.6 Monterey / x86_64  OK    OK    OK    OK  UNNEEDED, same version is already published
kjohnson3macOS 13.7.7 Ventura / arm64  OK    OK    OK    OK  UNNEEDED, same version is already published
taishanLinux (openEuler 24.03 LTS) / aarch64  OK    OK    OK  


CHECK results for ISAnalytics on taishan

To the developers/maintainers of the ISAnalytics package:
- Allow up to 24 hours (and sometimes 48 hours) for your latest push to git@git.bioconductor.org:packages/ISAnalytics.git to reflect on this report. See Troubleshooting Build Report for more information.
- Use the following Renviron settings to reproduce errors and warnings.
- If 'R CMD check' started to fail recently on the Linux builder(s) over a missing dependency, add the missing dependency to 'Suggests:' in your DESCRIPTION file. See Renviron.bioc for more information.
- See Martin Grigorov's blog post for how to debug Linux ARM64 related issues on a x86_64 host.

raw results


Summary

Package: ISAnalytics
Version: 1.19.3
Command: /home/biocbuild/R/R/bin/R CMD check --install=check:ISAnalytics.install-out.txt --library=/home/biocbuild/R/R/site-library --no-vignettes --timings ISAnalytics_1.19.3.tar.gz
StartedAt: 2025-10-17 10:18:53 -0000 (Fri, 17 Oct 2025)
EndedAt: 2025-10-17 10:30:02 -0000 (Fri, 17 Oct 2025)
EllapsedTime: 668.5 seconds
RetCode: 0
Status:   OK  
CheckDir: ISAnalytics.Rcheck
Warnings: 0

Command output

##############################################################################
##############################################################################
###
### Running command:
###
###   /home/biocbuild/R/R/bin/R CMD check --install=check:ISAnalytics.install-out.txt --library=/home/biocbuild/R/R/site-library --no-vignettes --timings ISAnalytics_1.19.3.tar.gz
###
##############################################################################
##############################################################################


* using log directory ‘/home/biocbuild/bbs-3.22-bioc/meat/ISAnalytics.Rcheck’
* using R version 4.5.0 (2025-04-11)
* using platform: aarch64-unknown-linux-gnu
* R was compiled by
    aarch64-unknown-linux-gnu-gcc (GCC) 14.2.0
    GNU Fortran (GCC) 14.2.0
* running under: openEuler 24.03 (LTS)
* using session charset: UTF-8
* using option ‘--no-vignettes’
* checking for file ‘ISAnalytics/DESCRIPTION’ ... OK
* this is package ‘ISAnalytics’ version ‘1.19.3’
* package encoding: UTF-8
* checking package namespace information ... OK
* checking package dependencies ... INFO
Imports includes 22 non-default packages.
Importing from so many packages makes the package vulnerable to any of
them becoming unavailable.  Move as many as possible to Suggests and
use conditionally.
* checking if this is a source package ... OK
* checking if there is a namespace ... OK
* checking for hidden files and directories ... OK
* checking for portable file names ... OK
* checking for sufficient/correct file permissions ... OK
* checking whether package ‘ISAnalytics’ can be installed ... OK
* checking installed package size ... INFO
  installed size is  8.3Mb
  sub-directories of 1Mb or more:
    data   5.8Mb
* checking package directory ... OK
* checking ‘build’ directory ... OK
* checking DESCRIPTION meta-information ... OK
* checking top-level files ... OK
* checking for left-over files ... OK
* checking index information ... OK
* checking package subdirectories ... OK
* checking code files for non-ASCII characters ... OK
* checking R files for syntax errors ... OK
* checking whether the package can be loaded ... OK
* checking whether the package can be loaded with stated dependencies ... OK
* checking whether the package can be unloaded cleanly ... OK
* checking whether the namespace can be loaded with stated dependencies ... OK
* checking whether the namespace can be unloaded cleanly ... OK
* checking loading without being on the library search path ... OK
* checking whether startup messages can be suppressed ... OK
* checking dependencies in R code ... OK
* checking S3 generic/method consistency ... OK
* checking replacement functions ... OK
* checking foreign function calls ... OK
* checking R code for possible problems ... OK
* checking Rd files ... NOTE
checkRd: (-1) refGenes_hg19.Rd:21: Lost braces; missing escapes or markup?
    21 | \item Download from {http://hgdownload.soe.ucsc.edu/goldenPath/hg19/database/}
       |                     ^
* checking Rd metadata ... OK
* checking Rd cross-references ... OK
* checking for missing documentation entries ... OK
* checking for code/documentation mismatches ... OK
* checking Rd \usage sections ... OK
* checking Rd contents ... OK
* checking for unstated dependencies in examples ... OK
* checking contents of ‘data’ directory ... OK
* checking data for non-ASCII characters ... OK
* checking data for ASCII and uncompressed saves ... OK
* checking files in ‘vignettes’ ... OK
* checking examples ... OK
Examples with CPU (user + system) or elapsed time > 5s
                                user system elapsed
sharing_venn                   5.353  0.477  45.867
integration_alluvial_plot      5.502  0.326  12.045
import_parallel_Vispa2Matrices 3.266  0.401  20.462
sharing_heatmap                2.674  0.094  14.161
top_cis_overtime_heatmap       2.237  0.164  11.065
import_Vispa2_stats            2.091  0.233   9.858
CIS_grubbs_overtime            2.016  0.094   9.272
iss_source                     1.763  0.194  11.072
HSC_population_plot            1.776  0.147   5.972
is_sharing                     1.663  0.156  11.900
realign_after_collisions       1.384  0.172   9.034
remove_collisions              1.317  0.094   9.088
HSC_population_size_estimate   1.238  0.071   5.259
compute_near_integrations      1.034  0.056   7.864
* checking for unstated dependencies in ‘tests’ ... OK
* checking tests ...
  Running ‘testthat.R’
 OK
* checking for unstated dependencies in vignettes ... OK
* checking package vignettes ... OK
* checking running R code from vignettes ... SKIPPED
* checking re-building of vignette outputs ... SKIPPED
* checking PDF version of manual ... OK
* DONE

Status: 1 NOTE
See
  ‘/home/biocbuild/bbs-3.22-bioc/meat/ISAnalytics.Rcheck/00check.log’
for details.


Installation output

ISAnalytics.Rcheck/00install.out

##############################################################################
##############################################################################
###
### Running command:
###
###   /home/biocbuild/R/R/bin/R CMD INSTALL ISAnalytics
###
##############################################################################
##############################################################################


* installing to library ‘/home/biocbuild/R/R-4.5.0/site-library’
* installing *source* package ‘ISAnalytics’ ...
** this is package ‘ISAnalytics’ version ‘1.19.3’
** using staged installation
** R
** data
** inst
** byte-compile and prepare package for lazy loading
** help
*** installing help indices
*** copying figures
** building package indices
** installing vignettes
** testing if installed package can be loaded from temporary location
** testing if installed package can be loaded from final location
** testing if installed package keeps a record of temporary installation path
* DONE (ISAnalytics)

Tests output

ISAnalytics.Rcheck/tests/testthat.Rout


R version 4.5.0 (2025-04-11) -- "How About a Twenty-Six"
Copyright (C) 2025 The R Foundation for Statistical Computing
Platform: aarch64-unknown-linux-gnu

R is free software and comes with ABSOLUTELY NO WARRANTY.
You are welcome to redistribute it under certain conditions.
Type 'license()' or 'licence()' for distribution details.

R is a collaborative project with many contributors.
Type 'contributors()' for more information and
'citation()' on how to cite R or R packages in publications.

Type 'demo()' for some demos, 'help()' for on-line help, or
'help.start()' for an HTML browser interface to help.
Type 'q()' to quit R.

> library(testthat)
> library(ISAnalytics)
> 
> test_check("ISAnalytics")
Loading required namespace: plotly
Loading required namespace: rmarkdown
Report correctly saved
i Report saved to: /home/biocbuild/tmp/RtmpJwvdI4/file25624319181c30/2025-10-17_collision_removal_report.html
Report correctly saved
i Report saved to: /home/biocbuild/tmp/RtmpJwvdI4/file256243713326c/2025-10-17_outlier_test_pool_fragments_report.html
[ FAIL 0 | WARN 0 | SKIP 0 | PASS 834 ]
> 
> proc.time()
   user  system elapsed 
137.030   6.810 372.936 

Example timings

ISAnalytics.Rcheck/ISAnalytics-Ex.timings

nameusersystemelapsed
CIS_grubbs1.2110.0271.241
CIS_grubbs_overtime2.0160.0949.272
CIS_volcano_plot2.2150.1922.414
HSC_population_plot1.7760.1475.972
HSC_population_size_estimate1.2380.0715.259
NGSdataExplorer000
aggregate_metadata0.1550.0000.156
aggregate_values_by_key0.090.000.09
annotation_issues0.0350.0000.036
as_sparse_matrix0.0650.0040.069
available_outlier_tests000
available_tags0.0270.0030.031
blood_lineages_default0.0420.0000.042
circos_genomic_density000
clinical_relevant_suspicious_genes0.0180.0000.018
comparison_matrix0.0370.0040.041
compute_abundance0.0530.0120.065
compute_near_integrations1.0340.0567.864
cumulative_count_union000
cumulative_is0.2440.0230.269
date_formats000
default_af_transform0.0000.0000.001
default_iss_file_prefixes000
default_meta_agg0.0280.0000.028
default_rec_agg_lambdas0.0000.0000.001
default_report_path0.0080.0040.013
default_stats1.4360.0641.505
enable_progress_bars0.0200.0060.026
export_ISA_settings0.1110.0080.119
fisher_scatterplot1.7140.1681.888
gene_frequency_fisher1.2250.0551.284
generate_Vispa2_launch_AF0.2620.0240.285
generate_blank_association_file0.0180.0000.019
generate_default_folder_structure0.5320.0790.612
import_ISA_settings0.0870.0120.099
import_Vispa2_stats2.0910.2339.858
import_association_file0.8440.1531.001
import_parallel_Vispa2Matrices 3.266 0.40120.462
import_single_Vispa2Matrix1.1090.2351.349
inspect_tags0.020.000.02
integration_alluvial_plot 5.502 0.32612.045
is_sharing 1.663 0.15611.900
iss_source 1.763 0.19411.072
known_clinical_oncogenes0.0150.0000.015
mandatory_IS_vars0.1250.0040.128
matching_options000
outlier_filter0.1810.0440.225
outliers_by_pool_fragments0.2130.0200.234
pcr_id_column0.0260.0000.026
purity_filter0.4790.0910.572
quantification_types000
realign_after_collisions1.3840.1729.034
reduced_AF_columns0.0630.0000.062
refGene_table_cols000
remove_collisions1.3170.0949.088
reset_mandatory_IS_vars0.0070.0000.007
sample_statistics0.4480.0110.461
separate_quant_matrices0.0190.0000.020
set_mandatory_IS_vars0.1250.0000.126
set_matrix_file_suffixes0.0210.0050.026
sharing_heatmap 2.674 0.09414.161
sharing_venn 5.353 0.47745.867
threshold_filter000
top_abund_tableGrob0.9050.0240.932
top_cis_overtime_heatmap 2.237 0.16411.065
top_integrations0.0430.0000.043
top_targeted_genes0.7020.0280.733
transform_columns0.030.000.03