Back to Multiple platform build/check report for BioC 3.22:   simplified   long
A[B]CDEFGHIJKLMNOPQRSTUVWXYZ

This page was generated on 2025-10-18 12:07 -0400 (Sat, 18 Oct 2025).

HostnameOSArch (*)R versionInstalled pkgs
nebbiolo2Linux (Ubuntu 24.04.3 LTS)x86_644.5.1 Patched (2025-08-23 r88802) -- "Great Square Root" 4887
lconwaymacOS 12.7.6 Montereyx86_644.5.1 Patched (2025-09-10 r88807) -- "Great Square Root" 4677
kjohnson3macOS 13.7.7 Venturaarm644.5.1 Patched (2025-09-10 r88807) -- "Great Square Root" 4622
taishanLinux (openEuler 24.03 LTS)aarch644.5.0 (2025-04-11) -- "How About a Twenty-Six" 4632
Click on any hostname to see more info about the system (e.g. compilers)      (*) as reported by 'uname -p', except on Windows and Mac OS X

Package 233/2353HostnameOS / ArchINSTALLBUILDCHECKBUILD BIN
blase 0.99.5  (landing page)
Andrew McCluskey
Snapshot Date: 2025-10-17 13:45 -0400 (Fri, 17 Oct 2025)
git_url: https://git.bioconductor.org/packages/blase
git_branch: devel
git_last_commit: 15b9ddf
git_last_commit_date: 2025-10-15 05:31:32 -0400 (Wed, 15 Oct 2025)
nebbiolo2Linux (Ubuntu 24.04.3 LTS) / x86_64  OK    OK    OK  UNNEEDED, same version is already published
lconwaymacOS 12.7.6 Monterey / x86_64  OK    OK    OK    OK  UNNEEDED, same version is already published
kjohnson3macOS 13.7.7 Ventura / arm64  OK    OK    OK    OK  UNNEEDED, same version is already published
taishanLinux (openEuler 24.03 LTS) / aarch64  OK    OK    OK  


CHECK results for blase on taishan

To the developers/maintainers of the blase package:
- Allow up to 24 hours (and sometimes 48 hours) for your latest push to git@git.bioconductor.org:packages/blase.git to reflect on this report. See Troubleshooting Build Report for more information.
- Use the following Renviron settings to reproduce errors and warnings.
- If 'R CMD check' started to fail recently on the Linux builder(s) over a missing dependency, add the missing dependency to 'Suggests:' in your DESCRIPTION file. See Renviron.bioc for more information.
- See Martin Grigorov's blog post for how to debug Linux ARM64 related issues on a x86_64 host.

raw results


Summary

Package: blase
Version: 0.99.5
Command: /home/biocbuild/R/R/bin/R CMD check --install=check:blase.install-out.txt --library=/home/biocbuild/R/R/site-library --no-vignettes --timings blase_0.99.5.tar.gz
StartedAt: 2025-10-17 06:50:36 -0000 (Fri, 17 Oct 2025)
EndedAt: 2025-10-17 07:01:09 -0000 (Fri, 17 Oct 2025)
EllapsedTime: 632.7 seconds
RetCode: 0
Status:   OK  
CheckDir: blase.Rcheck
Warnings: 0

Command output

##############################################################################
##############################################################################
###
### Running command:
###
###   /home/biocbuild/R/R/bin/R CMD check --install=check:blase.install-out.txt --library=/home/biocbuild/R/R/site-library --no-vignettes --timings blase_0.99.5.tar.gz
###
##############################################################################
##############################################################################


* using log directory ‘/home/biocbuild/bbs-3.22-bioc/meat/blase.Rcheck’
* using R version 4.5.0 (2025-04-11)
* using platform: aarch64-unknown-linux-gnu
* R was compiled by
    aarch64-unknown-linux-gnu-gcc (GCC) 14.2.0
    GNU Fortran (GCC) 14.2.0
* running under: openEuler 24.03 (LTS)
* using session charset: UTF-8
* using option ‘--no-vignettes’
* checking for file ‘blase/DESCRIPTION’ ... OK
* this is package ‘blase’ version ‘0.99.5’
* package encoding: UTF-8
* checking package namespace information ... OK
* checking package dependencies ... OK
* checking if this is a source package ... OK
* checking if there is a namespace ... OK
* checking for hidden files and directories ... OK
* checking for portable file names ... OK
* checking for sufficient/correct file permissions ... OK
* checking whether package ‘blase’ can be installed ... OK
* checking installed package size ... INFO
  installed size is  5.2Mb
  sub-directories of 1Mb or more:
    data   4.6Mb
* checking package directory ... OK
* checking ‘build’ directory ... OK
* checking DESCRIPTION meta-information ... OK
* checking top-level files ... OK
* checking for left-over files ... OK
* checking index information ... OK
* checking package subdirectories ... OK
* checking code files for non-ASCII characters ... OK
* checking R files for syntax errors ... OK
* checking whether the package can be loaded ... OK
* checking whether the package can be loaded with stated dependencies ... OK
* checking whether the package can be unloaded cleanly ... OK
* checking whether the namespace can be loaded with stated dependencies ... OK
* checking whether the namespace can be unloaded cleanly ... OK
* checking loading without being on the library search path ... OK
* checking dependencies in R code ... OK
* checking S3 generic/method consistency ... OK
* checking replacement functions ... OK
* checking foreign function calls ... OK
* checking R code for possible problems ... OK
* checking Rd files ... OK
* checking Rd metadata ... OK
* checking Rd cross-references ... NOTE
Non-topic package-anchored link(s) in Rd file 'plot_mapping_result.Rd':
  ‘[scater:plot_reddim]{scater::plotUMAP()}’

See section 'Cross-references' in the 'Writing R Extensions' manual.
* checking for missing documentation entries ... OK
* checking for code/documentation mismatches ... OK
* checking Rd \usage sections ... OK
* checking Rd contents ... OK
* checking for unstated dependencies in examples ... OK
* checking contents of ‘data’ directory ... OK
* checking data for non-ASCII characters ... OK
* checking data for ASCII and uncompressed saves ... OK
* checking files in ‘vignettes’ ... OK
* checking examples ... OK
Examples with CPU (user + system) or elapsed time > 5s
                                   user system elapsed
gene_peakedness_spread_selection 25.627  0.251  25.956
plot_gene_peakedness             25.500  0.215  25.795
calculate_gene_peakedness        25.363  0.310  25.753
smooth_gene                      24.265  0.136  24.480
evaluate_parameters              17.451  0.140  17.645
plot_mapping_result               6.772  0.052   6.863
find_best_params                  6.221  0.036   6.276
plot_find_best_params_results     6.119  0.008   6.146
* checking for unstated dependencies in ‘tests’ ... OK
* checking tests ...
  Running ‘testthat.R’
 OK
* checking for unstated dependencies in vignettes ... OK
* checking package vignettes ... OK
* checking running R code from vignettes ... SKIPPED
* checking re-building of vignette outputs ... SKIPPED
* checking PDF version of manual ... OK
* DONE

Status: 1 NOTE
See
  ‘/home/biocbuild/bbs-3.22-bioc/meat/blase.Rcheck/00check.log’
for details.


Installation output

blase.Rcheck/00install.out

##############################################################################
##############################################################################
###
### Running command:
###
###   /home/biocbuild/R/R/bin/R CMD INSTALL blase
###
##############################################################################
##############################################################################


* installing to library ‘/home/biocbuild/R/R-4.5.0/site-library’
* installing *source* package ‘blase’ ...
** this is package ‘blase’ version ‘0.99.5’
** using staged installation
** R
** data
** inst
** byte-compile and prepare package for lazy loading
** help
*** installing help indices
*** copying figures
** building package indices
** installing vignettes
** testing if installed package can be loaded from temporary location
** testing if installed package can be loaded from final location
** testing if installed package keeps a record of temporary installation path
* DONE (blase)

Tests output

blase.Rcheck/tests/testthat.Rout


R version 4.5.0 (2025-04-11) -- "How About a Twenty-Six"
Copyright (C) 2025 The R Foundation for Statistical Computing
Platform: aarch64-unknown-linux-gnu

R is free software and comes with ABSOLUTELY NO WARRANTY.
You are welcome to redistribute it under certain conditions.
Type 'license()' or 'licence()' for distribution details.

R is a collaborative project with many contributors.
Type 'contributors()' for more information and
'citation()' on how to cite R or R packages in publications.

Type 'demo()' for some demos, 'help()' for on-line help, or
'help.start()' for an HTML browser interface to help.
Type 'q()' to quit R.

> # This file is part of the standard setup for testthat.
> # It is recommended that you do not modify it.
> #
> # Where should you do additional test configuration?
> # Learn more about the roles of various files in:
> # * https://r-pkgs.org/testing-design.html#sec-tests-files-overview
> # * https://testthat.r-lib.org/articles/special-files.html
> 
> library(testthat)
> library(blase)
> 
> test_check("blase")
[ FAIL 0 | WARN 4 | SKIP 0 | PASS 124 ]

[ FAIL 0 | WARN 4 | SKIP 0 | PASS 124 ]
> 
> proc.time()
   user  system elapsed 
 88.553   1.605  90.425 

Example timings

blase.Rcheck/blase-Ex.timings

nameusersystemelapsed
BlaseData-class1.2560.0241.284
MappingResult3.9520.1284.095
annotate_sce2.1370.0402.184
as.BlaseData0.2850.0040.289
assign_pseudotime_bins3.7450.0653.822
bins-getter0.2550.0010.258
calculate_gene_peakedness25.363 0.31025.753
evaluate_parameters17.451 0.14017.645
evaluate_top_n_genes4.3730.0124.398
find_best_params6.2210.0366.276
gene_peakedness_spread_selection25.627 0.25125.956
genes-getter0.2750.0000.276
genes-setter0.2730.0000.274
get_bins_as_bulk1.9770.0001.984
get_top_n_genes0.0020.0000.002
map_all_best_bins3.3930.0283.431
map_best_bin3.3800.0083.398
mapping-result-best-bin-getter3.3350.0163.361
mapping-result-best-correlation-getter3.4050.0243.439
mapping-result-bootstrap-iterations-getter3.4360.0003.446
mapping-result-bulk-name-getter3.4730.0883.572
mapping-result-confident-mapping-getter3.5550.0003.566
mapping-result-history-getter3.4140.0003.424
mapping-result-top-2-distance-getter3.430.023.46
plot_bin_population3.4220.0083.440
plot_find_best_params_results6.1190.0086.146
plot_gene_peakedness25.500 0.21525.795
plot_mapping_result6.7720.0526.863
plot_mapping_result_corr3.4220.0003.433
plot_mapping_result_heatmap3.4720.0003.483
pseudobulk-bins-getter0.2850.0000.286
show-MappingResult-method4.2260.0394.279
show_blase_object0.2660.0000.268
smooth_gene24.265 0.13624.480