Back to Multiple platform build/check report for BioC 3.22:   simplified   long
ABCDEFGHIJKLMNOPQR[S]TUVWXYZ

This page was generated on 2025-10-18 12:08 -0400 (Sat, 18 Oct 2025).

HostnameOSArch (*)R versionInstalled pkgs
nebbiolo2Linux (Ubuntu 24.04.3 LTS)x86_644.5.1 Patched (2025-08-23 r88802) -- "Great Square Root" 4887
lconwaymacOS 12.7.6 Montereyx86_644.5.1 Patched (2025-09-10 r88807) -- "Great Square Root" 4677
kjohnson3macOS 13.7.7 Venturaarm644.5.1 Patched (2025-09-10 r88807) -- "Great Square Root" 4622
taishanLinux (openEuler 24.03 LTS)aarch644.5.0 (2025-04-11) -- "How About a Twenty-Six" 4632
Click on any hostname to see more info about the system (e.g. compilers)      (*) as reported by 'uname -p', except on Windows and Mac OS X

Package 2042/2353HostnameOS / ArchINSTALLBUILDCHECKBUILD BIN
SMITE 1.37.0  (landing page)
Neil Ari Wijetunga
Snapshot Date: 2025-10-17 13:45 -0400 (Fri, 17 Oct 2025)
git_url: https://git.bioconductor.org/packages/SMITE
git_branch: devel
git_last_commit: daef10f
git_last_commit_date: 2025-04-15 10:58:12 -0400 (Tue, 15 Apr 2025)
nebbiolo2Linux (Ubuntu 24.04.3 LTS) / x86_64  OK    OK    OK  UNNEEDED, same version is already published
lconwaymacOS 12.7.6 Monterey / x86_64  OK    OK    OK    OK  UNNEEDED, same version is already published
kjohnson3macOS 13.7.7 Ventura / arm64  OK    OK    OK    OK  UNNEEDED, same version is already published
taishanLinux (openEuler 24.03 LTS) / aarch64  OK    OK    OK  


CHECK results for SMITE on taishan

To the developers/maintainers of the SMITE package:
- Allow up to 24 hours (and sometimes 48 hours) for your latest push to git@git.bioconductor.org:packages/SMITE.git to reflect on this report. See Troubleshooting Build Report for more information.
- Use the following Renviron settings to reproduce errors and warnings.
- If 'R CMD check' started to fail recently on the Linux builder(s) over a missing dependency, add the missing dependency to 'Suggests:' in your DESCRIPTION file. See Renviron.bioc for more information.
- See Martin Grigorov's blog post for how to debug Linux ARM64 related issues on a x86_64 host.

raw results


Summary

Package: SMITE
Version: 1.37.0
Command: /home/biocbuild/R/R/bin/R CMD check --install=check:SMITE.install-out.txt --library=/home/biocbuild/R/R/site-library --no-vignettes --timings SMITE_1.37.0.tar.gz
StartedAt: 2025-10-17 13:48:17 -0000 (Fri, 17 Oct 2025)
EndedAt: 2025-10-17 13:54:53 -0000 (Fri, 17 Oct 2025)
EllapsedTime: 396.5 seconds
RetCode: 0
Status:   OK  
CheckDir: SMITE.Rcheck
Warnings: 0

Command output

##############################################################################
##############################################################################
###
### Running command:
###
###   /home/biocbuild/R/R/bin/R CMD check --install=check:SMITE.install-out.txt --library=/home/biocbuild/R/R/site-library --no-vignettes --timings SMITE_1.37.0.tar.gz
###
##############################################################################
##############################################################################


* using log directory ‘/home/biocbuild/bbs-3.22-bioc/meat/SMITE.Rcheck’
* using R version 4.5.0 (2025-04-11)
* using platform: aarch64-unknown-linux-gnu
* R was compiled by
    aarch64-unknown-linux-gnu-gcc (GCC) 14.2.0
    GNU Fortran (GCC) 14.2.0
* running under: openEuler 24.03 (LTS)
* using session charset: UTF-8
* using option ‘--no-vignettes’
* checking for file ‘SMITE/DESCRIPTION’ ... OK
* checking extension type ... Package
* this is package ‘SMITE’ version ‘1.37.0’
* checking package namespace information ... OK
* checking package dependencies ... OK
* checking if this is a source package ... OK
* checking if there is a namespace ... OK
* checking for hidden files and directories ... OK
* checking for portable file names ... OK
* checking for sufficient/correct file permissions ... OK
* checking whether package ‘SMITE’ can be installed ... OK
* checking installed package size ... OK
* checking package directory ... OK
* checking ‘build’ directory ... OK
* checking DESCRIPTION meta-information ... OK
* checking top-level files ... OK
* checking for left-over files ... OK
* checking index information ... OK
* checking package subdirectories ... OK
* checking code files for non-ASCII characters ... OK
* checking R files for syntax errors ... OK
* checking whether the package can be loaded ... OK
* checking whether the package can be loaded with stated dependencies ... OK
* checking whether the package can be unloaded cleanly ... OK
* checking whether the namespace can be loaded with stated dependencies ... OK
* checking whether the namespace can be unloaded cleanly ... OK
* checking loading without being on the library search path ... OK
* checking dependencies in R code ... OK
* checking S3 generic/method consistency ... OK
* checking replacement functions ... OK
* checking foreign function calls ... OK
* checking R code for possible problems ... OK
* checking Rd files ... OK
* checking Rd metadata ... OK
* checking Rd cross-references ... OK
* checking for missing documentation entries ... OK
* checking for code/documentation mismatches ... OK
* checking Rd \usage sections ... OK
* checking Rd contents ... OK
* checking for unstated dependencies in examples ... OK
* checking contents of ‘data’ directory ... OK
* checking data for non-ASCII characters ... OK
* checking data for ASCII and uncompressed saves ... OK
* checking files in ‘vignettes’ ... OK
* checking examples ... OK
* checking for unstated dependencies in vignettes ... OK
* checking package vignettes ... OK
* checking running R code from vignettes ... SKIPPED
* checking re-building of vignette outputs ... SKIPPED
* checking PDF version of manual ... OK
* DONE

Status: OK


Installation output

SMITE.Rcheck/00install.out

##############################################################################
##############################################################################
###
### Running command:
###
###   /home/biocbuild/R/R/bin/R CMD INSTALL SMITE
###
##############################################################################
##############################################################################


* installing to library ‘/home/biocbuild/R/R-4.5.0/site-library’
* installing *source* package ‘SMITE’ ...
** this is package ‘SMITE’ version ‘1.37.0’
** using staged installation
** R
** data
** inst
** byte-compile and prepare package for lazy loading
** help
*** installing help indices
** building package indices
** installing vignettes
** testing if installed package can be loaded from temporary location
** testing if installed package can be loaded from final location
** testing if installed package keeps a record of temporary installation path
* DONE (SMITE)

Tests output


Example timings

SMITE.Rcheck/SMITE-Ex.timings

nameusersystemelapsed
Reactome.Symbol.Igraph0.2620.0110.280
SMITE-package0.3440.0110.374
addShadowText0.0030.0000.002
annotateExpression1.0890.0111.113
annotateModification000
convertGeneIds2.3010.1982.792
curated_expression0.0410.0000.086
extractExpression0.2880.0150.412
extractGOseq0.0820.0010.082
extractModification2.0360.0672.216
extractModules0.0760.0040.080
extractScores0.0800.0000.081
genes_for_conversiontest1.2550.0001.362
hg19_gene_bed0.1250.0120.137
highScores0.0820.0000.084
histone_h3k4me10.0590.0040.064
makePvalueAnnotation0.8110.0400.866
makePvalueObject0.0540.0000.054
methylationdata0.0420.0080.054
normalizePval0.0810.0000.166
plotCompareScores0.6360.0000.940
plotDensityPval0.1220.0030.126
plotModule0.0750.0040.079
removeModification0.0560.0000.055
runBioNet0.0710.0070.079
runGOseq0.0840.0000.085
runSpinglass0.6570.0160.674
scorePval0.0730.0080.081
stoufferTest0.0010.0000.001
test_annotation_score_data0.1130.0080.121