Back to Multiple platform build/check report for BioC 3.22:   simplified   long
A[B]CDEFGHIJKLMNOPQRSTUVWXYZ

This page was generated on 2025-10-18 12:07 -0400 (Sat, 18 Oct 2025).

HostnameOSArch (*)R versionInstalled pkgs
nebbiolo2Linux (Ubuntu 24.04.3 LTS)x86_644.5.1 Patched (2025-08-23 r88802) -- "Great Square Root" 4887
lconwaymacOS 12.7.6 Montereyx86_644.5.1 Patched (2025-09-10 r88807) -- "Great Square Root" 4677
kjohnson3macOS 13.7.7 Venturaarm644.5.1 Patched (2025-09-10 r88807) -- "Great Square Root" 4622
taishanLinux (openEuler 24.03 LTS)aarch644.5.0 (2025-04-11) -- "How About a Twenty-Six" 4632
Click on any hostname to see more info about the system (e.g. compilers)      (*) as reported by 'uname -p', except on Windows and Mac OS X

Package 136/2353HostnameOS / ArchINSTALLBUILDCHECKBUILD BIN
basecallQC 1.33.0  (landing page)
Thomas Carroll
Snapshot Date: 2025-10-17 13:45 -0400 (Fri, 17 Oct 2025)
git_url: https://git.bioconductor.org/packages/basecallQC
git_branch: devel
git_last_commit: 3b9d7e5
git_last_commit_date: 2025-04-15 11:10:19 -0400 (Tue, 15 Apr 2025)
nebbiolo2Linux (Ubuntu 24.04.3 LTS) / x86_64  OK    OK    OK  UNNEEDED, same version is already published
lconwaymacOS 12.7.6 Monterey / x86_64  OK    OK    OK    OK  UNNEEDED, same version is already published
kjohnson3macOS 13.7.7 Ventura / arm64  OK    OK    OK    OK  UNNEEDED, same version is already published
taishanLinux (openEuler 24.03 LTS) / aarch64  OK    OK    OK  


CHECK results for basecallQC on taishan

To the developers/maintainers of the basecallQC package:
- Allow up to 24 hours (and sometimes 48 hours) for your latest push to git@git.bioconductor.org:packages/basecallQC.git to reflect on this report. See Troubleshooting Build Report for more information.
- Use the following Renviron settings to reproduce errors and warnings.
- If 'R CMD check' started to fail recently on the Linux builder(s) over a missing dependency, add the missing dependency to 'Suggests:' in your DESCRIPTION file. See Renviron.bioc for more information.
- See Martin Grigorov's blog post for how to debug Linux ARM64 related issues on a x86_64 host.

raw results


Summary

Package: basecallQC
Version: 1.33.0
Command: /home/biocbuild/R/R/bin/R CMD check --install=check:basecallQC.install-out.txt --library=/home/biocbuild/R/R/site-library --no-vignettes --timings basecallQC_1.33.0.tar.gz
StartedAt: 2025-10-17 06:12:16 -0000 (Fri, 17 Oct 2025)
EndedAt: 2025-10-17 06:22:18 -0000 (Fri, 17 Oct 2025)
EllapsedTime: 601.9 seconds
RetCode: 0
Status:   OK  
CheckDir: basecallQC.Rcheck
Warnings: 0

Command output

##############################################################################
##############################################################################
###
### Running command:
###
###   /home/biocbuild/R/R/bin/R CMD check --install=check:basecallQC.install-out.txt --library=/home/biocbuild/R/R/site-library --no-vignettes --timings basecallQC_1.33.0.tar.gz
###
##############################################################################
##############################################################################


* using log directory ‘/home/biocbuild/bbs-3.22-bioc/meat/basecallQC.Rcheck’
* using R version 4.5.0 (2025-04-11)
* using platform: aarch64-unknown-linux-gnu
* R was compiled by
    aarch64-unknown-linux-gnu-gcc (GCC) 14.2.0
    GNU Fortran (GCC) 14.2.0
* running under: openEuler 24.03 (LTS)
* using session charset: UTF-8
* using option ‘--no-vignettes’
* checking for file ‘basecallQC/DESCRIPTION’ ... OK
* checking extension type ... Package
* this is package ‘basecallQC’ version ‘1.33.0’
* checking package namespace information ... OK
* checking package dependencies ... OK
* checking if this is a source package ... OK
* checking if there is a namespace ... OK
* checking for hidden files and directories ... OK
* checking for portable file names ... OK
* checking for sufficient/correct file permissions ... OK
* checking whether package ‘basecallQC’ can be installed ... OK
* checking installed package size ... OK
* checking package directory ... OK
* checking ‘build’ directory ... OK
* checking DESCRIPTION meta-information ... OK
* checking top-level files ... OK
* checking for left-over files ... OK
* checking index information ... OK
* checking package subdirectories ... OK
* checking code files for non-ASCII characters ... OK
* checking R files for syntax errors ... OK
* checking whether the package can be loaded ... OK
* checking whether the package can be loaded with stated dependencies ... OK
* checking whether the package can be unloaded cleanly ... OK
* checking whether the namespace can be loaded with stated dependencies ... OK
* checking whether the namespace can be unloaded cleanly ... OK
* checking loading without being on the library search path ... OK
* checking dependencies in R code ... OK
* checking S3 generic/method consistency ... OK
* checking replacement functions ... OK
* checking foreign function calls ... OK
* checking R code for possible problems ... OK
* checking Rd files ... NOTE
checkRd: (-1) BCL2FastQparams.Rd:39: Lost braces in \itemize; meant \describe ?
checkRd: (-1) BCL2FastQparams.Rd:40: Lost braces in \itemize; meant \describe ?
checkRd: (-1) BCL2FastQparams.Rd:41-42: Lost braces in \itemize; meant \describe ?
checkRd: (-1) basecallQC.Rd:39: Lost braces in \itemize; meant \describe ?
checkRd: (-1) basecallQC.Rd:40-42: Lost braces in \itemize; meant \describe ?
checkRd: (-1) basecallQC.Rd:43-44: Lost braces in \itemize; meant \describe ?
checkRd: (-1) basecallQC.Rd:45-46: Lost braces in \itemize; meant \describe ?
checkRd: (-1) basecallQC.Rd:47-48: Lost braces in \itemize; meant \describe ?
checkRd: (-1) basecallQC.Rd:49-50: Lost braces in \itemize; meant \describe ?
checkRd: (-1) basecallQC.Rd:51-52: Lost braces in \itemize; meant \describe ?
checkRd: (-1) interOpsReport.Rd:32-33: Lost braces in \itemize; meant \describe ?
checkRd: (-1) interOpsReport.Rd:34-37: Lost braces in \itemize; meant \describe ?
checkRd: (-1) interOpsReport.Rd:38-41: Lost braces in \itemize; meant \describe ?
* checking Rd metadata ... OK
* checking Rd cross-references ... OK
* checking for missing documentation entries ... OK
* checking for code/documentation mismatches ... OK
* checking Rd \usage sections ... OK
* checking Rd contents ... OK
* checking for unstated dependencies in examples ... OK
* checking files in ‘vignettes’ ... OK
* checking examples ... OK
Examples with CPU (user + system) or elapsed time > 5s
                        user system elapsed
reportBCL             11.937  0.229  13.688
passFilterTileplot     7.829  0.084   8.661
baseCallMetrics        7.262  0.172   7.930
demuxBarplot           7.154  0.072   7.631
summaryDemuxTable      6.877  0.302   7.451
passFilterBar          7.075  0.020   7.289
demuxBoxplot           7.010  0.068   7.349
summaryConvStatsTable  6.797  0.263   7.717
makeFQTable            6.928  0.083   7.259
passFilterBoxplot      6.985  0.024   7.061
basecallQC             6.835  0.051   7.222
* checking for unstated dependencies in ‘tests’ ... OK
* checking tests ...
  Running ‘testthat.R’
 OK
* checking for unstated dependencies in vignettes ... OK
* checking package vignettes ... OK
* checking running R code from vignettes ... SKIPPED
* checking re-building of vignette outputs ... SKIPPED
* checking PDF version of manual ... OK
* DONE

Status: 1 NOTE
See
  ‘/home/biocbuild/bbs-3.22-bioc/meat/basecallQC.Rcheck/00check.log’
for details.


Installation output

basecallQC.Rcheck/00install.out

##############################################################################
##############################################################################
###
### Running command:
###
###   /home/biocbuild/R/R/bin/R CMD INSTALL basecallQC
###
##############################################################################
##############################################################################


* installing to library ‘/home/biocbuild/R/R-4.5.0/site-library’
* installing *source* package ‘basecallQC’ ...
** this is package ‘basecallQC’ version ‘1.33.0’
** using staged installation
** R
** inst
** byte-compile and prepare package for lazy loading
** help
*** installing help indices
** building package indices
** installing vignettes
** testing if installed package can be loaded from temporary location
** testing if installed package can be loaded from final location
** testing if installed package keeps a record of temporary installation path
* DONE (basecallQC)

Tests output

basecallQC.Rcheck/tests/testthat.Rout


R version 4.5.0 (2025-04-11) -- "How About a Twenty-Six"
Copyright (C) 2025 The R Foundation for Statistical Computing
Platform: aarch64-unknown-linux-gnu

R is free software and comes with ABSOLUTELY NO WARRANTY.
You are welcome to redistribute it under certain conditions.
Type 'license()' or 'licence()' for distribution details.

R is a collaborative project with many contributors.
Type 'contributors()' for more information and
'citation()' on how to cite R or R packages in publications.

Type 'demo()' for some demos, 'help()' for on-line help, or
'help.start()' for an HTML browser interface to help.
Type 'q()' to quit R.

> library(testthat)
> library(basecallQC)
Loading required package: rmarkdown
Loading required package: knitr
Loading required package: prettydoc
Loading required package: yaml
> 
> test_check("basecallQC")
[ FAIL 0 | WARN 47 | SKIP 0 | PASS 5 ]

[ FAIL 0 | WARN 47 | SKIP 0 | PASS 5 ]
> 
> proc.time()
   user  system elapsed 
 32.669   0.934  36.527 

Example timings

basecallQC.Rcheck/basecallQC-Ex.timings

nameusersystemelapsed
BCL2FastQparams0.3100.0280.343
baseCallMetrics7.2620.1727.930
basecallQC6.8350.0517.222
createBCLcommand0.3710.0000.372
createBasemasks0.3610.0000.361
demultiplexMetrics0.0760.0000.076
demuxBarplot7.1540.0727.631
demuxBoxplot7.0100.0687.349
indexlengths0.0340.0000.034
interOpsReport0.0270.0000.028
makeFQTable6.9280.0837.259
passFilterBar7.0750.0207.289
passFilterBoxplot6.9850.0247.061
passFilterTileplot7.8290.0848.661
readlengths0.0370.0000.037
reportBCL11.937 0.22913.688
summaryConvStatsTable6.7970.2637.717
summaryDemuxTable6.8770.3027.451
validateBCLSheet0.0960.0030.146