Back to Multiple platform build/check report for BioC 3.22:   simplified   long
ABCDEFGH[I]JKLMNOPQRSTUVWXYZ

This page was generated on 2025-10-20 12:07 -0400 (Mon, 20 Oct 2025).

HostnameOSArch (*)R versionInstalled pkgs
nebbiolo2Linux (Ubuntu 24.04.3 LTS)x86_644.5.1 Patched (2025-08-23 r88802) -- "Great Square Root" 4887
lconwaymacOS 12.7.6 Montereyx86_644.5.1 Patched (2025-09-10 r88807) -- "Great Square Root" 4677
kjohnson3macOS 13.7.7 Venturaarm644.5.1 Patched (2025-09-10 r88807) -- "Great Square Root" 4622
taishanLinux (openEuler 24.03 LTS)aarch644.5.0 (2025-04-11) -- "How About a Twenty-Six" 4632
Click on any hostname to see more info about the system (e.g. compilers)      (*) as reported by 'uname -p', except on Windows and Mac OS X

Package 1059/2353HostnameOS / ArchINSTALLBUILDCHECKBUILD BIN
INSPEcT 1.39.1  (landing page)
Stefano de Pretis
Snapshot Date: 2025-10-19 13:45 -0400 (Sun, 19 Oct 2025)
git_url: https://git.bioconductor.org/packages/INSPEcT
git_branch: devel
git_last_commit: 9163233
git_last_commit_date: 2025-07-22 21:29:21 -0400 (Tue, 22 Jul 2025)
nebbiolo2Linux (Ubuntu 24.04.3 LTS) / x86_64  OK    OK    OK  UNNEEDED, same version is already published
lconwaymacOS 12.7.6 Monterey / x86_64  OK    OK    OK    OK  UNNEEDED, same version is already published
kjohnson3macOS 13.7.7 Ventura / arm64  OK    OK    OK    OK  UNNEEDED, same version is already published
taishanLinux (openEuler 24.03 LTS) / aarch64  OK    OK    OK  


CHECK results for INSPEcT on taishan

To the developers/maintainers of the INSPEcT package:
- Allow up to 24 hours (and sometimes 48 hours) for your latest push to git@git.bioconductor.org:packages/INSPEcT.git to reflect on this report. See Troubleshooting Build Report for more information.
- Use the following Renviron settings to reproduce errors and warnings.
- If 'R CMD check' started to fail recently on the Linux builder(s) over a missing dependency, add the missing dependency to 'Suggests:' in your DESCRIPTION file. See Renviron.bioc for more information.
- See Martin Grigorov's blog post for how to debug Linux ARM64 related issues on a x86_64 host.

raw results


Summary

Package: INSPEcT
Version: 1.39.1
Command: /home/biocbuild/R/R/bin/R CMD check --install=check:INSPEcT.install-out.txt --library=/home/biocbuild/R/R/site-library --no-vignettes --timings INSPEcT_1.39.1.tar.gz
StartedAt: 2025-10-17 10:15:31 -0000 (Fri, 17 Oct 2025)
EndedAt: 2025-10-17 10:31:37 -0000 (Fri, 17 Oct 2025)
EllapsedTime: 965.8 seconds
RetCode: 0
Status:   OK  
CheckDir: INSPEcT.Rcheck
Warnings: 0

Command output

##############################################################################
##############################################################################
###
### Running command:
###
###   /home/biocbuild/R/R/bin/R CMD check --install=check:INSPEcT.install-out.txt --library=/home/biocbuild/R/R/site-library --no-vignettes --timings INSPEcT_1.39.1.tar.gz
###
##############################################################################
##############################################################################


* using log directory ‘/home/biocbuild/bbs-3.22-bioc/meat/INSPEcT.Rcheck’
* using R version 4.5.0 (2025-04-11)
* using platform: aarch64-unknown-linux-gnu
* R was compiled by
    aarch64-unknown-linux-gnu-gcc (GCC) 14.2.0
    GNU Fortran (GCC) 14.2.0
* running under: openEuler 24.03 (LTS)
* using session charset: UTF-8
* using option ‘--no-vignettes’
* checking for file ‘INSPEcT/DESCRIPTION’ ... OK
* checking extension type ... Package
* this is package ‘INSPEcT’ version ‘1.39.1’
* checking package namespace information ... OK
* checking package dependencies ... OK
* checking if this is a source package ... OK
* checking if there is a namespace ... OK
* checking for hidden files and directories ... OK
* checking for portable file names ... OK
* checking for sufficient/correct file permissions ... OK
* checking whether package ‘INSPEcT’ can be installed ... OK
* checking installed package size ... INFO
  installed size is  7.1Mb
  sub-directories of 1Mb or more:
    R      1.8Mb
    data   2.8Mb
* checking package directory ... OK
* checking ‘build’ directory ... OK
* checking DESCRIPTION meta-information ... OK
* checking top-level files ... OK
* checking for left-over files ... OK
* checking index information ... OK
* checking package subdirectories ... OK
* checking code files for non-ASCII characters ... OK
* checking R files for syntax errors ... OK
* checking whether the package can be loaded ... OK
* checking whether the package can be loaded with stated dependencies ... OK
* checking whether the package can be unloaded cleanly ... OK
* checking whether the namespace can be loaded with stated dependencies ... OK
* checking whether the namespace can be unloaded cleanly ... OK
* checking loading without being on the library search path ... OK
* checking dependencies in R code ... OK
* checking S3 generic/method consistency ... OK
* checking replacement functions ... OK
* checking foreign function calls ... OK
* checking R code for possible problems ... NOTE
output_pars: no visible global function definition for ‘plot.new’
plotSingleRNADynamic: no visible global function definition for ‘lines’
Undefined global functions or variables:
  lines plot.new
Consider adding
  importFrom("graphics", "lines", "plot.new")
to your NAMESPACE file.
* checking Rd files ... OK
* checking Rd metadata ... OK
* checking Rd cross-references ... NOTE
Found the following Rd file(s) with Rd \link{} targets missing package
anchors:
  INSPEcT-class.Rd: featureNames
Please provide package anchors for all Rd \link{} targets not in the
package itself and the base packages.
* checking for missing documentation entries ... OK
* checking for code/documentation mismatches ... OK
* checking Rd \usage sections ... OK
* checking Rd contents ... OK
* checking for unstated dependencies in examples ... OK
* checking contents of ‘data’ directory ... OK
* checking data for non-ASCII characters ... OK
* checking data for ASCII and uncompressed saves ... OK
* checking files in ‘vignettes’ ... OK
* checking examples ... OK
Examples with CPU (user + system) or elapsed time > 5s
                                   user system elapsed
makeSimDataset                  114.151  0.475 114.973
quantifyExpressionsFromBAMs      42.918  0.323  44.281
INSPEcT_diffsteady-class         38.920  0.722  39.760
rocCurve                         38.951  0.120  39.156
rocThresholds                    38.363  0.111  38.550
makeSimModel                     38.062  0.099  38.273
plotMA                           34.894  0.083  35.084
compareSteady                    34.346  0.375  34.825
modelRates                       22.380  0.088  22.528
newINSPEcT                       20.730  0.092  20.886
quantifyExpressionsFromTrCounts  20.588  0.147  20.781
processingDelay                  18.569  0.060  18.684
makeOscillatorySimModel           8.838  0.040   8.910
compareSteadyNoNascent            7.542  0.083   7.652
* checking for unstated dependencies in vignettes ... OK
* checking package vignettes ... OK
* checking running R code from vignettes ... SKIPPED
* checking re-building of vignette outputs ... SKIPPED
* checking PDF version of manual ... OK
* DONE

Status: 2 NOTEs
See
  ‘/home/biocbuild/bbs-3.22-bioc/meat/INSPEcT.Rcheck/00check.log’
for details.


Installation output

INSPEcT.Rcheck/00install.out

##############################################################################
##############################################################################
###
### Running command:
###
###   /home/biocbuild/R/R/bin/R CMD INSTALL INSPEcT
###
##############################################################################
##############################################################################


* installing to library ‘/home/biocbuild/R/R-4.5.0/site-library’
* installing *source* package ‘INSPEcT’ ...
** this is package ‘INSPEcT’ version ‘1.39.1’
** using staged installation
** R
** data
** inst
** byte-compile and prepare package for lazy loading
** help
*** installing help indices
** building package indices
** installing vignettes
** testing if installed package can be loaded from temporary location
** testing if installed package can be loaded from final location
** testing if installed package keeps a record of temporary installation path
* DONE (INSPEcT)

Tests output


Example timings

INSPEcT.Rcheck/INSPEcT-Ex.timings

nameusersystemelapsed
AIC-INSPEcT-method0.1940.0000.198
Extract0.4510.0000.452
INSPEcT_diffsteady-class38.920 0.72239.760
calculateRatePvals0.2550.0000.256
chisqmodel0.1900.0040.194
chisqtest0.1930.0000.193
combine0.4430.0000.444
compareSteady34.346 0.37534.825
compareSteadyNoNascent7.5420.0837.652
convergence0.1820.0120.195
geneClass0.2520.0000.253
inHeatmap0.2300.0040.234
inspectFromPCR4.6840.0284.730
labeledSF0.1920.0000.192
logLik0.1870.0040.191
makeModelRates0.2470.0040.252
makeOscillatorySimModel8.8380.0408.910
makeSimDataset114.151 0.475114.973
makeSimModel38.062 0.09938.273
modelRates22.380 0.08822.528
modelRatesNF1.8300.0121.848
modelSelection0.1900.0000.191
modelingParams0.1910.0000.192
nGenes0.1910.0000.192
nTpts0.1880.0040.192
newINSPEcT20.730 0.09220.886
plotGene0.2350.0160.252
plotMA34.894 0.08335.084
processingDelay18.569 0.06018.684
quantifyExpressionsFromBAMs42.918 0.32344.281
quantifyExpressionsFromTrCounts20.588 0.14720.781
ratePvals0.1820.0120.195
ratesFirstGuess0.1880.0040.193
ratesFirstGuessVar0.1910.0000.191
removeModel0.3240.0040.328
rocCurve38.951 0.12039.156
rocThresholds38.363 0.11138.550
split0.3240.0040.328
tpts0.1890.0000.189
viewConfidenceIntervals0.1910.0000.191
viewModelRates0.1860.0040.190