Back to Multiple platform build/check report for BioC 3.22:   simplified   long
A[B]CDEFGHIJKLMNOPQRSTUVWXYZ

This page was generated on 2025-10-18 12:07 -0400 (Sat, 18 Oct 2025).

HostnameOSArch (*)R versionInstalled pkgs
nebbiolo2Linux (Ubuntu 24.04.3 LTS)x86_644.5.1 Patched (2025-08-23 r88802) -- "Great Square Root" 4887
lconwaymacOS 12.7.6 Montereyx86_644.5.1 Patched (2025-09-10 r88807) -- "Great Square Root" 4677
kjohnson3macOS 13.7.7 Venturaarm644.5.1 Patched (2025-09-10 r88807) -- "Great Square Root" 4622
taishanLinux (openEuler 24.03 LTS)aarch644.5.0 (2025-04-11) -- "How About a Twenty-Six" 4632
Click on any hostname to see more info about the system (e.g. compilers)      (*) as reported by 'uname -p', except on Windows and Mac OS X

Package 162/2353HostnameOS / ArchINSTALLBUILDCHECKBUILD BIN
bedbaser 1.1.3  (landing page)
Andres Wokaty
Snapshot Date: 2025-10-17 13:45 -0400 (Fri, 17 Oct 2025)
git_url: https://git.bioconductor.org/packages/bedbaser
git_branch: devel
git_last_commit: 2535e67
git_last_commit_date: 2025-10-12 15:51:16 -0400 (Sun, 12 Oct 2025)
nebbiolo2Linux (Ubuntu 24.04.3 LTS) / x86_64  OK    OK    OK  UNNEEDED, same version is already published
lconwaymacOS 12.7.6 Monterey / x86_64  OK    OK    OK    OK  UNNEEDED, same version is already published
kjohnson3macOS 13.7.7 Ventura / arm64  OK    OK    OK    OK  UNNEEDED, same version is already published
taishanLinux (openEuler 24.03 LTS) / aarch64  OK    OK    OK  


CHECK results for bedbaser on taishan

To the developers/maintainers of the bedbaser package:
- Allow up to 24 hours (and sometimes 48 hours) for your latest push to git@git.bioconductor.org:packages/bedbaser.git to reflect on this report. See Troubleshooting Build Report for more information.
- Use the following Renviron settings to reproduce errors and warnings.
- If 'R CMD check' started to fail recently on the Linux builder(s) over a missing dependency, add the missing dependency to 'Suggests:' in your DESCRIPTION file. See Renviron.bioc for more information.
- See Martin Grigorov's blog post for how to debug Linux ARM64 related issues on a x86_64 host.

raw results


Summary

Package: bedbaser
Version: 1.1.3
Command: /home/biocbuild/R/R/bin/R CMD check --install=check:bedbaser.install-out.txt --library=/home/biocbuild/R/R/site-library --no-vignettes --timings bedbaser_1.1.3.tar.gz
StartedAt: 2025-10-17 06:21:32 -0000 (Fri, 17 Oct 2025)
EndedAt: 2025-10-17 06:27:30 -0000 (Fri, 17 Oct 2025)
EllapsedTime: 358.3 seconds
RetCode: 0
Status:   OK  
CheckDir: bedbaser.Rcheck
Warnings: 0

Command output

##############################################################################
##############################################################################
###
### Running command:
###
###   /home/biocbuild/R/R/bin/R CMD check --install=check:bedbaser.install-out.txt --library=/home/biocbuild/R/R/site-library --no-vignettes --timings bedbaser_1.1.3.tar.gz
###
##############################################################################
##############################################################################


* using log directory ‘/home/biocbuild/bbs-3.22-bioc/meat/bedbaser.Rcheck’
* using R version 4.5.0 (2025-04-11)
* using platform: aarch64-unknown-linux-gnu
* R was compiled by
    aarch64-unknown-linux-gnu-gcc (GCC) 14.2.0
    GNU Fortran (GCC) 14.2.0
* running under: openEuler 24.03 (LTS)
* using session charset: UTF-8
* using option ‘--no-vignettes’
* checking for file ‘bedbaser/DESCRIPTION’ ... OK
* this is package ‘bedbaser’ version ‘1.1.3’
* package encoding: UTF-8
* checking package namespace information ... OK
* checking package dependencies ... OK
* checking if this is a source package ... OK
* checking if there is a namespace ... OK
* checking for hidden files and directories ... OK
* checking for portable file names ... OK
* checking for sufficient/correct file permissions ... OK
* checking whether package ‘bedbaser’ can be installed ... OK
* checking installed package size ... OK
* checking package directory ... OK
* checking ‘build’ directory ... OK
* checking DESCRIPTION meta-information ... OK
* checking top-level files ... OK
* checking for left-over files ... OK
* checking index information ... OK
* checking package subdirectories ... OK
* checking code files for non-ASCII characters ... OK
* checking R files for syntax errors ... OK
* checking whether the package can be loaded ... OK
* checking whether the package can be loaded with stated dependencies ... OK
* checking whether the package can be unloaded cleanly ... OK
* checking whether the namespace can be loaded with stated dependencies ... OK
* checking whether the namespace can be unloaded cleanly ... OK
* checking loading without being on the library search path ... OK
* checking dependencies in R code ... OK
* checking S3 generic/method consistency ... OK
* checking replacement functions ... OK
* checking foreign function calls ... OK
* checking R code for possible problems ... NOTE
.get_url: no visible binding for global variable ‘access_methods’
.get_url: no visible binding for global variable ‘access_url’
.get_url: no visible binding for global variable ‘name’
.get_url: no visible binding for global variable ‘access_id’
bb_list_bedsets: no visible binding for global variable ‘bed_ids’
bb_list_bedsets: no visible binding for global variable ‘id’
bb_list_bedsets: no visible binding for global variable ‘name’
bb_list_bedsets: no visible binding for global variable ‘md5sum’
bb_list_bedsets: no visible binding for global variable
  ‘submission_date’
bb_list_bedsets: no visible binding for global variable
  ‘last_update_date’
bb_list_bedsets: no visible binding for global variable ‘description’
bb_list_bedsets: no visible binding for global variable ‘author’
Undefined global functions or variables:
  access_id access_methods access_url author bed_ids description id
  last_update_date md5sum name submission_date
* checking Rd files ... OK
* checking Rd metadata ... OK
* checking Rd cross-references ... OK
* checking for missing documentation entries ... OK
* checking for code/documentation mismatches ... OK
* checking Rd \usage sections ... OK
* checking Rd contents ... OK
* checking for unstated dependencies in examples ... OK
* checking files in ‘vignettes’ ... OK
* checking examples ... OK
Examples with CPU (user + system) or elapsed time > 5s
                    user system elapsed
bb_to_grangeslist 16.519  1.211  39.745
bb_to_granges     14.707  0.594  22.463
BEDbase            1.211  0.096   5.755
bb_list_bedsets    0.474  0.012   7.658
bb_save            0.262  0.019   7.358
* checking for unstated dependencies in ‘tests’ ... OK
* checking tests ...
  Running ‘testthat.R’
 OK
* checking for unstated dependencies in vignettes ... OK
* checking package vignettes ... OK
* checking running R code from vignettes ... SKIPPED
* checking re-building of vignette outputs ... SKIPPED
* checking PDF version of manual ... OK
* DONE

Status: 1 NOTE
See
  ‘/home/biocbuild/bbs-3.22-bioc/meat/bedbaser.Rcheck/00check.log’
for details.


Installation output

bedbaser.Rcheck/00install.out

##############################################################################
##############################################################################
###
### Running command:
###
###   /home/biocbuild/R/R/bin/R CMD INSTALL bedbaser
###
##############################################################################
##############################################################################


* installing to library ‘/home/biocbuild/R/R-4.5.0/site-library’
* installing *source* package ‘bedbaser’ ...
** this is package ‘bedbaser’ version ‘1.1.3’
** using staged installation
** R
** inst
** byte-compile and prepare package for lazy loading
Creating a generic function for ‘tags’ from package ‘AnVIL’ in package ‘bedbaser’
** help
*** installing help indices
** building package indices
** installing vignettes
** testing if installed package can be loaded from temporary location
** testing if installed package can be loaded from final location
** testing if installed package keeps a record of temporary installation path
* DONE (bedbaser)

Tests output

bedbaser.Rcheck/tests/testthat.Rout


R version 4.5.0 (2025-04-11) -- "How About a Twenty-Six"
Copyright (C) 2025 The R Foundation for Statistical Computing
Platform: aarch64-unknown-linux-gnu

R is free software and comes with ABSOLUTELY NO WARRANTY.
You are welcome to redistribute it under certain conditions.
Type 'license()' or 'licence()' for distribution details.

R is a collaborative project with many contributors.
Type 'contributors()' for more information and
'citation()' on how to cite R or R packages in publications.

Type 'demo()' for some demos, 'help()' for on-line help, or
'help.start()' for an HTML browser interface to help.
Type 'q()' to quit R.

> # This file is part of the standard setup for testthat.
> # It is recommended that you do not modify it.
> #
> # Where should you do additional test configuration?
> # Learn more about the roles of various files in:
> # * https://r-pkgs.org/testing-design.html#sec-tests-files-overview
> # * https://testthat.r-lib.org/articles/special-files.html
> 
> library(testthat)
> library(bedbaser)
> 
> test_check("bedbaser")
trying URL 'https://api.bedbase.org/v1/files/files/a/c/ac71d3a1f919fc4cacb6e3aa66dff546.bed.gz'
Content type 'binary/octet-stream' length 121217 bytes (118 KB)
==================================================
downloaded 118 KB

trying URL 'https://api.bedbase.org/v1/files/files/3/d/3de1593909920648cc38e5b0874d2672.bed.gz'
Content type 'binary/octet-stream' length 1378618 bytes (1.3 MB)
==================================================
downloaded 1.3 MB

trying URL 'https://api.bedbase.org/v1/files/files/6/1/6187757e4c6583f601a59ec16fbc2c8b.bed.gz'
Content type 'binary/octet-stream' length 198550 bytes (193 KB)
==================================================
downloaded 193 KB

trying URL 'https://api.bedbase.org/v1/files/files/b/b/bbad85f21962bb8d972444f7f9a3a932.bed.gz'
Content type 'binary/octet-stream' length 641053 bytes (626 KB)
==================================================
downloaded 626 KB

trying URL 'https://api.bedbase.org/v1/files/files/0/2/02d1be785371025ecdb54ed683edf179.bed.gz'
Content type 'binary/octet-stream' length 275570 bytes (269 KB)
==================================================
downloaded 269 KB

trying URL 'https://api.bedbase.org/v1/files/files/3/0/3053b7b8be8ca1502b46946dde0e4ced.bed.gz'
Content type 'binary/octet-stream' length 3871087 bytes (3.7 MB)
==================================================
downloaded 3.7 MB

[ FAIL 0 | WARN 0 | SKIP 0 | PASS 51 ]
> 
> proc.time()
   user  system elapsed 
 42.776   1.944 185.584 

Example timings

bedbaser.Rcheck/bedbaser-Ex.timings

nameusersystemelapsed
BEDbase1.2110.0965.755
bb_bed_text_search0.2510.0402.406
bb_beds_in_bedset0.2140.0241.853
bb_example0.2260.0051.892
bb_list_beds0.3910.0424.206
bb_list_bedsets0.4740.0127.658
bb_metadata0.2210.0162.568
bb_save0.2620.0197.358
bb_stats0.1350.0241.826
bb_to_granges14.707 0.59422.463
bb_to_grangeslist16.519 1.21139.745
getCache-BEDbase-method0.2190.0111.527
operations-BEDbase-method0.1350.0121.385
schemas-BEDbase-method0.1240.0121.148
setCache-BEDbase-method0.2020.0001.316
tags-BEDbase-method0.1810.0251.250