Back to Multiple platform build/check report for BioC 3.22: simplified long |
|
This page was generated on 2025-10-18 12:08 -0400 (Sat, 18 Oct 2025).
Hostname | OS | Arch (*) | R version | Installed pkgs |
---|---|---|---|---|
nebbiolo2 | Linux (Ubuntu 24.04.3 LTS) | x86_64 | 4.5.1 Patched (2025-08-23 r88802) -- "Great Square Root" | 4887 |
lconway | macOS 12.7.6 Monterey | x86_64 | 4.5.1 Patched (2025-09-10 r88807) -- "Great Square Root" | 4677 |
kjohnson3 | macOS 13.7.7 Ventura | arm64 | 4.5.1 Patched (2025-09-10 r88807) -- "Great Square Root" | 4622 |
taishan | Linux (openEuler 24.03 LTS) | aarch64 | 4.5.0 (2025-04-11) -- "How About a Twenty-Six" | 4632 |
Click on any hostname to see more info about the system (e.g. compilers) (*) as reported by 'uname -p', except on Windows and Mac OS X |
Package 1984/2353 | Hostname | OS / Arch | INSTALL | BUILD | CHECK | BUILD BIN | ||||||||
sesame 1.27.1 (landing page) Wanding Zhou
| nebbiolo2 | Linux (Ubuntu 24.04.3 LTS) / x86_64 | OK | OK | OK | ![]() | ||||||||
lconway | macOS 12.7.6 Monterey / x86_64 | OK | OK | OK | OK | ![]() | ||||||||
kjohnson3 | macOS 13.7.7 Ventura / arm64 | OK | OK | OK | OK | ![]() | ||||||||
taishan | Linux (openEuler 24.03 LTS) / aarch64 | OK | OK | OK | ||||||||||
To the developers/maintainers of the sesame package: - Allow up to 24 hours (and sometimes 48 hours) for your latest push to git@git.bioconductor.org:packages/sesame.git to reflect on this report. See Troubleshooting Build Report for more information. - Use the following Renviron settings to reproduce errors and warnings. - If 'R CMD check' started to fail recently on the Linux builder(s) over a missing dependency, add the missing dependency to 'Suggests:' in your DESCRIPTION file. See Renviron.bioc for more information. - See Martin Grigorov's blog post for how to debug Linux ARM64 related issues on a x86_64 host. |
Package: sesame |
Version: 1.27.1 |
Command: /home/biocbuild/R/R/bin/R CMD check --install=check:sesame.install-out.txt --library=/home/biocbuild/R/R/site-library --no-vignettes --timings sesame_1.27.1.tar.gz |
StartedAt: 2025-10-17 13:36:35 -0000 (Fri, 17 Oct 2025) |
EndedAt: 2025-10-17 13:51:13 -0000 (Fri, 17 Oct 2025) |
EllapsedTime: 878.4 seconds |
RetCode: 0 |
Status: OK |
CheckDir: sesame.Rcheck |
Warnings: 0 |
############################################################################## ############################################################################## ### ### Running command: ### ### /home/biocbuild/R/R/bin/R CMD check --install=check:sesame.install-out.txt --library=/home/biocbuild/R/R/site-library --no-vignettes --timings sesame_1.27.1.tar.gz ### ############################################################################## ############################################################################## * using log directory ‘/home/biocbuild/bbs-3.22-bioc/meat/sesame.Rcheck’ * using R version 4.5.0 (2025-04-11) * using platform: aarch64-unknown-linux-gnu * R was compiled by aarch64-unknown-linux-gnu-gcc (GCC) 14.2.0 GNU Fortran (GCC) 14.2.0 * running under: openEuler 24.03 (LTS) * using session charset: UTF-8 * using option ‘--no-vignettes’ * checking for file ‘sesame/DESCRIPTION’ ... OK * checking extension type ... Package * this is package ‘sesame’ version ‘1.27.1’ * package encoding: UTF-8 * checking package namespace information ... OK * checking package dependencies ... OK * checking if this is a source package ... OK * checking if there is a namespace ... OK * checking for hidden files and directories ... OK * checking for portable file names ... OK * checking for sufficient/correct file permissions ... OK * checking whether package ‘sesame’ can be installed ... OK * checking installed package size ... OK * checking package directory ... OK * checking ‘build’ directory ... OK * checking DESCRIPTION meta-information ... OK * checking top-level files ... OK * checking for left-over files ... OK * checking index information ... OK * checking package subdirectories ... OK * checking code files for non-ASCII characters ... OK * checking R files for syntax errors ... OK * checking whether the package can be loaded ... OK * checking whether the package can be loaded with stated dependencies ... OK * checking whether the package can be unloaded cleanly ... OK * checking whether the namespace can be loaded with stated dependencies ... OK * checking whether the namespace can be unloaded cleanly ... OK * checking loading without being on the library search path ... OK * checking whether startup messages can be suppressed ... OK * checking dependencies in R code ... OK * checking S3 generic/method consistency ... OK * checking replacement functions ... OK * checking foreign function calls ... OK * checking R code for possible problems ... OK * checking Rd files ... OK * checking Rd metadata ... OK * checking Rd cross-references ... OK * checking for missing documentation entries ... OK * checking for code/documentation mismatches ... OK * checking Rd \usage sections ... OK * checking Rd contents ... OK * checking for unstated dependencies in examples ... OK * checking files in ‘vignettes’ ... OK * checking examples ... OK Examples with CPU (user + system) or elapsed time > 5s user system elapsed imputeBetasByGenomicNeighbors 40.721 0.591 43.229 inferSex 26.800 0.227 29.022 sesameQC_calcStats 24.424 0.163 25.287 imputeBetas 23.884 0.538 27.648 sesameQC_plotHeatSNPs 23.654 0.259 25.863 inferSpecies 17.750 0.705 19.847 ELBAR 16.583 0.138 17.798 matchDesign 16.492 0.175 17.168 compareMouseStrainReference 16.265 0.183 17.068 diffRefSet 15.305 0.263 16.194 compareReference 14.129 0.163 15.926 sesameQC_plotBetaByDesign 12.708 0.084 12.854 sesameQC_plotBar 12.407 0.338 13.208 getRefSet 12.595 0.107 13.718 DMR 10.916 0.263 11.781 visualizeGene 10.136 0.191 11.926 DML 9.486 0.295 10.714 inferStrain 9.218 0.267 9.935 inferTissue 8.425 0.184 8.837 sdf_read_table 8.345 0.095 8.623 deIdentify 7.452 0.132 8.276 estimateLeukocyte 7.247 0.146 7.515 dyeBiasCorrMostBalanced 6.950 0.172 7.768 getMask 6.845 0.179 7.873 openSesame 6.403 0.207 6.700 dyeBiasNL 6.376 0.060 7.200 createUCSCtrack 5.928 0.163 6.316 probeSuccessRate 5.966 0.119 6.748 reIdentify 5.987 0.064 6.143 bisConversionControl 5.020 0.064 5.379 sesameQC_rankStats 4.364 0.088 5.061 * checking for unstated dependencies in ‘tests’ ... OK * checking tests ... Running ‘testthat.R’ OK * checking for unstated dependencies in vignettes ... OK * checking package vignettes ... OK * checking running R code from vignettes ... SKIPPED * checking re-building of vignette outputs ... SKIPPED * checking PDF version of manual ... OK * DONE Status: OK
sesame.Rcheck/00install.out
############################################################################## ############################################################################## ### ### Running command: ### ### /home/biocbuild/R/R/bin/R CMD INSTALL sesame ### ############################################################################## ############################################################################## * installing to library ‘/home/biocbuild/R/R-4.5.0/site-library’ * installing *source* package ‘sesame’ ... ** this is package ‘sesame’ version ‘1.27.1’ ** using staged installation ** R ** inst ** byte-compile and prepare package for lazy loading ** help *** installing help indices ** building package indices ** installing vignettes ** testing if installed package can be loaded from temporary location ** testing if installed package can be loaded from final location ** testing if installed package keeps a record of temporary installation path * DONE (sesame)
sesame.Rcheck/tests/testthat.Rout
R version 4.5.0 (2025-04-11) -- "How About a Twenty-Six" Copyright (C) 2025 The R Foundation for Statistical Computing Platform: aarch64-unknown-linux-gnu R is free software and comes with ABSOLUTELY NO WARRANTY. You are welcome to redistribute it under certain conditions. Type 'license()' or 'licence()' for distribution details. R is a collaborative project with many contributors. Type 'contributors()' for more information and 'citation()' on how to cite R or R packages in publications. Type 'demo()' for some demos, 'help()' for on-line help, or 'help.start()' for an HTML browser interface to help. Type 'q()' to quit R. > library(testthat) > library(sesame) Loading required package: sesameData Loading required package: ExperimentHub Loading required package: BiocGenerics Loading required package: generics Attaching package: 'generics' The following objects are masked from 'package:base': as.difftime, as.factor, as.ordered, intersect, is.element, setdiff, setequal, union Attaching package: 'BiocGenerics' The following objects are masked from 'package:stats': IQR, mad, sd, var, xtabs The following objects are masked from 'package:base': Filter, Find, Map, Position, Reduce, anyDuplicated, aperm, append, as.data.frame, basename, cbind, colnames, dirname, do.call, duplicated, eval, evalq, get, grep, grepl, is.unsorted, lapply, mapply, match, mget, order, paste, pmax, pmax.int, pmin, pmin.int, rank, rbind, rownames, sapply, saveRDS, table, tapply, unique, unsplit, which.max, which.min Loading required package: AnnotationHub Loading required package: BiocFileCache Loading required package: dbplyr Loading sesameData. ---------------------------------------------------------- | SEnsible Step-wise Analysis of DNA MEthylation (SeSAMe) | -------------------------------------------------------- | Please cache auxiliary data by "sesameDataCache()". | This needs to be done only once per SeSAMe installation. ---------------------------------------------------------- > > test_check("sesame") [ FAIL 0 | WARN 0 | SKIP 0 | PASS 5 ] > > proc.time() user system elapsed 22.255 0.945 23.305
sesame.Rcheck/sesame-Ex.timings
name | user | system | elapsed | |
BetaValueToMValue | 0.001 | 0.000 | 0.000 | |
DML | 9.486 | 0.295 | 10.714 | |
DMLpredict | 1.555 | 0.052 | 1.610 | |
DMR | 10.916 | 0.263 | 11.781 | |
ELBAR | 16.583 | 0.138 | 17.798 | |
MValueToBetaValue | 0 | 0 | 0 | |
SigDF | 0.350 | 0.028 | 0.379 | |
addMask | 0.097 | 0.000 | 0.097 | |
betasCollapseToPfx | 0.017 | 0.000 | 0.017 | |
bisConversionControl | 5.020 | 0.064 | 5.379 | |
calcEffectSize | 1.343 | 0.028 | 1.375 | |
checkLevels | 4.197 | 0.139 | 4.569 | |
cnSegmentation | 0.345 | 0.020 | 0.367 | |
compareMouseStrainReference | 16.265 | 0.183 | 17.068 | |
compareMouseTissueReference | 0 | 0 | 0 | |
compareReference | 14.129 | 0.163 | 15.926 | |
controls | 2.208 | 0.072 | 2.304 | |
createUCSCtrack | 5.928 | 0.163 | 6.316 | |
deIdentify | 7.452 | 0.132 | 8.276 | |
detectionPnegEcdf | 1.040 | 0.003 | 1.079 | |
diffRefSet | 15.305 | 0.263 | 16.194 | |
dmContrasts | 2.032 | 0.024 | 2.080 | |
dyeBiasCorr | 3.055 | 0.084 | 3.147 | |
dyeBiasCorrMostBalanced | 6.950 | 0.172 | 7.768 | |
dyeBiasL | 2.607 | 0.043 | 3.064 | |
dyeBiasNL | 6.376 | 0.060 | 7.200 | |
estimateLeukocyte | 7.247 | 0.146 | 7.515 | |
formatVCF | 2.387 | 0.028 | 2.486 | |
getAFTypeIbySumAlleles | 1.965 | 0.052 | 2.067 | |
getAFs | 1.297 | 0.004 | 1.307 | |
getBetas | 0.962 | 0.032 | 1.260 | |
getMask | 6.845 | 0.179 | 7.873 | |
getRefSet | 12.595 | 0.107 | 13.718 | |
imputeBetas | 23.884 | 0.538 | 27.648 | |
imputeBetasByGenomicNeighbors | 40.721 | 0.591 | 43.229 | |
imputeBetasMatrixByMean | 0.001 | 0.000 | 0.002 | |
inferEthnicity | 0.000 | 0.000 | 0.001 | |
inferInfiniumIChannel | 0.278 | 0.091 | 0.370 | |
inferSex | 26.800 | 0.227 | 29.022 | |
inferSpecies | 17.750 | 0.705 | 19.847 | |
inferStrain | 9.218 | 0.267 | 9.935 | |
inferTissue | 8.425 | 0.184 | 8.837 | |
initFileSet | 1.313 | 0.032 | 1.349 | |
listAvailableMasks | 1.352 | 0.051 | 1.408 | |
mLiftOver | 0.000 | 0.000 | 0.001 | |
mapFileSet | 0.036 | 0.004 | 0.040 | |
mapToMammal40 | 2.853 | 0.096 | 3.075 | |
matchDesign | 16.492 | 0.175 | 17.168 | |
meanIntensity | 2.964 | 0.068 | 3.239 | |
medianTotalIntensity | 1.013 | 0.095 | 1.448 | |
noMasked | 4.143 | 0.104 | 4.909 | |
noob | 2.449 | 0.059 | 2.851 | |
openSesame | 6.403 | 0.207 | 6.700 | |
openSesameToFile | 1.753 | 0.028 | 2.046 | |
pOOBAH | 1.441 | 0.000 | 1.698 | |
palgen | 0.041 | 0.007 | 0.067 | |
parseGEOsignalMU | 3.287 | 0.124 | 3.772 | |
predictAge | 2.402 | 0.040 | 2.449 | |
predictAgeHorvath353 | 0 | 0 | 0 | |
predictAgeSkinBlood | 0 | 0 | 0 | |
predictMouseAgeInMonth | 0 | 0 | 0 | |
prefixMask | 0.523 | 0.000 | 0.524 | |
prefixMaskButC | 0.156 | 0.000 | 0.156 | |
prefixMaskButCG | 0.066 | 0.000 | 0.066 | |
prepSesame | 4.273 | 0.043 | 4.370 | |
prepSesameList | 0.002 | 0.000 | 0.001 | |
print.DMLSummary | 3.603 | 0.096 | 3.721 | |
print.fileSet | 1.341 | 0.044 | 1.389 | |
probeID_designType | 0.001 | 0.000 | 0.000 | |
probeSuccessRate | 5.966 | 0.119 | 6.748 | |
qualityMask | 2.673 | 0.048 | 2.728 | |
reIdentify | 5.987 | 0.064 | 6.143 | |
readFileSet | 0.059 | 0.000 | 0.061 | |
readIDATpair | 0.134 | 0.000 | 0.136 | |
recommendedMaskNames | 0 | 0 | 0 | |
resetMask | 0.542 | 0.016 | 0.558 | |
scrub | 2.808 | 0.072 | 2.890 | |
scrubSoft | 4.309 | 0.012 | 4.365 | |
sdfPlatform | 0.331 | 0.032 | 0.364 | |
sdf_read_table | 8.345 | 0.095 | 8.623 | |
sdf_write_table | 2.330 | 0.064 | 2.419 | |
searchIDATprefixes | 0.003 | 0.004 | 0.019 | |
sesame-package | 2.351 | 0.064 | 2.953 | |
sesameAnno_attachManifest | 0 | 0 | 0 | |
sesameAnno_buildAddressFile | 0 | 0 | 0 | |
sesameAnno_buildManifestGRanges | 0 | 0 | 0 | |
sesameAnno_download | 0 | 0 | 0 | |
sesameAnno_readManifestTSV | 0 | 0 | 0 | |
sesameQC_calcStats | 24.424 | 0.163 | 25.287 | |
sesameQC_getStats | 2.271 | 0.012 | 2.288 | |
sesameQC_plotBar | 12.407 | 0.338 | 13.208 | |
sesameQC_plotBetaByDesign | 12.708 | 0.084 | 12.854 | |
sesameQC_plotHeatSNPs | 23.654 | 0.259 | 25.863 | |
sesameQC_plotIntensVsBetas | 2.250 | 0.048 | 2.336 | |
sesameQC_plotRedGrnQQ | 1.572 | 0.047 | 1.763 | |
sesameQC_rankStats | 4.364 | 0.088 | 5.061 | |
sesameQCtoDF | 2.274 | 0.016 | 2.293 | |
sesame_checkVersion | 0.004 | 0.000 | 0.004 | |
sesamize | 0 | 0 | 0 | |
setMask | 0.112 | 0.000 | 0.113 | |
signalMU | 0.959 | 0.016 | 1.005 | |
sliceFileSet | 0.041 | 0.000 | 0.041 | |
summaryExtractTest | 3.343 | 0.044 | 3.551 | |
totalIntensities | 2.843 | 0.087 | 3.188 | |
updateSigDF | 3.660 | 0.151 | 3.839 | |
visualizeGene | 10.136 | 0.191 | 11.926 | |
visualizeProbes | 1.438 | 0.004 | 1.796 | |
visualizeRegion | 0.461 | 0.000 | 0.463 | |
visualizeSegments | 1.769 | 0.024 | 1.797 | |