Welcome to mirrors.dotsrc.org

All our mirrors of open source software are available via http, https, ftp and an onion service. More information about our mirrors including statistics and contact information is available on our mirror info pages.

For information about dotsrc.org and our other services please go to our website.

Index of /bioconductor/checkResults/1.8/bioc-RELEASE/gopher5/

File Name  ↓ File Size  ↓ Date  ↓ 
--
953 B2006-05-05 03:19:58
963 B2006-05-05 03:19:58
970 B2006-05-05 03:19:58
970 B2006-05-05 03:19:58
974 B2006-05-05 03:19:58
974 B2006-05-05 03:19:58
974 B2006-05-05 03:19:58
975 B2006-05-05 03:19:58
976 B2006-05-05 03:19:58
981 B2006-05-05 03:19:58
981 B2006-05-05 03:19:58
982 B2006-05-05 03:19:58
995 B2006-05-05 03:19:58
995 B2006-05-05 03:19:58
998 B2006-05-05 03:19:58
1001 B2006-05-05 03:19:58
1002 B2006-05-05 03:19:58
1003 B2006-05-05 03:19:58
1009 B2006-05-05 03:19:58
1010 B2006-05-05 03:19:58
1021 B2006-05-05 03:19:58
1.0 KiB2006-05-05 03:19:58
1.0 KiB2006-05-05 03:19:58
1.0 KiB2006-05-05 03:19:58
1.0 KiB2006-05-05 03:19:58
1.0 KiB2006-05-05 03:19:58
1.0 KiB2006-05-05 03:19:58
1.0 KiB2006-05-05 03:19:58
1.0 KiB2006-05-05 03:19:58
1.1 KiB2006-05-05 03:19:58
1.1 KiB2006-05-05 03:19:58
1.1 KiB2006-05-05 03:19:58
1.1 KiB2006-05-05 03:19:58
1.1 KiB2006-05-05 03:19:58
1.1 KiB2006-05-05 03:19:58
1.1 KiB2006-05-05 03:19:58
1.1 KiB2006-05-05 03:19:58
1.3 KiB2006-05-05 03:19:58
1.3 KiB2006-05-05 03:19:58
1.3 KiB2006-05-05 03:19:58
1.4 KiB2006-05-05 03:19:58
1.5 KiB2006-05-05 03:19:58
1.5 KiB2006-05-05 03:19:58
1.5 KiB2006-05-05 03:19:58
1.5 KiB2006-05-05 03:19:58
1.5 KiB2006-05-05 03:19:58
1.5 KiB2006-05-05 03:19:58
1.5 KiB2006-05-05 03:19:58
1.6 KiB2006-05-05 03:19:58
1.6 KiB2006-05-05 03:19:58
1.7 KiB2006-05-05 03:19:58
1.7 KiB2006-05-05 03:19:58
1.7 KiB2006-05-05 03:19:58
1.7 KiB2006-05-05 03:19:58
1.7 KiB2006-05-05 03:19:58
1.7 KiB2006-05-05 03:19:58
1.7 KiB2006-05-05 03:19:58
1.7 KiB2006-05-05 03:19:58
1.7 KiB2006-05-05 03:19:58
1.7 KiB2006-05-05 03:19:58
1.8 KiB2006-05-05 03:19:58
1.8 KiB2006-05-05 03:19:58
1.8 KiB2006-05-05 03:19:58
1.8 KiB2006-05-05 03:19:58
1.9 KiB2006-05-05 03:19:58
1.9 KiB2006-05-05 03:19:58
1.9 KiB2006-05-05 03:19:58
1.9 KiB2006-05-05 03:19:58
1.9 KiB2006-05-05 03:19:58
1.9 KiB2006-05-05 03:19:58
1.9 KiB2006-05-05 03:19:58
1.9 KiB2006-05-05 03:19:58
1.9 KiB2006-05-05 03:19:58
1.9 KiB2006-05-05 03:19:58
1.9 KiB2006-05-05 03:19:58
1.9 KiB2006-05-05 03:19:58
1.9 KiB2006-05-05 03:19:58
1.9 KiB2006-05-05 03:19:58
1.9 KiB2006-05-05 03:19:58
1.9 KiB2006-05-05 03:19:58
1.9 KiB2006-05-05 03:19:58
1.9 KiB2006-05-05 03:19:58
1.9 KiB2006-05-05 03:19:58
1.9 KiB2006-05-05 03:19:58
1.9 KiB2006-05-05 03:19:58
1.9 KiB2006-05-05 03:19:58
1.9 KiB2006-05-05 03:19:58
1.9 KiB2006-05-05 03:19:58
1.9 KiB2006-05-05 03:19:58
1.9 KiB2006-05-05 03:19:58
1.9 KiB2006-05-05 03:19:58
1.9 KiB2006-05-05 03:19:58
1.9 KiB2006-05-05 03:19:58
1.9 KiB2006-05-05 03:19:58
1.9 KiB2006-05-05 03:19:58
1.9 KiB2006-05-05 03:19:58
1.9 KiB2006-05-05 03:19:58
1.9 KiB2006-05-05 03:19:58
1.9 KiB2006-05-05 03:19:58
1.9 KiB2006-05-05 03:19:58
1.9 KiB2006-05-05 03:19:58
1.9 KiB2006-05-05 03:19:58
1.9 KiB2006-05-05 03:19:58
1.9 KiB2006-05-05 03:19:58
1.9 KiB2006-05-05 03:19:58
1.9 KiB2006-05-05 03:19:58
1.9 KiB2006-05-05 03:19:58
1.9 KiB2006-05-05 03:19:58
1.9 KiB2006-05-05 03:19:58
1.9 KiB2006-05-05 03:19:58
1.9 KiB2006-05-05 03:19:58
1.9 KiB2006-05-05 03:19:58
1.9 KiB2006-05-05 03:19:58
1.9 KiB2006-05-05 03:19:58
1.9 KiB2006-05-05 03:19:58
1.9 KiB2006-05-05 03:19:58
1.9 KiB2006-05-05 03:19:58
1.9 KiB2006-05-05 03:19:58
1.9 KiB2006-05-05 03:19:58
1.9 KiB2006-05-05 03:19:58
1.9 KiB2006-05-05 03:19:58
1.9 KiB2006-05-05 03:19:58
1.9 KiB2006-05-05 03:19:58
1.9 KiB2006-05-05 03:19:58
1.9 KiB2006-05-05 03:19:58
1.9 KiB2006-05-05 03:19:58
1.9 KiB2006-05-05 03:19:58
1.9 KiB2006-05-05 03:19:58
1.9 KiB2006-05-05 03:19:58
1.9 KiB2006-05-05 03:19:58
1.9 KiB2006-05-05 03:19:58
1.9 KiB2006-05-05 03:19:58
1.9 KiB2006-05-05 03:19:58
1.9 KiB2006-05-05 03:19:58
1.9 KiB2006-05-05 03:19:58
1.9 KiB2006-05-05 03:19:58
1.9 KiB2006-05-05 03:19:58
1.9 KiB2006-05-05 03:19:58
2.0 KiB2006-05-05 03:19:58
2.0 KiB2006-05-05 03:19:58
2.0 KiB2006-05-05 03:19:58
2.0 KiB2006-05-05 03:19:58
2.0 KiB2006-05-05 03:19:58
2.0 KiB2006-05-05 03:19:58
2.0 KiB2006-05-05 03:19:58
2.0 KiB2006-05-05 03:19:58
2.0 KiB2006-05-05 03:19:58
2.0 KiB2006-05-05 03:19:58
2.0 KiB2006-05-05 03:19:58
2.0 KiB2006-05-05 03:19:58
2.0 KiB2006-05-05 03:19:58
2.0 KiB2006-05-05 03:19:58
2.0 KiB2006-05-05 03:19:58
2.0 KiB2006-05-05 03:19:58
2.0 KiB2006-05-05 03:19:58
2.0 KiB2006-05-05 03:19:58
2.0 KiB2006-05-05 03:19:58
2.0 KiB2006-05-05 03:19:58
2.0 KiB2006-05-05 03:19:58
2.0 KiB2006-05-05 03:19:58
2.0 KiB2006-05-05 03:19:58
2.0 KiB2006-05-05 03:19:58
2.0 KiB2006-05-05 03:19:58
2.0 KiB2006-05-05 03:19:58
2.0 KiB2006-05-05 03:19:58
2.0 KiB2006-05-05 03:19:58
2.0 KiB2006-05-05 03:19:58
2.0 KiB2006-05-05 03:19:58
2.0 KiB2006-05-05 03:19:58
2.0 KiB2006-05-05 03:19:58
2.0 KiB2006-05-05 03:19:58
2.0 KiB2006-05-05 03:19:58
2.0 KiB2006-05-05 03:19:58
2.0 KiB2006-05-05 03:19:58
2.0 KiB2006-05-05 03:19:58
2.0 KiB2006-05-05 03:19:58
2.0 KiB2006-05-05 03:19:58
2.0 KiB2006-05-05 03:19:58
2.0 KiB2006-05-05 03:19:58
2.0 KiB2006-05-05 03:19:58
2.0 KiB2006-05-05 03:19:58
2.0 KiB2006-05-05 03:19:58
2.0 KiB2006-05-05 03:19:58
2.0 KiB2006-05-05 03:19:58
2.0 KiB2006-05-05 03:19:58
2.0 KiB2006-05-05 03:19:58
2.0 KiB2006-05-05 03:19:58
2.0 KiB2006-05-05 03:19:58
2.0 KiB2006-05-05 03:19:58
2.0 KiB2006-05-05 03:19:58
2.0 KiB2006-05-05 03:19:58
2.0 KiB2006-05-05 03:19:58
2.0 KiB2006-05-05 03:19:58
2.0 KiB2006-05-05 03:19:58
2.0 KiB2006-05-05 03:19:58
2.0 KiB2006-05-05 03:19:58
2.0 KiB2006-05-05 03:19:58
2.0 KiB2006-05-05 03:19:58
2.0 KiB2006-05-05 03:19:58
2.0 KiB2006-05-05 03:19:58
2.0 KiB2006-05-05 03:19:58
2.0 KiB2006-05-05 03:19:58
2.0 KiB2006-05-05 03:19:58
2.0 KiB2006-05-05 03:19:58
2.0 KiB2006-05-05 03:19:58
2.0 KiB2006-05-05 03:19:58
2.0 KiB2006-05-05 03:19:58
2.0 KiB2006-05-05 03:19:58
2.0 KiB2006-05-05 03:19:58
2.0 KiB2006-05-05 03:19:58
2.0 KiB2006-05-05 03:19:58
2.0 KiB2006-05-05 03:19:58
2.0 KiB2006-05-05 03:19:58
2.0 KiB2006-05-05 03:19:58
2.0 KiB2006-05-05 03:19:58
2.0 KiB2006-05-05 03:19:58
2.0 KiB2006-05-05 03:19:58
2.0 KiB2006-05-05 03:19:58
2.0 KiB2006-05-05 03:19:58
2.0 KiB2006-05-05 03:19:58
2.0 KiB2006-05-05 03:19:58
2.0 KiB2006-05-05 03:19:58
2.0 KiB2006-05-05 03:19:58
2.0 KiB2006-05-05 03:19:58
2.0 KiB2006-05-05 03:19:58
2.0 KiB2006-05-05 03:19:58
2.0 KiB2006-05-05 03:19:58
2.0 KiB2006-05-05 03:19:58
2.1 KiB2006-05-05 03:19:58
2.1 KiB2006-05-05 03:19:58
2.1 KiB2006-05-05 03:19:58
2.1 KiB2006-05-05 03:19:58
2.1 KiB2006-05-05 03:19:58
2.1 KiB2006-05-05 03:19:58
2.1 KiB2006-05-05 03:19:58
2.1 KiB2006-05-05 03:19:58
2.1 KiB2006-05-05 03:19:58
2.1 KiB2006-05-05 03:19:58
2.1 KiB2006-05-05 03:19:58
2.1 KiB2006-05-05 03:19:58
2.1 KiB2006-05-05 03:19:58
2.1 KiB2006-05-05 03:19:58
2.2 KiB2006-05-05 03:19:58
2.2 KiB2006-05-05 03:19:58
2.2 KiB2006-05-05 03:19:58
2.2 KiB2006-05-05 03:19:58
2.2 KiB2006-05-05 03:19:58
2.2 KiB2006-05-05 03:19:58
2.2 KiB2006-05-05 03:19:58
2.2 KiB2006-05-05 03:19:58
2.2 KiB2006-05-05 03:19:58
2.3 KiB2006-05-05 03:19:58
2.3 KiB2006-05-05 03:19:58
2.3 KiB2006-05-05 03:19:58
2.3 KiB2006-05-05 03:19:58
2.3 KiB2006-05-05 03:19:58
2.3 KiB2006-05-05 03:19:58
2.4 KiB2006-05-05 03:19:58
2.4 KiB2006-05-05 03:19:58
2.4 KiB2006-05-05 03:19:58
2.4 KiB2006-05-05 03:19:58
2.5 KiB2006-05-05 03:19:58
2.5 KiB2006-05-05 03:19:58
2.5 KiB2006-05-05 03:19:58
2.5 KiB2006-05-05 03:19:58
2.6 KiB2006-05-05 03:19:58
2.6 KiB2006-05-05 03:19:58
2.6 KiB2006-05-05 03:19:58
2.6 KiB2006-05-05 03:19:58
2.7 KiB2006-05-05 03:19:58
2.7 KiB2006-05-05 03:19:58
2.7 KiB2006-05-05 03:19:58
2.7 KiB2006-05-05 03:19:58
2.7 KiB2006-05-05 03:19:58
2.8 KiB2006-05-05 03:19:58
2.8 KiB2006-05-05 03:19:58
2.8 KiB2006-05-05 03:19:58
2.8 KiB2006-05-05 03:19:58
2.8 KiB2006-05-05 03:19:58
2.8 KiB2006-05-05 03:19:58
2.8 KiB2006-05-05 03:19:58
2.9 KiB2006-05-05 03:19:58
2.9 KiB2006-05-05 03:19:58
2.9 KiB2006-05-05 03:19:58
2.9 KiB2006-05-05 03:19:58
2.9 KiB2006-05-05 03:19:58
3.0 KiB2006-05-05 03:19:58
3.0 KiB2006-05-05 03:19:58
3.0 KiB2006-05-05 03:19:58
3.1 KiB2006-05-05 03:19:58
3.1 KiB2006-05-05 03:19:58
3.1 KiB2006-05-05 03:19:58
3.2 KiB2006-05-05 03:19:58
3.2 KiB2006-05-05 03:19:58
3.3 KiB2006-05-05 03:19:58
3.3 KiB2006-05-05 03:19:58
3.4 KiB2006-05-05 03:19:58
3.4 KiB2006-05-05 03:19:58
3.5 KiB2006-05-05 03:19:58
3.5 KiB2006-05-05 03:19:58
3.5 KiB2006-05-05 03:19:58
3.6 KiB2006-05-05 03:19:58
3.6 KiB2006-05-05 03:19:58
3.6 KiB2006-05-05 03:19:58
3.7 KiB2006-05-05 03:19:58
3.7 KiB2006-05-05 03:19:58
3.7 KiB2006-05-05 03:19:58
3.8 KiB2006-05-05 03:19:58
4.0 KiB2006-05-05 03:19:58
4.0 KiB2006-05-05 03:19:58
4.0 KiB2006-05-05 03:19:58
4.1 KiB2006-05-05 03:19:58
4.1 KiB2006-05-05 03:19:58
4.1 KiB2006-05-05 03:19:58
4.4 KiB2006-05-05 03:19:58
4.4 KiB2006-05-05 03:19:58
4.5 KiB2006-05-05 03:19:58
4.7 KiB2006-05-05 03:19:58
4.7 KiB2006-05-05 03:19:58
4.8 KiB2006-05-05 03:19:58
4.9 KiB2006-05-05 03:19:58
4.9 KiB2006-05-05 03:19:58
4.9 KiB2006-05-05 03:19:58
5.3 KiB2006-05-05 03:19:58
5.4 KiB2006-05-05 03:19:58
5.5 KiB2006-05-05 03:19:58
5.9 KiB2006-05-05 03:19:58
5.9 KiB2006-05-05 03:19:58
5.9 KiB2006-05-05 03:19:58
6.0 KiB2006-05-05 03:19:58
6.1 KiB2006-05-05 03:19:58
6.1 KiB2006-05-05 03:19:58
6.1 KiB2006-05-05 03:19:58
6.5 KiB2006-05-05 03:19:58
6.6 KiB2006-05-05 03:19:58
6.6 KiB2006-05-05 03:19:58
6.8 KiB2006-05-05 03:19:58
8.0 KiB2006-05-05 03:19:58
8.5 KiB2006-05-05 03:19:58
8.5 KiB2006-05-05 03:19:58
8.8 KiB2006-05-05 03:19:58
9.0 KiB2006-05-05 03:19:58
9.7 KiB2006-05-05 03:19:58
12.4 KiB2006-05-05 03:19:58
49.2 KiB2006-05-05 03:19:58
82.2 KiB2006-05-05 03:19:58