Back to Multiple platform build/check report
| Package: pickgene |
| Version: 1.4.0 |
| Command: /home/biocbuild/arch/x86_64/R-2.3.0/bin/R CMD build pickgene |
| RetCode: 0 |
| Time: 7.8 seconds |
| Status: OK |
| PackageFile: pickgene_1.4.0.tar.gz |
* checking for file 'pickgene/DESCRIPTION' ... OK
* preparing 'pickgene':
* checking DESCRIPTION meta-information ... OK
* checking whether 'INDEX' is up-to-date ... NO
* use '--force' to overwrite the existing 'INDEX'
* installing the package to re-build vignettes
* Installing *source* package 'pickgene' ...
** R
** inst
** preparing package for lazy loading
** help
>>> Building/Updating help pages for package 'pickgene'
Formats: text html latex example
Simulation.pickgene text html latex example
em.ggb text html latex example
model.pickgene text html latex example
oddsplot text html latex example
pickgene-internal text html latex
pickgene text html latex example
robustscale text html latex example
** building package indices ...
* DONE (pickgene)
* creating vignettes ... OK
* removing junk files
* checking for LF line-endings in source files
* checking for empty or unneeded directories
* building 'pickgene_1.4.0.tar.gz'