Back to Multiple platform build/check report
| Package: RdbiPgSQL |
| Version: 1.6.0 |
| Command: /home/biocbuild/arch/x86_64/R-2.3.0/bin/R CMD build RdbiPgSQL |
| RetCode: 0 |
| Time: 2.4 seconds |
| Status: OK |
| PackageFile: RdbiPgSQL_1.6.0.tar.gz |
* checking for file 'RdbiPgSQL/DESCRIPTION' ... OK * preparing 'RdbiPgSQL': * checking DESCRIPTION meta-information ... OK * cleaning src * running cleanup * checking whether 'INDEX' is up-to-date ... NO * use '--force' to overwrite the existing 'INDEX' * removing junk files * checking for LF line-endings in source files * checking for empty or unneeded directories * building 'RdbiPgSQL_1.6.0.tar.gz'