Back to Multiple platform build/check report
| Package: sizepower |
| Version: 1.2.0 |
| Command: /home/biocbuild/arch/x86_64/R-2.3.0/bin/R CMD build sizepower |
| RetCode: 0 |
| Time: 7.8 seconds |
| Status: OK |
| PackageFile: sizepower_1.2.0.tar.gz |
* checking for file 'sizepower/DESCRIPTION' ... OK
* preparing 'sizepower':
* checking DESCRIPTION meta-information ... OK
* checking whether 'INDEX' is up-to-date ... NO
* use '--force' to overwrite the existing 'INDEX'
* installing the package to re-build vignettes
* Installing *source* package 'sizepower' ...
** R
** inst
** help
>>> Building/Updating help pages for package 'sizepower'
Formats: text html latex example
powerMatched text html latex example
powerMulti text html latex example
powerRandomized text html latex example
sampleSizeMatched text html latex example
sampleSizeRandomized text html latex example
** building package indices ...
* DONE (sizepower)
* creating vignettes ... OK
* removing junk files
* checking for LF line-endings in source files
* checking for empty or unneeded directories
* building 'sizepower_1.2.0.tar.gz'