Back to Multiple platform build/check report
| Package: beadarray |
| Version: 1.0.0 |
| Command: /home/biocbuild/arch/x86_64/R-2.3.0/bin/R CMD build beadarray |
| RetCode: 0 |
| Time: 2.3 seconds |
| Status: OK |
| PackageFile: beadarray_1.0.0.tar.gz |
* checking for file 'beadarray/DESCRIPTION' ... OK * preparing 'beadarray': * checking DESCRIPTION meta-information ... OK * cleaning src * removing junk files * checking for LF line-endings in source files * checking for empty or unneeded directories * building 'beadarray_1.0.0.tar.gz'