Back to Multiple platform build/check report
| Package: ROC |
| Version: 1.6.0 |
| Command: /home/biocbuild/arch/x86_64/R-2.3.0/bin/R CMD build ROC |
| RetCode: 0 |
| Time: 14.3 seconds |
| Status: OK |
| PackageFile: ROC_1.6.0.tar.gz |
* checking for file 'ROC/DESCRIPTION' ... OK
* preparing 'ROC':
* checking DESCRIPTION meta-information ... OK
* installing the package to re-build vignettes
* Installing *source* package 'ROC' ...
** R
** inst
** save image
** help
>>> Building/Updating help pages for package 'ROC'
Formats: text html latex example
AUC text html latex example
plot-methods text html latex example
rocc-class text html latex example
rocdemo.sca text html latex example
trapezint text html latex example
** building package indices ...
* DONE (ROC)
* creating vignettes ... OK
* removing junk files
* checking for LF line-endings in source files
* checking for empty or unneeded directories
* building 'ROC_1.6.0.tar.gz'