Back to Multiple platform build/check report
| Package: timecourse |
| Version: 1.4.0 |
| Command: /home/biocbuild/arch/x86_64/R-2.3.0/bin/R CMD build timecourse |
| RetCode: 0 |
| Time: 90.2 seconds |
| Status: OK |
| PackageFile: timecourse_1.4.0.tar.gz |
* checking for file 'timecourse/DESCRIPTION' ... OK
* preparing 'timecourse':
* checking DESCRIPTION meta-information ... OK
* installing the package to re-build vignettes
* Installing *source* package 'timecourse' ...
** R
** data
** inst
** preparing package for lazy loading
Loading required package: limma
Loading required package: MASS
Loading required package: Biobase
Loading required package: tools
Welcome to Bioconductor
Vignettes contain introductory material. To view, type
'openVignette()' or start with 'help(Biobase)'. For details
on reading vignettes, see the openVignette help page.
** help
>>> Building/Updating help pages for package 'timecourse'
Formats: text html latex example
abs2ratio text html latex
fruitfly text html latex
marrayTC-class text html latex
matrix.cov text html latex
mb.MANOVA text html latex example
mb.long text html latex example
ot.helmert text html latex
plotProfile text html latex
univ.func text html latex
** building package indices ...
* DONE (timecourse)
* creating vignettes ... OK
* removing junk files
* checking for LF line-endings in source files
* checking for empty or unneeded directories
* building 'timecourse_1.4.0.tar.gz'