Back to Multiple platform build/check report
| Package: gtkWidgets |
| Version: 0.10.0 |
| Command: /home/biocbuild/arch/x86_64/R-2.3.0/bin/R CMD build gtkWidgets |
| RetCode: 0 |
| Time: 1.8 seconds |
| Status: OK |
| PackageFile: gtkWidgets_0.10.0.tar.gz |
* checking for file 'gtkWidgets/DESCRIPTION' ... OK * preparing 'gtkWidgets': * checking DESCRIPTION meta-information ... OK * removing junk files * checking for LF line-endings in source files * checking for empty or unneeded directories * building 'gtkWidgets_0.10.0.tar.gz'