Back to Multiple platform build/check report
| Package: MVCClass |
| Version: 1.6.0 |
| Command: /home/biocbuild/arch/x86_64/R-2.3.0/bin/R CMD build MVCClass |
| RetCode: 0 |
| Time: 11.8 seconds |
| Status: OK |
| PackageFile: MVCClass_1.6.0.tar.gz |
* checking for file 'MVCClass/DESCRIPTION' ... OK
* preparing 'MVCClass':
* checking DESCRIPTION meta-information ... OK
* installing the package to re-build vignettes
* Installing *source* package 'MVCClass' ...
** R
** inst
** help
>>> Building/Updating help pages for package 'MVCClass'
Formats: text html latex example
MVC-class text html latex example
dfModel-class text html latex example
exprModel-class text html latex example
gAddChildMessage-class text html latex example
gAddDataMessage-class text html latex example
gAddMessage-class text html latex example
gAddViewMessage-class text html latex example
gEventFun-class text html latex example
gMessage-class text html latex example
gModel-class text html latex example
gSendChildMessage-class text html latex example
gSendParentMessage-class text html latex example
gUpdateDataMessage-class text html latex example
gUpdateMessage-class text html latex example
gUpdateViewMessage-class text html latex example
genView-class text html latex example
graphModel-class text html latex example
graphView-class text html latex example
heatmapView-class text html latex example
plotView-class text html latex example
sPlotView-class text html latex example
spreadView-class text html latex example
** building package indices ...
* DONE (MVCClass)
* creating vignettes ... OK
* removing junk files
* checking for LF line-endings in source files
* checking for empty or unneeded directories
* building 'MVCClass_1.6.0.tar.gz'