Back to Multiple platform build/check report
| Package: logicFS |
| Version: 1.2.0 |
| Command: /home/biocbuild/arch/x86_64/R-2.3.0/bin/R CMD build logicFS |
| RetCode: 0 |
| Time: 30.1 seconds |
| Status: OK |
| PackageFile: logicFS_1.2.0.tar.gz |
* checking for file 'logicFS/DESCRIPTION' ... OK
* preparing 'logicFS':
* checking DESCRIPTION meta-information ... OK
* checking whether 'INDEX' is up-to-date ... NO
* use '--force' to overwrite the existing 'INDEX'
* installing the package to re-build vignettes
* Installing *source* package 'logicFS' ...
** R
** data
** inst
** help
>>> Building/Updating help pages for package 'logicFS'
Formats: text html latex example
data.logicfs text html latex
logic.bagging text html latex example
logic.fs text html latex example
logic.vim text html latex
logicFS-internal text html latex
make.snp.dummy text html latex
minDNF text html latex
plot.logicFS text html latex
predict.logicBagg text html latex
print.logicFS text html latex
** building package indices ...
* DONE (logicFS)
* creating vignettes ... OK
* removing junk files
* checking for LF line-endings in source files
* checking for empty or unneeded directories
* building 'logicFS_1.2.0.tar.gz'