Back to Multiple platform build/check report for BioC 3.22: simplified long |
|
This page was generated on 2025-10-20 12:02 -0400 (Mon, 20 Oct 2025).
Hostname | OS | Arch (*) | R version | Installed pkgs |
---|---|---|---|---|
nebbiolo2 | Linux (Ubuntu 24.04.3 LTS) | x86_64 | 4.5.1 Patched (2025-08-23 r88802) -- "Great Square Root" | 4887 |
lconway | macOS 12.7.6 Monterey | x86_64 | 4.5.1 Patched (2025-09-10 r88807) -- "Great Square Root" | 4677 |
kjohnson3 | macOS 13.7.7 Ventura | arm64 | 4.5.1 Patched (2025-09-10 r88807) -- "Great Square Root" | 4622 |
taishan | Linux (openEuler 24.03 LTS) | aarch64 | 4.5.0 (2025-04-11) -- "How About a Twenty-Six" | 4632 |
Click on any hostname to see more info about the system (e.g. compilers) (*) as reported by 'uname -p', except on Windows and Mac OS X |
To the developers/maintainers of the limma package: - Allow up to 24 hours (and sometimes 48 hours) for your latest push to git@git.bioconductor.org:packages/limma.git to reflect on this report. See Troubleshooting Build Report for more information. - Use the following Renviron settings to reproduce errors and warnings. - If 'R CMD check' started to fail recently on the Linux builder(s) over a missing dependency, add the missing dependency to 'Suggests:' in your DESCRIPTION file. See Renviron.bioc for more information. |
Package 1130/2353 | Hostname | OS / Arch | INSTALL | BUILD | CHECK | BUILD BIN | ||||||||
limma 3.65.6 (landing page) Gordon Smyth
| nebbiolo2 | Linux (Ubuntu 24.04.3 LTS) / x86_64 | OK | OK | OK | ![]() | ||||||||
lconway | macOS 12.7.6 Monterey / x86_64 | OK | OK | OK | OK | ![]() | ||||||||
kjohnson3 | macOS 13.7.7 Ventura / arm64 | OK | OK | OK | OK | ![]() | ||||||||
taishan | Linux (openEuler 24.03 LTS) / aarch64 | OK | OK | OK | ||||||||||
QUICK STATS | OS / Arch | INSTALL | BUILD | CHECK | BUILD BIN | |||||||||||||||||
nebbiolo2 | Linux (Ubuntu 24.04.3 LTS) / x86_64 |
|
|
| ||||||||||||||||||
lconway | macOS 12.7.6 Monterey / x86_64 |
|
|
|
| |||||||||||||||||
kjohnson3 | macOS 13.7.7 Ventura / arm64 |
|
|
|
| |||||||||||||||||
taishan | Linux (openEuler 24.03 LTS) / aarch64 |
|
|
| ||||||||||||||||||
Package 1/245 | Hostname | OS / Arch | INSTALL | BUILD | CHECK | BUILD BIN | ||||||||||||||||
a4Base 1.57.0 (landing page) Laure Cougnaud
| nebbiolo2 | Linux (Ubuntu 24.04.3 LTS) / x86_64 | OK | OK | OK | ![]() | ||||||||||||||||
lconway | macOS 12.7.6 Monterey / x86_64 | OK | OK | OK | OK | ![]() | ||||||||||||||||
kjohnson3 | macOS 13.7.7 Ventura / arm64 | OK | OK | OK | OK | ![]() | ||||||||||||||||
taishan | Linux (openEuler 24.03 LTS) / aarch64 | OK | OK | OK | ||||||||||||||||||
Package 2/245 | Hostname | OS / Arch | INSTALL | BUILD | CHECK | BUILD BIN | ||||||||||||||||
ABSSeq 1.63.0 (landing page) Wentao Yang
| nebbiolo2 | Linux (Ubuntu 24.04.3 LTS) / x86_64 | OK | OK | OK | ![]() | ||||||||||||||||
lconway | macOS 12.7.6 Monterey / x86_64 | OK | OK | OK | OK | ![]() | ||||||||||||||||
kjohnson3 | macOS 13.7.7 Ventura / arm64 | OK | OK | OK | OK | ![]() | ||||||||||||||||
taishan | Linux (openEuler 24.03 LTS) / aarch64 | OK | OK | OK | ||||||||||||||||||
Package 3/245 | Hostname | OS / Arch | INSTALL | BUILD | CHECK | BUILD BIN | ||||||||||||||||
affycoretools 1.81.1 (landing page) James W. MacDonald
| nebbiolo2 | Linux (Ubuntu 24.04.3 LTS) / x86_64 | OK | OK | OK | ![]() | ||||||||||||||||
lconway | macOS 12.7.6 Monterey / x86_64 | OK | OK | OK | OK | ![]() | ||||||||||||||||
kjohnson3 | macOS 13.7.7 Ventura / arm64 | OK | OK | OK | OK | ![]() | ||||||||||||||||
taishan | Linux (openEuler 24.03 LTS) / aarch64 | OK | OK | OK | ||||||||||||||||||
Package 4/245 | Hostname | OS / Arch | INSTALL | BUILD | CHECK | BUILD BIN | ||||||||||||||||
affylmGUI 1.83.0 (landing page) Gordon Smyth
| nebbiolo2 | Linux (Ubuntu 24.04.3 LTS) / x86_64 | OK | OK | OK | ![]() | ||||||||||||||||
lconway | macOS 12.7.6 Monterey / x86_64 | OK | OK | OK | OK | ![]() | ||||||||||||||||
kjohnson3 | macOS 13.7.7 Ventura / arm64 | OK | OK | OK | OK | ![]() | ||||||||||||||||
taishan | Linux (openEuler 24.03 LTS) / aarch64 | OK | OK | OK | ||||||||||||||||||
Package 5/245 | Hostname | OS / Arch | INSTALL | BUILD | CHECK | BUILD BIN | ||||||||||||||||
AgiMicroRna 2.59.0 (landing page) Pedro Lopez-Romero
| nebbiolo2 | Linux (Ubuntu 24.04.3 LTS) / x86_64 | OK | OK | WARNINGS | ![]() | ||||||||||||||||
lconway | macOS 12.7.6 Monterey / x86_64 | OK | OK | WARNINGS | OK | ![]() | ||||||||||||||||
kjohnson3 | macOS 13.7.7 Ventura / arm64 | OK | OK | WARNINGS | OK | ![]() | ||||||||||||||||
taishan | Linux (openEuler 24.03 LTS) / aarch64 | OK | OK | WARNINGS | ||||||||||||||||||
Package 6/245 | Hostname | OS / Arch | INSTALL | BUILD | CHECK | BUILD BIN | ||||||||||||||||
AMARETTO 1.25.0 (landing page) Olivier Gevaert
| nebbiolo2 | Linux (Ubuntu 24.04.3 LTS) / x86_64 | OK | OK | WARNINGS | ![]() | ||||||||||||||||
lconway | macOS 12.7.6 Monterey / x86_64 | OK | OK | WARNINGS | OK | ![]() | ||||||||||||||||
kjohnson3 | macOS 13.7.7 Ventura / arm64 | OK | OK | WARNINGS | OK | ![]() | ||||||||||||||||
taishan | Linux (openEuler 24.03 LTS) / aarch64 | OK | OK | WARNINGS | ||||||||||||||||||
Package 7/245 | Hostname | OS / Arch | INSTALL | BUILD | CHECK | BUILD BIN | ||||||||||||||||
animalcules 1.25.0 (landing page) Jessica McClintock
| nebbiolo2 | Linux (Ubuntu 24.04.3 LTS) / x86_64 | OK | OK | OK | ![]() | ||||||||||||||||
lconway | macOS 12.7.6 Monterey / x86_64 | OK | OK | OK | OK | ![]() | ||||||||||||||||
kjohnson3 | macOS 13.7.7 Ventura / arm64 | OK | OK | OK | OK | ![]() | ||||||||||||||||
taishan | Linux (openEuler 24.03 LTS) / aarch64 | OK | OK | OK | ||||||||||||||||||
Package 8/245 | Hostname | OS / Arch | INSTALL | BUILD | CHECK | BUILD BIN | ||||||||||||||||
anota2seq 1.31.0 (landing page) Christian Oertlin
| nebbiolo2 | Linux (Ubuntu 24.04.3 LTS) / x86_64 | OK | OK | WARNINGS | ![]() | ||||||||||||||||
lconway | macOS 12.7.6 Monterey / x86_64 | OK | OK | OK | OK | ![]() | ||||||||||||||||
kjohnson3 | macOS 13.7.7 Ventura / arm64 | OK | OK | OK | OK | ![]() | ||||||||||||||||
taishan | Linux (openEuler 24.03 LTS) / aarch64 | OK | OK | OK | ||||||||||||||||||
Package 9/245 | Hostname | OS / Arch | INSTALL | BUILD | CHECK | BUILD BIN | ||||||||||||||||
ArrayExpress 1.69.0 (landing page) Jose Marugan
| nebbiolo2 | Linux (Ubuntu 24.04.3 LTS) / x86_64 | OK | OK | OK | ![]() | ||||||||||||||||
lconway | macOS 12.7.6 Monterey / x86_64 | OK | OK | OK | OK | ![]() | ||||||||||||||||
kjohnson3 | macOS 13.7.7 Ventura / arm64 | OK | OK | OK | OK | ![]() | ||||||||||||||||
taishan | Linux (openEuler 24.03 LTS) / aarch64 | OK | OK | OK | ||||||||||||||||||
Package 10/245 | Hostname | OS / Arch | INSTALL | BUILD | CHECK | BUILD BIN | ||||||||||||||||
arrayQuality 1.87.0 (landing page) Agnes Paquet
| nebbiolo2 | Linux (Ubuntu 24.04.3 LTS) / x86_64 | OK | OK | WARNINGS | ![]() | ||||||||||||||||
lconway | macOS 12.7.6 Monterey / x86_64 | OK | OK | WARNINGS | OK | ![]() | ||||||||||||||||
kjohnson3 | macOS 13.7.7 Ventura / arm64 | OK | OK | WARNINGS | OK | ![]() | ||||||||||||||||
taishan | Linux (openEuler 24.03 LTS) / aarch64 | OK | OK | WARNINGS | ||||||||||||||||||
Package 11/245 | Hostname | OS / Arch | INSTALL | BUILD | CHECK | BUILD BIN | ||||||||||||||||
arrayQualityMetrics 3.65.0 (landing page) Mike Smith
| nebbiolo2 | Linux (Ubuntu 24.04.3 LTS) / x86_64 | OK | OK | OK | ![]() | ||||||||||||||||
lconway | macOS 12.7.6 Monterey / x86_64 | OK | OK | OK | OK | ![]() | ||||||||||||||||
kjohnson3 | macOS 13.7.7 Ventura / arm64 | OK | OK | OK | OK | ![]() | ||||||||||||||||
taishan | Linux (openEuler 24.03 LTS) / aarch64 | OK | OK | OK | ||||||||||||||||||
Package 12/245 | Hostname | OS / Arch | INSTALL | BUILD | CHECK | BUILD BIN | ||||||||||||||||
artMS 1.27.0 (landing page) David Jimenez-Morales
| nebbiolo2 | Linux (Ubuntu 24.04.3 LTS) / x86_64 | OK | OK | OK | ![]() | ||||||||||||||||
lconway | macOS 12.7.6 Monterey / x86_64 | OK | OK | OK | OK | ![]() | ||||||||||||||||
kjohnson3 | macOS 13.7.7 Ventura / arm64 | OK | OK | OK | OK | ![]() | ||||||||||||||||
taishan | Linux (openEuler 24.03 LTS) / aarch64 | OK | OK | OK | ||||||||||||||||||
Package 13/245 | Hostname | OS / Arch | INSTALL | BUILD | CHECK | BUILD BIN | ||||||||||||||||
ASpli 2.19.0 (landing page) Ariel Chernomoretz
| nebbiolo2 | Linux (Ubuntu 24.04.3 LTS) / x86_64 | OK | OK | WARNINGS | ![]() | ||||||||||||||||
lconway | macOS 12.7.6 Monterey / x86_64 | OK | OK | WARNINGS | OK | ![]() | ||||||||||||||||
kjohnson3 | macOS 13.7.7 Ventura / arm64 | OK | OK | WARNINGS | OK | ![]() | ||||||||||||||||
taishan | Linux (openEuler 24.03 LTS) / aarch64 | OK | OK | WARNINGS | ||||||||||||||||||
Package 14/245 | Hostname | OS / Arch | INSTALL | BUILD | CHECK | BUILD BIN | ||||||||||||||||
ATACseqQC 1.33.1 (landing page) Jianhong Ou
| nebbiolo2 | Linux (Ubuntu 24.04.3 LTS) / x86_64 | OK | OK | OK | ![]() | ||||||||||||||||
lconway | macOS 12.7.6 Monterey / x86_64 | OK | OK | OK | OK | ![]() | ||||||||||||||||
kjohnson3 | macOS 13.7.7 Ventura / arm64 | OK | OK | OK | OK | ![]() | ||||||||||||||||
taishan | Linux (openEuler 24.03 LTS) / aarch64 | OK | OK | OK | ||||||||||||||||||
Package 15/245 | Hostname | OS / Arch | INSTALL | BUILD | CHECK | BUILD BIN | ||||||||||||||||
ATACseqTFEA 1.11.1 (landing page) Jianhong Ou
| nebbiolo2 | Linux (Ubuntu 24.04.3 LTS) / x86_64 | OK | OK | OK | ![]() | ||||||||||||||||
lconway | macOS 12.7.6 Monterey / x86_64 | OK | OK | OK | OK | ![]() | ||||||||||||||||
kjohnson3 | macOS 13.7.7 Ventura / arm64 | OK | OK | OK | OK | ![]() | ||||||||||||||||
taishan | Linux (openEuler 24.03 LTS) / aarch64 | OK | OK | OK | ||||||||||||||||||
Package 16/245 | Hostname | OS / Arch | INSTALL | BUILD | CHECK | BUILD BIN | ||||||||||||||||
attract 1.61.0 (landing page) Samuel Zimmerman
| nebbiolo2 | Linux (Ubuntu 24.04.3 LTS) / x86_64 | OK | OK | OK | ![]() | ||||||||||||||||
lconway | macOS 12.7.6 Monterey / x86_64 | OK | OK | OK | OK | ![]() | ||||||||||||||||
kjohnson3 | macOS 13.7.7 Ventura / arm64 | OK | OK | OK | OK | ![]() | ||||||||||||||||
taishan | Linux (openEuler 24.03 LTS) / aarch64 | OK | OK | OK | ||||||||||||||||||
Package 17/245 | Hostname | OS / Arch | INSTALL | BUILD | CHECK | BUILD BIN | ||||||||||||||||
autonomics 1.17.16 (landing page) Aditya Bhagwat
| nebbiolo2 | Linux (Ubuntu 24.04.3 LTS) / x86_64 | OK | OK | OK | ![]() | ||||||||||||||||
lconway | macOS 12.7.6 Monterey / x86_64 | OK | OK | OK | OK | ![]() | ||||||||||||||||
kjohnson3 | macOS 13.7.7 Ventura / arm64 | OK | OK | OK | OK | ![]() | ||||||||||||||||
taishan | Linux (openEuler 24.03 LTS) / aarch64 | OK | OK | TIMEOUT | ||||||||||||||||||
Package 18/245 | Hostname | OS / Arch | INSTALL | BUILD | CHECK | BUILD BIN | ||||||||||||||||
AWFisher 1.23.0 (landing page) Zhiguang Huo
| nebbiolo2 | Linux (Ubuntu 24.04.3 LTS) / x86_64 | OK | OK | OK | ![]() | ||||||||||||||||
lconway | macOS 12.7.6 Monterey / x86_64 | OK | OK | OK | OK | ![]() | ||||||||||||||||
kjohnson3 | macOS 13.7.7 Ventura / arm64 | OK | OK | OK | OK | ![]() | ||||||||||||||||
taishan | Linux (openEuler 24.03 LTS) / aarch64 | OK | OK | OK | ||||||||||||||||||
Package 19/245 | Hostname | OS / Arch | INSTALL | BUILD | CHECK | BUILD BIN | ||||||||||||||||
ballgown 2.41.1 (landing page) Jack Fu
| nebbiolo2 | Linux (Ubuntu 24.04.3 LTS) / x86_64 | OK | OK | OK | ![]() | ||||||||||||||||
lconway | macOS 12.7.6 Monterey / x86_64 | OK | OK | OK | OK | ![]() | ||||||||||||||||
kjohnson3 | macOS 13.7.7 Ventura / arm64 | OK | OK | OK | OK | ![]() | ||||||||||||||||
taishan | Linux (openEuler 24.03 LTS) / aarch64 | OK | OK | OK | ||||||||||||||||||
Package 20/245 | Hostname | OS / Arch | INSTALL | BUILD | CHECK | BUILD BIN | ||||||||||||||||
barbieQ 1.1.2 (landing page) Liyang Fei
| nebbiolo2 | Linux (Ubuntu 24.04.3 LTS) / x86_64 | OK | OK | OK | ![]() | ||||||||||||||||
lconway | macOS 12.7.6 Monterey / x86_64 | OK | OK | OK | OK | ![]() | ||||||||||||||||
kjohnson3 | macOS 13.7.7 Ventura / arm64 | OK | OK | OK | OK | ![]() | ||||||||||||||||
taishan | Linux (openEuler 24.03 LTS) / aarch64 | OK | OK | OK | ||||||||||||||||||
Package 21/245 | Hostname | OS / Arch | INSTALL | BUILD | CHECK | BUILD BIN | ||||||||||||||||
BatchQC 2.5.14 (landing page) Jessica Anderson
| nebbiolo2 | Linux (Ubuntu 24.04.3 LTS) / x86_64 | OK | OK | OK | ![]() | ||||||||||||||||
lconway | macOS 12.7.6 Monterey / x86_64 | OK | OK | OK | OK | ![]() | ||||||||||||||||
kjohnson3 | macOS 13.7.7 Ventura / arm64 | OK | OK | OK | OK | ![]() | ||||||||||||||||
taishan | Linux (openEuler 24.03 LTS) / aarch64 | OK | OK | OK | ||||||||||||||||||
Package 22/245 | Hostname | OS / Arch | INSTALL | BUILD | CHECK | BUILD BIN | ||||||||||||||||
beadarray 2.59.0 (landing page) Mark Dunning
| nebbiolo2 | Linux (Ubuntu 24.04.3 LTS) / x86_64 | OK | OK | ERROR | |||||||||||||||||
lconway | macOS 12.7.6 Monterey / x86_64 | OK | OK | ERROR | OK | |||||||||||||||||
kjohnson3 | macOS 13.7.7 Ventura / arm64 | OK | OK | ERROR | OK | |||||||||||||||||
taishan | Linux (openEuler 24.03 LTS) / aarch64 | OK | OK | OK | ||||||||||||||||||
Package 23/245 | Hostname | OS / Arch | INSTALL | BUILD | CHECK | BUILD BIN | ||||||||||||||||
benchdamic 1.15.4 (landing page) Matteo Calgaro
| nebbiolo2 | Linux (Ubuntu 24.04.3 LTS) / x86_64 | OK | OK | OK | ![]() | ||||||||||||||||
lconway | macOS 12.7.6 Monterey / x86_64 | OK | OK | OK | OK | ![]() | ||||||||||||||||
kjohnson3 | macOS 13.7.7 Ventura / arm64 | OK | OK | OK | OK | ![]() | ||||||||||||||||
taishan | Linux (openEuler 24.03 LTS) / aarch64 | OK | OK | ERROR | ||||||||||||||||||
Package 24/245 | Hostname | OS / Arch | INSTALL | BUILD | CHECK | BUILD BIN | ||||||||||||||||
BERT 1.5.0 (landing page) Yannis Schumann
| nebbiolo2 | Linux (Ubuntu 24.04.3 LTS) / x86_64 | OK | OK | OK | ![]() | ||||||||||||||||
lconway | macOS 12.7.6 Monterey / x86_64 | OK | OK | OK | OK | ![]() | ||||||||||||||||
kjohnson3 | macOS 13.7.7 Ventura / arm64 | OK | OK | OK | OK | ![]() | ||||||||||||||||
taishan | Linux (openEuler 24.03 LTS) / aarch64 | OK | OK | OK | ||||||||||||||||||
Package 25/245 | Hostname | OS / Arch | INSTALL | BUILD | CHECK | BUILD BIN | ||||||||||||||||
biotmle 1.33.0 (landing page) Nima Hejazi
| nebbiolo2 | Linux (Ubuntu 24.04.3 LTS) / x86_64 | OK | OK | OK | ![]() | ||||||||||||||||
lconway | macOS 12.7.6 Monterey / x86_64 | OK | OK | OK | OK | ![]() | ||||||||||||||||
kjohnson3 | macOS 13.7.7 Ventura / arm64 | OK | OK | OK | OK | ![]() | ||||||||||||||||
taishan | Linux (openEuler 24.03 LTS) / aarch64 | OK | OK | OK | ||||||||||||||||||
Package 26/245 | Hostname | OS / Arch | INSTALL | BUILD | CHECK | BUILD BIN | ||||||||||||||||
BLMA 1.33.0 (landing page) Van-Dung Pham
| nebbiolo2 | Linux (Ubuntu 24.04.3 LTS) / x86_64 | OK | OK | OK | ![]() | ||||||||||||||||
lconway | macOS 12.7.6 Monterey / x86_64 | OK | OK | OK | OK | ![]() | ||||||||||||||||
kjohnson3 | macOS 13.7.7 Ventura / arm64 | OK | OK | OK | OK | ![]() | ||||||||||||||||
taishan | Linux (openEuler 24.03 LTS) / aarch64 | OK | OK | OK | ||||||||||||||||||
Package 27/245 | Hostname | OS / Arch | INSTALL | BUILD | CHECK | BUILD BIN | ||||||||||||||||
BloodGen3Module 1.17.0 (landing page) Darawan Rinchai
| nebbiolo2 | Linux (Ubuntu 24.04.3 LTS) / x86_64 | OK | OK | WARNINGS | ![]() | ||||||||||||||||
lconway | macOS 12.7.6 Monterey / x86_64 | OK | OK | WARNINGS | OK | ![]() | ||||||||||||||||
kjohnson3 | macOS 13.7.7 Ventura / arm64 | OK | OK | WARNINGS | OK | ![]() | ||||||||||||||||
taishan | Linux (openEuler 24.03 LTS) / aarch64 | OK | OK | WARNINGS | ||||||||||||||||||
Package 28/245 | Hostname | OS / Arch | INSTALL | BUILD | CHECK | BUILD BIN | ||||||||||||||||
bnem 1.17.0 (landing page) Martin Pirkl
| nebbiolo2 | Linux (Ubuntu 24.04.3 LTS) / x86_64 | OK | OK | OK | ![]() | ||||||||||||||||
lconway | macOS 12.7.6 Monterey / x86_64 | OK | OK | OK | OK | ![]() | ||||||||||||||||
kjohnson3 | macOS 13.7.7 Ventura / arm64 | OK | OK | OK | OK | ![]() | ||||||||||||||||
taishan | Linux (openEuler 24.03 LTS) / aarch64 | OK | OK | OK | ||||||||||||||||||
Package 29/245 | Hostname | OS / Arch | INSTALL | BUILD | CHECK | BUILD BIN | ||||||||||||||||
bsseq 1.45.4 (landing page) Kasper Daniel Hansen
| nebbiolo2 | Linux (Ubuntu 24.04.3 LTS) / x86_64 | OK | OK | OK | ![]() | ||||||||||||||||
lconway | macOS 12.7.6 Monterey / x86_64 | OK | OK | OK | OK | ![]() | ||||||||||||||||
kjohnson3 | macOS 13.7.7 Ventura / arm64 | OK | OK | OK | OK | ![]() | ||||||||||||||||
taishan | Linux (openEuler 24.03 LTS) / aarch64 | OK | OK | OK | ||||||||||||||||||
Package 30/245 | Hostname | OS / Arch | INSTALL | BUILD | CHECK | BUILD BIN | ||||||||||||||||
BubbleTree 2.39.0 (landing page) Todd Creasy
| nebbiolo2 | Linux (Ubuntu 24.04.3 LTS) / x86_64 | OK | ERROR | skipped | |||||||||||||||||
lconway | macOS 12.7.6 Monterey / x86_64 | OK | ERROR | skipped | skipped | |||||||||||||||||
kjohnson3 | macOS 13.7.7 Ventura / arm64 | OK | ERROR | skipped | skipped | |||||||||||||||||
taishan | Linux (openEuler 24.03 LTS) / aarch64 | OK | ERROR | skipped | ||||||||||||||||||
Package 31/245 | Hostname | OS / Arch | INSTALL | BUILD | CHECK | BUILD BIN | ||||||||||||||||
bumphunter 1.51.1 (landing page) Tamilselvi Guharaj
| nebbiolo2 | Linux (Ubuntu 24.04.3 LTS) / x86_64 | OK | OK | OK | ![]() | ||||||||||||||||
lconway | macOS 12.7.6 Monterey / x86_64 | OK | OK | OK | OK | ![]() | ||||||||||||||||
kjohnson3 | macOS 13.7.7 Ventura / arm64 | OK | OK | OK | OK | ![]() | ||||||||||||||||
taishan | Linux (openEuler 24.03 LTS) / aarch64 | OK | OK | OK | ||||||||||||||||||
Package 32/245 | Hostname | OS / Arch | INSTALL | BUILD | CHECK | BUILD BIN | ||||||||||||||||
casper 2.43.1 (landing page) David Rossell
| nebbiolo2 | Linux (Ubuntu 24.04.3 LTS) / x86_64 | OK | OK | WARNINGS | ![]() | ||||||||||||||||
lconway | macOS 12.7.6 Monterey / x86_64 | OK | ERROR | skipped | skipped | |||||||||||||||||
kjohnson3 | macOS 13.7.7 Ventura / arm64 | OK | ERROR | skipped | skipped | |||||||||||||||||
taishan | Linux (openEuler 24.03 LTS) / aarch64 | OK | OK | WARNINGS | ||||||||||||||||||
Package 33/245 | Hostname | OS / Arch | INSTALL | BUILD | CHECK | BUILD BIN | ||||||||||||||||
cghMCR 1.67.0 (landing page) J. Zhang
| nebbiolo2 | Linux (Ubuntu 24.04.3 LTS) / x86_64 | OK | OK | WARNINGS | ![]() | ||||||||||||||||
lconway | macOS 12.7.6 Monterey / x86_64 | OK | OK | WARNINGS | OK | ![]() | ||||||||||||||||
kjohnson3 | macOS 13.7.7 Ventura / arm64 | OK | OK | WARNINGS | OK | ![]() | ||||||||||||||||
taishan | Linux (openEuler 24.03 LTS) / aarch64 | OK | OK | WARNINGS | ||||||||||||||||||
Package 34/245 | Hostname | OS / Arch | INSTALL | BUILD | CHECK | BUILD BIN | ||||||||||||||||
ChAMP 2.39.1 (landing page) Yuan Tian
| nebbiolo2 | Linux (Ubuntu 24.04.3 LTS) / x86_64 | OK | OK | WARNINGS | ![]() | ||||||||||||||||
lconway | macOS 12.7.6 Monterey / x86_64 | OK | OK | WARNINGS | OK | ![]() | ||||||||||||||||
kjohnson3 | macOS 13.7.7 Ventura / arm64 | OK | OK | WARNINGS | OK | ![]() | ||||||||||||||||
taishan | Linux (openEuler 24.03 LTS) / aarch64 | OK | OK | WARNINGS | ||||||||||||||||||
Package 35/245 | Hostname | OS / Arch | INSTALL | BUILD | CHECK | BUILD BIN | ||||||||||||||||
ChIPComp 1.39.1 (landing page) Li Chen
| nebbiolo2 | Linux (Ubuntu 24.04.3 LTS) / x86_64 | OK | OK | OK | ![]() | ||||||||||||||||
lconway | macOS 12.7.6 Monterey / x86_64 | OK | OK | OK | OK | ![]() | ||||||||||||||||
kjohnson3 | macOS 13.7.7 Ventura / arm64 | OK | OK | OK | OK | ![]() | ||||||||||||||||
taishan | Linux (openEuler 24.03 LTS) / aarch64 | OK | OK | OK | ||||||||||||||||||
Package 36/245 | Hostname | OS / Arch | INSTALL | BUILD | CHECK | BUILD BIN | ||||||||||||||||
CleanUpRNAseq 1.3.2 (landing page) Haibo Liu
| nebbiolo2 | Linux (Ubuntu 24.04.3 LTS) / x86_64 | OK | OK | OK | ![]() | ||||||||||||||||
lconway | macOS 12.7.6 Monterey / x86_64 | OK | OK | OK | OK | ![]() | ||||||||||||||||
kjohnson3 | macOS 13.7.7 Ventura / arm64 | OK | OK | OK | OK | ![]() | ||||||||||||||||
taishan | Linux (openEuler 24.03 LTS) / aarch64 | OK | OK | OK | ||||||||||||||||||
Package 37/245 | Hostname | OS / Arch | INSTALL | BUILD | CHECK | BUILD BIN | ||||||||||||||||
clippda 1.59.0 (landing page) Stephen Nyangoma
| nebbiolo2 | Linux (Ubuntu 24.04.3 LTS) / x86_64 | OK | OK | OK | ![]() | ||||||||||||||||
lconway | macOS 12.7.6 Monterey / x86_64 | OK | OK | OK | OK | ![]() | ||||||||||||||||
kjohnson3 | macOS 13.7.7 Ventura / arm64 | OK | OK | OK | OK | ![]() | ||||||||||||||||
taishan | Linux (openEuler 24.03 LTS) / aarch64 | OK | OK | OK | ||||||||||||||||||
Package 38/245 | Hostname | OS / Arch | INSTALL | BUILD | CHECK | BUILD BIN | ||||||||||||||||
clusterExperiment 2.29.1 (landing page) Elizabeth Purdom
| nebbiolo2 | Linux (Ubuntu 24.04.3 LTS) / x86_64 | OK | OK | WARNINGS | ![]() | ||||||||||||||||
lconway | macOS 12.7.6 Monterey / x86_64 | OK | OK | WARNINGS | OK | ![]() | ||||||||||||||||
kjohnson3 | macOS 13.7.7 Ventura / arm64 | OK | OK | WARNINGS | OK | ![]() | ||||||||||||||||
taishan | Linux (openEuler 24.03 LTS) / aarch64 | OK | OK | WARNINGS | ||||||||||||||||||
Package 39/245 | Hostname | OS / Arch | INSTALL | BUILD | CHECK | BUILD BIN | ||||||||||||||||
CNVRanger 1.25.4 (landing page) Ludwig Geistlinger
| nebbiolo2 | Linux (Ubuntu 24.04.3 LTS) / x86_64 | OK | OK | OK | ![]() | ||||||||||||||||
lconway | macOS 12.7.6 Monterey / x86_64 | OK | OK | OK | OK | ![]() | ||||||||||||||||
kjohnson3 | macOS 13.7.7 Ventura / arm64 | OK | OK | OK | OK | ![]() | ||||||||||||||||
taishan | Linux (openEuler 24.03 LTS) / aarch64 | OK | OK | OK | ||||||||||||||||||
Package 40/245 | Hostname | OS / Arch | INSTALL | BUILD | CHECK | BUILD BIN | ||||||||||||||||
codelink 1.77.0 (landing page) Diego Diez
| nebbiolo2 | Linux (Ubuntu 24.04.3 LTS) / x86_64 | OK | OK | OK | ![]() | ||||||||||||||||
lconway | macOS 12.7.6 Monterey / x86_64 | OK | OK | OK | OK | ![]() | ||||||||||||||||
kjohnson3 | macOS 13.7.7 Ventura / arm64 | OK | OK | OK | OK | ![]() | ||||||||||||||||
taishan | Linux (openEuler 24.03 LTS) / aarch64 | OK | OK | OK | ||||||||||||||||||
Package 41/245 | Hostname | OS / Arch | INSTALL | BUILD | CHECK | BUILD BIN | ||||||||||||||||
combi 1.21.0 (landing page) Stijn Hawinkel
| nebbiolo2 | Linux (Ubuntu 24.04.3 LTS) / x86_64 | OK | OK | OK | ![]() | ||||||||||||||||
lconway | macOS 12.7.6 Monterey / x86_64 | OK | OK | OK | OK | ![]() | ||||||||||||||||
kjohnson3 | macOS 13.7.7 Ventura / arm64 | OK | OK | OK | OK | ![]() | ||||||||||||||||
taishan | Linux (openEuler 24.03 LTS) / aarch64 | OK | OK | OK | ||||||||||||||||||
Package 42/245 | Hostname | OS / Arch | INSTALL | BUILD | CHECK | BUILD BIN | ||||||||||||||||
compcodeR 1.45.0 (landing page) Charlotte Soneson
| nebbiolo2 | Linux (Ubuntu 24.04.3 LTS) / x86_64 | OK | OK | OK | ![]() | ||||||||||||||||
lconway | macOS 12.7.6 Monterey / x86_64 | OK | OK | OK | OK | ![]() | ||||||||||||||||
kjohnson3 | macOS 13.7.7 Ventura / arm64 | OK | OK | OK | OK | ![]() | ||||||||||||||||
taishan | Linux (openEuler 24.03 LTS) / aarch64 | OK | OK | OK | ||||||||||||||||||
Package 43/245 | Hostname | OS / Arch | INSTALL | BUILD | CHECK | BUILD BIN | ||||||||||||||||
CONFESS 1.37.0 (landing page) Diana LOW
| nebbiolo2 | Linux (Ubuntu 24.04.3 LTS) / x86_64 | OK | OK | WARNINGS | ![]() | ||||||||||||||||
lconway | macOS 12.7.6 Monterey / x86_64 | OK | OK | WARNINGS | OK | ![]() | ||||||||||||||||
kjohnson3 | macOS 13.7.7 Ventura / arm64 | OK | OK | WARNINGS | OK | ![]() | ||||||||||||||||
taishan | Linux (openEuler 24.03 LTS) / aarch64 | OK | OK | WARNINGS | ||||||||||||||||||
Package 44/245 | Hostname | OS / Arch | INSTALL | BUILD | CHECK | BUILD BIN | ||||||||||||||||
consensusDE 1.27.0 (landing page) Ashley J. Waardenberg
| nebbiolo2 | Linux (Ubuntu 24.04.3 LTS) / x86_64 | OK | OK | OK | ![]() | ||||||||||||||||
lconway | macOS 12.7.6 Monterey / x86_64 | OK | OK | OK | OK | ![]() | ||||||||||||||||
kjohnson3 | macOS 13.7.7 Ventura / arm64 | OK | OK | OK | OK | ![]() | ||||||||||||||||
taishan | Linux (openEuler 24.03 LTS) / aarch64 | OK | OK | OK | ||||||||||||||||||
Package 45/245 | Hostname | OS / Arch | INSTALL | BUILD | CHECK | BUILD BIN | ||||||||||||||||
consensusOV 1.31.0 (landing page) Benjamin Haibe-Kains
| nebbiolo2 | Linux (Ubuntu 24.04.3 LTS) / x86_64 | OK | OK | OK | ![]() | ||||||||||||||||
lconway | macOS 12.7.6 Monterey / x86_64 | OK | OK | OK | OK | ![]() | ||||||||||||||||
kjohnson3 | macOS 13.7.7 Ventura / arm64 | OK | OK | OK | OK | ![]() | ||||||||||||||||
taishan | Linux (openEuler 24.03 LTS) / aarch64 | OK | OK | OK | ||||||||||||||||||
Package 46/245 | Hostname | OS / Arch | INSTALL | BUILD | CHECK | BUILD BIN | ||||||||||||||||
convert 1.85.0 (landing page) Yee Hwa (Jean) Yang
| nebbiolo2 | Linux (Ubuntu 24.04.3 LTS) / x86_64 | OK | OK | OK | ![]() | ||||||||||||||||
lconway | macOS 12.7.6 Monterey / x86_64 | OK | OK | OK | OK | ![]() | ||||||||||||||||
kjohnson3 | macOS 13.7.7 Ventura / arm64 | OK | OK | OK | OK | ![]() | ||||||||||||||||
taishan | Linux (openEuler 24.03 LTS) / aarch64 | OK | OK | OK | ||||||||||||||||||
Package 47/245 | Hostname | OS / Arch | INSTALL | BUILD | CHECK | BUILD BIN | ||||||||||||||||
Cormotif 1.55.0 (landing page) Yingying Wei
| nebbiolo2 | Linux (Ubuntu 24.04.3 LTS) / x86_64 | OK | OK | OK | ![]() | ||||||||||||||||
lconway | macOS 12.7.6 Monterey / x86_64 | OK | OK | OK | OK | ![]() | ||||||||||||||||
kjohnson3 | macOS 13.7.7 Ventura / arm64 | OK | OK | OK | OK | ![]() | ||||||||||||||||
taishan | Linux (openEuler 24.03 LTS) / aarch64 | OK | OK | OK | ||||||||||||||||||
Package 48/245 | Hostname | OS / Arch | INSTALL | BUILD | CHECK | BUILD BIN | ||||||||||||||||
crlmm 1.67.0 (landing page) Benilton S Carvalho
| nebbiolo2 | Linux (Ubuntu 24.04.3 LTS) / x86_64 | OK | OK | WARNINGS | ![]() | ||||||||||||||||
lconway | macOS 12.7.6 Monterey / x86_64 | OK | OK | WARNINGS | OK | ![]() | ||||||||||||||||
kjohnson3 | macOS 13.7.7 Ventura / arm64 | OK | OK | WARNINGS | OK | ![]() | ||||||||||||||||
taishan | Linux (openEuler 24.03 LTS) / aarch64 | OK | OK | WARNINGS | ||||||||||||||||||
Package 49/245 | Hostname | OS / Arch | INSTALL | BUILD | CHECK | BUILD BIN | ||||||||||||||||
csaw 1.43.1 (landing page) Aaron Lun
| nebbiolo2 | Linux (Ubuntu 24.04.3 LTS) / x86_64 | OK | OK | OK | ![]() | ||||||||||||||||
lconway | macOS 12.7.6 Monterey / x86_64 | OK | OK | OK | OK | ![]() | ||||||||||||||||
kjohnson3 | macOS 13.7.7 Ventura / arm64 | OK | OK | WARNINGS | OK | ![]() | ||||||||||||||||
taishan | Linux (openEuler 24.03 LTS) / aarch64 | OK | OK | OK | ||||||||||||||||||
Package 50/245 | Hostname | OS / Arch | INSTALL | BUILD | CHECK | BUILD BIN | ||||||||||||||||
cTRAP 1.27.0 (landing page) Nuno Saraiva-Agostinho
| nebbiolo2 | Linux (Ubuntu 24.04.3 LTS) / x86_64 | OK | OK | OK | ![]() | ||||||||||||||||
lconway | macOS 12.7.6 Monterey / x86_64 | OK | OK | OK | OK | ![]() | ||||||||||||||||
kjohnson3 | macOS 13.7.7 Ventura / arm64 | OK | OK | OK | OK | ![]() | ||||||||||||||||
taishan | Linux (openEuler 24.03 LTS) / aarch64 | OK | ERROR | skipped | ||||||||||||||||||
Package 51/245 | Hostname | OS / Arch | INSTALL | BUILD | CHECK | BUILD BIN | ||||||||||||||||
ctsGE 1.35.0 (landing page) Michal Sharabi-Schwager
| nebbiolo2 | Linux (Ubuntu 24.04.3 LTS) / x86_64 | OK | OK | OK | ![]() | ||||||||||||||||
lconway | macOS 12.7.6 Monterey / x86_64 | OK | OK | OK | OK | ![]() | ||||||||||||||||
kjohnson3 | macOS 13.7.7 Ventura / arm64 | OK | OK | OK | OK | ![]() | ||||||||||||||||
taishan | Linux (openEuler 24.03 LTS) / aarch64 | OK | OK | OK | ||||||||||||||||||
Package 52/245 | Hostname | OS / Arch | INSTALL | BUILD | CHECK | BUILD BIN | ||||||||||||||||
DAMEfinder 1.21.2 (landing page) Stephany Orjuela
| nebbiolo2 | Linux (Ubuntu 24.04.3 LTS) / x86_64 | OK | OK | OK | ![]() | ||||||||||||||||
lconway | macOS 12.7.6 Monterey / x86_64 | OK | OK | OK | OK | ![]() | ||||||||||||||||
kjohnson3 | macOS 13.7.7 Ventura / arm64 | OK | OK | OK | OK | ![]() | ||||||||||||||||
taishan | Linux (openEuler 24.03 LTS) / aarch64 | OK | OK | OK | ||||||||||||||||||
Package 53/245 | Hostname | OS / Arch | INSTALL | BUILD | CHECK | BUILD BIN | ||||||||||||||||
DaMiRseq 2.21.0 (landing page) Mattia Chiesa
| nebbiolo2 | Linux (Ubuntu 24.04.3 LTS) / x86_64 | OK | OK | OK | ![]() | ||||||||||||||||
lconway | macOS 12.7.6 Monterey / x86_64 | OK | OK | OK | OK | ![]() | ||||||||||||||||
kjohnson3 | macOS 13.7.7 Ventura / arm64 | OK | OK | OK | OK | ![]() | ||||||||||||||||
taishan | Linux (openEuler 24.03 LTS) / aarch64 | OK | OK | OK | ||||||||||||||||||
Package 54/245 | Hostname | OS / Arch | INSTALL | BUILD | CHECK | BUILD BIN | ||||||||||||||||
debrowser 1.37.0 (landing page) Alper Kucukural
| nebbiolo2 | Linux (Ubuntu 24.04.3 LTS) / x86_64 | OK | OK | OK | ![]() | ||||||||||||||||
lconway | macOS 12.7.6 Monterey / x86_64 | OK | OK | OK | OK | ![]() | ||||||||||||||||
kjohnson3 | macOS 13.7.7 Ventura / arm64 | OK | OK | OK | OK | ![]() | ||||||||||||||||
taishan | Linux (openEuler 24.03 LTS) / aarch64 | OK | OK | OK | ||||||||||||||||||
Package 55/245 | Hostname | OS / Arch | INSTALL | BUILD | CHECK | BUILD BIN | ||||||||||||||||
DeeDeeExperiment 0.99.5 (landing page) Najla Abassi
| nebbiolo2 | Linux (Ubuntu 24.04.3 LTS) / x86_64 | OK | OK | OK | ![]() | ||||||||||||||||
lconway | macOS 12.7.6 Monterey / x86_64 | OK | OK | OK | OK | ![]() | ||||||||||||||||
kjohnson3 | macOS 13.7.7 Ventura / arm64 | OK | OK | OK | OK | ![]() | ||||||||||||||||
taishan | Linux (openEuler 24.03 LTS) / aarch64 | OK | OK | OK | ||||||||||||||||||
Package 56/245 | Hostname | OS / Arch | INSTALL | BUILD | CHECK | BUILD BIN | ||||||||||||||||
DELocal 1.9.0 (landing page) Rishi Das Roy
| nebbiolo2 | Linux (Ubuntu 24.04.3 LTS) / x86_64 | OK | ERROR | skipped | |||||||||||||||||
lconway | macOS 12.7.6 Monterey / x86_64 | OK | ERROR | skipped | skipped | |||||||||||||||||
kjohnson3 | macOS 13.7.7 Ventura / arm64 | OK | ERROR | skipped | skipped | |||||||||||||||||
taishan | Linux (openEuler 24.03 LTS) / aarch64 | OK | ERROR | skipped | ||||||||||||||||||
Package 57/245 | Hostname | OS / Arch | INSTALL | BUILD | CHECK | BUILD BIN | ||||||||||||||||
Arne Smits
| nebbiolo2 | Linux (Ubuntu 24.04.3 LTS) / x86_64 | OK | OK | OK | ![]() | ||||||||||||||||
lconway | macOS 12.7.6 Monterey / x86_64 | OK | OK | OK | OK | ![]() | ||||||||||||||||
kjohnson3 | macOS 13.7.7 Ventura / arm64 | OK | OK | OK | OK | ![]() | ||||||||||||||||
taishan | Linux (openEuler 24.03 LTS) / aarch64 | OK | OK | OK | ||||||||||||||||||
Package 58/245 | Hostname | OS / Arch | INSTALL | BUILD | CHECK | BUILD BIN | ||||||||||||||||
DEqMS 1.27.1 (landing page) Yafeng Zhu
| nebbiolo2 | Linux (Ubuntu 24.04.3 LTS) / x86_64 | OK | OK | OK | ![]() | ||||||||||||||||
lconway | macOS 12.7.6 Monterey / x86_64 | OK | OK | OK | OK | ![]() | ||||||||||||||||
kjohnson3 | macOS 13.7.7 Ventura / arm64 | OK | OK | OK | OK | ![]() | ||||||||||||||||
taishan | Linux (openEuler 24.03 LTS) / aarch64 | OK | OK | TIMEOUT | ||||||||||||||||||
Package 59/245 | Hostname | OS / Arch | INSTALL | BUILD | CHECK | BUILD BIN | ||||||||||||||||
derfinderPlot 1.43.1 (landing page) Leonardo Collado-Torres
| nebbiolo2 | Linux (Ubuntu 24.04.3 LTS) / x86_64 | OK | OK | OK | ![]() | ||||||||||||||||
lconway | macOS 12.7.6 Monterey / x86_64 | OK | OK | OK | OK | ![]() | ||||||||||||||||
kjohnson3 | macOS 13.7.7 Ventura / arm64 | OK | OK | OK | OK | ![]() | ||||||||||||||||
taishan | Linux (openEuler 24.03 LTS) / aarch64 | OK | OK | OK | ||||||||||||||||||
Package 60/245 | Hostname | OS / Arch | INSTALL | BUILD | CHECK | BUILD BIN | ||||||||||||||||
DESpace 2.1.0 (landing page) Peiying Cai
| nebbiolo2 | Linux (Ubuntu 24.04.3 LTS) / x86_64 | OK | OK | OK | ![]() | ||||||||||||||||
lconway | macOS 12.7.6 Monterey / x86_64 | OK | OK | OK | OK | ![]() | ||||||||||||||||
kjohnson3 | macOS 13.7.7 Ventura / arm64 | OK | OK | OK | OK | ![]() | ||||||||||||||||
taishan | Linux (openEuler 24.03 LTS) / aarch64 | OK | OK | TIMEOUT | ||||||||||||||||||
Package 61/245 | Hostname | OS / Arch | INSTALL | BUILD | CHECK | BUILD BIN | ||||||||||||||||
DEsubs 1.35.0 (landing page) Aristidis G. Vrahatis
| nebbiolo2 | Linux (Ubuntu 24.04.3 LTS) / x86_64 | OK | OK | WARNINGS | ![]() | ||||||||||||||||
lconway | macOS 12.7.6 Monterey / x86_64 | OK | OK | WARNINGS | OK | ![]() | ||||||||||||||||
kjohnson3 | macOS 13.7.7 Ventura / arm64 | OK | OK | WARNINGS | OK | ![]() | ||||||||||||||||
taishan | Linux (openEuler 24.03 LTS) / aarch64 | OK | OK | WARNINGS | ||||||||||||||||||
Package 62/245 | Hostname | OS / Arch | INSTALL | BUILD | CHECK | BUILD BIN | ||||||||||||||||
DExMA 1.17.0 (landing page) Juan Antonio Villatoro-GarcÃa
| nebbiolo2 | Linux (Ubuntu 24.04.3 LTS) / x86_64 | OK | OK | OK | ![]() | ||||||||||||||||
lconway | macOS 12.7.6 Monterey / x86_64 | OK | OK | OK | OK | ![]() | ||||||||||||||||
kjohnson3 | macOS 13.7.7 Ventura / arm64 | OK | OK | OK | OK | ![]() | ||||||||||||||||
taishan | Linux (openEuler 24.03 LTS) / aarch64 | OK | OK | OK | ||||||||||||||||||
Package 63/245 | Hostname | OS / Arch | INSTALL | BUILD | CHECK | BUILD BIN | ||||||||||||||||
DiffBind 3.19.0 (landing page) Rory Stark
| nebbiolo2 | Linux (Ubuntu 24.04.3 LTS) / x86_64 | OK | OK | OK | ![]() | ||||||||||||||||
lconway | macOS 12.7.6 Monterey / x86_64 | OK | OK | OK | OK | ![]() | ||||||||||||||||
kjohnson3 | macOS 13.7.7 Ventura / arm64 | OK | OK | OK | OK | ![]() | ||||||||||||||||
taishan | Linux (openEuler 24.03 LTS) / aarch64 | OK | OK | OK | ||||||||||||||||||
Package 64/245 | Hostname | OS / Arch | INSTALL | BUILD | CHECK | BUILD BIN | ||||||||||||||||
diffcyt 1.29.0 (landing page) Lukas M. Weber
| nebbiolo2 | Linux (Ubuntu 24.04.3 LTS) / x86_64 | OK | OK | OK | ![]() | ||||||||||||||||
lconway | macOS 12.7.6 Monterey / x86_64 | OK | OK | OK | OK | ![]() | ||||||||||||||||
kjohnson3 | macOS 13.7.7 Ventura / arm64 | OK | OK | OK | OK | ![]() | ||||||||||||||||
taishan | Linux (openEuler 24.03 LTS) / aarch64 | OK | OK | OK | ||||||||||||||||||
Package 65/245 | Hostname | OS / Arch | INSTALL | BUILD | CHECK | BUILD BIN | ||||||||||||||||
diffHic 1.41.0 (landing page) Aaron Lun
| nebbiolo2 | Linux (Ubuntu 24.04.3 LTS) / x86_64 | OK | OK | OK | ![]() | ||||||||||||||||
lconway | macOS 12.7.6 Monterey / x86_64 | OK | OK | OK | OK | ![]() | ||||||||||||||||
kjohnson3 | macOS 13.7.7 Ventura / arm64 | OK | OK | OK | OK | ![]() | ||||||||||||||||
taishan | Linux (openEuler 24.03 LTS) / aarch64 | OK | OK | OK | ||||||||||||||||||
Package 66/245 | Hostname | OS / Arch | INSTALL | BUILD | CHECK | BUILD BIN | ||||||||||||||||
diffUTR 1.17.0 (landing page) Pierre-Luc Germain
| nebbiolo2 | Linux (Ubuntu 24.04.3 LTS) / x86_64 | OK | OK | OK | ![]() | ||||||||||||||||
lconway | macOS 12.7.6 Monterey / x86_64 | OK | OK | OK | OK | ![]() | ||||||||||||||||
kjohnson3 | macOS 13.7.7 Ventura / arm64 | OK | OK | OK | OK | ![]() | ||||||||||||||||
taishan | Linux (openEuler 24.03 LTS) / aarch64 | OK | OK | OK | ||||||||||||||||||
Package 67/245 | Hostname | OS / Arch | INSTALL | BUILD | CHECK | BUILD BIN | ||||||||||||||||
distinct 1.21.1 (landing page) Simone Tiberi
| nebbiolo2 | Linux (Ubuntu 24.04.3 LTS) / x86_64 | OK | OK | OK | ![]() | ||||||||||||||||
lconway | macOS 12.7.6 Monterey / x86_64 | OK | OK | OK | OK | ![]() | ||||||||||||||||
kjohnson3 | macOS 13.7.7 Ventura / arm64 | OK | OK | OK | OK | ![]() | ||||||||||||||||
taishan | Linux (openEuler 24.03 LTS) / aarch64 | OK | OK | OK | ||||||||||||||||||
Package 68/245 | Hostname | OS / Arch | INSTALL | BUILD | CHECK | BUILD BIN | ||||||||||||||||
DMRcate 3.5.2 (landing page) Tim Peters
| nebbiolo2 | Linux (Ubuntu 24.04.3 LTS) / x86_64 | OK | OK | OK | ![]() | ||||||||||||||||
lconway | macOS 12.7.6 Monterey / x86_64 | OK | OK | OK | OK | ![]() | ||||||||||||||||
kjohnson3 | macOS 13.7.7 Ventura / arm64 | OK | OK | OK | OK | ![]() | ||||||||||||||||
taishan | Linux (openEuler 24.03 LTS) / aarch64 | OK | OK | TIMEOUT | ||||||||||||||||||
Package 69/245 | Hostname | OS / Arch | INSTALL | BUILD | CHECK | BUILD BIN | ||||||||||||||||
Doscheda 1.31.0 (landing page) Bruno Contrino
| nebbiolo2 | Linux (Ubuntu 24.04.3 LTS) / x86_64 | OK | OK | OK | ![]() | ||||||||||||||||
lconway | macOS 12.7.6 Monterey / x86_64 | OK | OK | OK | OK | ![]() | ||||||||||||||||
kjohnson3 | macOS 13.7.7 Ventura / arm64 | OK | OK | OK | OK | ![]() | ||||||||||||||||
taishan | Linux (openEuler 24.03 LTS) / aarch64 | OK | OK | OK | ||||||||||||||||||
Package 70/245 | Hostname | OS / Arch | INSTALL | BUILD | CHECK | BUILD BIN | ||||||||||||||||
dreamlet 1.7.1 (landing page) Gabriel Hoffman
| nebbiolo2 | Linux (Ubuntu 24.04.3 LTS) / x86_64 | OK | OK | OK | ![]() | ||||||||||||||||
lconway | macOS 12.7.6 Monterey / x86_64 | OK | OK | OK | OK | ![]() | ||||||||||||||||
kjohnson3 | macOS 13.7.7 Ventura / arm64 | OK | OK | OK | OK | ![]() | ||||||||||||||||
taishan | Linux (openEuler 24.03 LTS) / aarch64 | OK | OK | OK | ||||||||||||||||||
Package 71/245 | Hostname | OS / Arch | INSTALL | BUILD | CHECK | BUILD BIN | ||||||||||||||||
DRIMSeq 1.37.0 (landing page) Malgorzata Nowicka
| nebbiolo2 | Linux (Ubuntu 24.04.3 LTS) / x86_64 | OK | OK | WARNINGS | ![]() | ||||||||||||||||
lconway | macOS 12.7.6 Monterey / x86_64 | OK | OK | WARNINGS | OK | ![]() | ||||||||||||||||
kjohnson3 | macOS 13.7.7 Ventura / arm64 | OK | OK | WARNINGS | OK | ![]() | ||||||||||||||||
taishan | Linux (openEuler 24.03 LTS) / aarch64 | OK | OK | WARNINGS | ||||||||||||||||||
Package 72/245 | Hostname | OS / Arch | INSTALL | BUILD | CHECK | BUILD BIN | ||||||||||||||||
DrugVsDisease 2.51.0 (landing page) j. Saez-Rodriguez
| nebbiolo2 | Linux (Ubuntu 24.04.3 LTS) / x86_64 | OK | OK | OK | ![]() | ||||||||||||||||
lconway | macOS 12.7.6 Monterey / x86_64 | OK | OK | OK | OK | ![]() | ||||||||||||||||
kjohnson3 | macOS 13.7.7 Ventura / arm64 | OK | OK | ERROR | OK | |||||||||||||||||
taishan | Linux (openEuler 24.03 LTS) / aarch64 | OK | OK | OK | ||||||||||||||||||
Package 73/245 | Hostname | OS / Arch | INSTALL | BUILD | CHECK | BUILD BIN | ||||||||||||||||
edgeR 4.7.6 (landing page) Yunshun Chen
| nebbiolo2 | Linux (Ubuntu 24.04.3 LTS) / x86_64 | OK | OK | OK | ![]() | ||||||||||||||||
lconway | macOS 12.7.6 Monterey / x86_64 | OK | OK | OK | OK | ![]() | ||||||||||||||||
kjohnson3 | macOS 13.7.7 Ventura / arm64 | OK | OK | OK | OK | ![]() | ||||||||||||||||
taishan | Linux (openEuler 24.03 LTS) / aarch64 | OK | OK | OK | ||||||||||||||||||
Package 74/245 | Hostname | OS / Arch | INSTALL | BUILD | CHECK | BUILD BIN | ||||||||||||||||
EGAD 1.37.0 (landing page) Sara Ballouz
| nebbiolo2 | Linux (Ubuntu 24.04.3 LTS) / x86_64 | OK | OK | WARNINGS | ![]() | ||||||||||||||||
lconway | macOS 12.7.6 Monterey / x86_64 | OK | OK | WARNINGS | OK | ![]() | ||||||||||||||||
kjohnson3 | macOS 13.7.7 Ventura / arm64 | OK | OK | WARNINGS | OK | ![]() | ||||||||||||||||
taishan | Linux (openEuler 24.03 LTS) / aarch64 | OK | OK | WARNINGS | ||||||||||||||||||
Package 75/245 | Hostname | OS / Arch | INSTALL | BUILD | CHECK | BUILD BIN | ||||||||||||||||
EGSEA 1.37.0 (landing page) Monther Alhamdoosh
| nebbiolo2 | Linux (Ubuntu 24.04.3 LTS) / x86_64 | OK | OK | OK | ![]() | ||||||||||||||||
lconway | macOS 12.7.6 Monterey / x86_64 | OK | OK | OK | OK | ![]() | ||||||||||||||||
kjohnson3 | macOS 13.7.7 Ventura / arm64 | OK | OK | OK | OK | ![]() | ||||||||||||||||
taishan | Linux (openEuler 24.03 LTS) / aarch64 | OK | OK | OK | ||||||||||||||||||
Package 76/245 | Hostname | OS / Arch | INSTALL | BUILD | CHECK | BUILD BIN | ||||||||||||||||
eisaR 1.21.1 (landing page) Michael Stadler
| nebbiolo2 | Linux (Ubuntu 24.04.3 LTS) / x86_64 | OK | OK | OK | ![]() | ||||||||||||||||
lconway | macOS 12.7.6 Monterey / x86_64 | OK | OK | OK | OK | ![]() | ||||||||||||||||
kjohnson3 | macOS 13.7.7 Ventura / arm64 | OK | OK | OK | OK | ![]() | ||||||||||||||||
taishan | Linux (openEuler 24.03 LTS) / aarch64 | OK | OK | OK | ||||||||||||||||||
Package 77/245 | Hostname | OS / Arch | INSTALL | BUILD | CHECK | BUILD BIN | ||||||||||||||||
EnrichmentBrowser 2.39.2 (landing page) Ludwig Geistlinger
| nebbiolo2 | Linux (Ubuntu 24.04.3 LTS) / x86_64 | OK | OK | OK | ![]() | ||||||||||||||||
lconway | macOS 12.7.6 Monterey / x86_64 | OK | OK | OK | OK | ![]() | ||||||||||||||||
kjohnson3 | macOS 13.7.7 Ventura / arm64 | OK | OK | OK | OK | ![]() | ||||||||||||||||
taishan | Linux (openEuler 24.03 LTS) / aarch64 | OK | OK | OK | ||||||||||||||||||
Package 78/245 | Hostname | OS / Arch | INSTALL | BUILD | CHECK | BUILD BIN | ||||||||||||||||
epigraHMM 1.17.3 (landing page) Pedro Baldoni
| nebbiolo2 | Linux (Ubuntu 24.04.3 LTS) / x86_64 | OK | OK | WARNINGS | ![]() | ||||||||||||||||
lconway | macOS 12.7.6 Monterey / x86_64 | OK | OK | WARNINGS | OK | ![]() | ||||||||||||||||
kjohnson3 | macOS 13.7.7 Ventura / arm64 | OK | OK | WARNINGS | OK | ![]() | ||||||||||||||||
taishan | Linux (openEuler 24.03 LTS) / aarch64 | OK | OK | WARNINGS | ||||||||||||||||||
Package 79/245 | Hostname | OS / Arch | INSTALL | BUILD | CHECK | BUILD BIN | ||||||||||||||||
EpiMix 1.11.1 (landing page) Yuanning Zheng
| nebbiolo2 | Linux (Ubuntu 24.04.3 LTS) / x86_64 | OK | OK | OK | ![]() | ||||||||||||||||
lconway | macOS 12.7.6 Monterey / x86_64 | OK | OK | OK | OK | ![]() | ||||||||||||||||
kjohnson3 | macOS 13.7.7 Ventura / arm64 | OK | OK | OK | OK | ![]() | ||||||||||||||||
taishan | Linux (openEuler 24.03 LTS) / aarch64 | OK | OK | TIMEOUT | ||||||||||||||||||
Package 80/245 | Hostname | OS / Arch | INSTALL | BUILD | CHECK | BUILD BIN | ||||||||||||||||
erccdashboard 1.43.0 (landing page) Sarah Munro
| nebbiolo2 | Linux (Ubuntu 24.04.3 LTS) / x86_64 | OK | OK | OK | ![]() | ||||||||||||||||
lconway | macOS 12.7.6 Monterey / x86_64 | OK | OK | OK | OK | ![]() | ||||||||||||||||
kjohnson3 | macOS 13.7.7 Ventura / arm64 | OK | OK | OK | OK | ![]() | ||||||||||||||||
taishan | Linux (openEuler 24.03 LTS) / aarch64 | OK | OK | OK | ||||||||||||||||||
Package 81/245 | Hostname | OS / Arch | INSTALL | BUILD | CHECK | BUILD BIN | ||||||||||||||||
EventPointer 3.17.0 (landing page) Juan A. Ferrer-Bonsoms
| nebbiolo2 | Linux (Ubuntu 24.04.3 LTS) / x86_64 | OK | OK | OK | ![]() | ||||||||||||||||
lconway | macOS 12.7.6 Monterey / x86_64 | OK | OK | OK | OK | ![]() | ||||||||||||||||
kjohnson3 | macOS 13.7.7 Ventura / arm64 | OK | OK | OK | OK | ![]() | ||||||||||||||||
taishan | Linux (openEuler 24.03 LTS) / aarch64 | OK | OK | OK | ||||||||||||||||||
Package 82/245 | Hostname | OS / Arch | INSTALL | BUILD | CHECK | BUILD BIN | ||||||||||||||||
EWCE 1.17.0 (landing page) Alan Murphy
| nebbiolo2 | Linux (Ubuntu 24.04.3 LTS) / x86_64 | OK | OK | ERROR | |||||||||||||||||
lconway | macOS 12.7.6 Monterey / x86_64 | OK | OK | ERROR | OK | |||||||||||||||||
kjohnson3 | macOS 13.7.7 Ventura / arm64 | OK | OK | ERROR | OK | |||||||||||||||||
taishan | Linux (openEuler 24.03 LTS) / aarch64 | OK | OK | TIMEOUT | ||||||||||||||||||
Package 83/245 | Hostname | OS / Arch | INSTALL | BUILD | CHECK | BUILD BIN | ||||||||||||||||
ExiMiR 2.51.0 (landing page) Sylvain Gubian
| nebbiolo2 | Linux (Ubuntu 24.04.3 LTS) / x86_64 | OK | OK | OK | ![]() | ||||||||||||||||
lconway | macOS 12.7.6 Monterey / x86_64 | OK | OK | OK | OK | ![]() | ||||||||||||||||
kjohnson3 | macOS 13.7.7 Ventura / arm64 | OK | OK | OK | OK | ![]() | ||||||||||||||||
taishan | Linux (openEuler 24.03 LTS) / aarch64 | OK | OK | OK | ||||||||||||||||||
Package 84/245 | Hostname | OS / Arch | INSTALL | BUILD | CHECK | BUILD BIN | ||||||||||||||||
ExploreModelMatrix 1.21.2 (landing page) Charlotte Soneson
| nebbiolo2 | Linux (Ubuntu 24.04.3 LTS) / x86_64 | OK | OK | OK | ![]() | ||||||||||||||||
lconway | macOS 12.7.6 Monterey / x86_64 | OK | OK | OK | OK | ![]() | ||||||||||||||||
kjohnson3 | macOS 13.7.7 Ventura / arm64 | OK | OK | OK | OK | ![]() | ||||||||||||||||
taishan | Linux (openEuler 24.03 LTS) / aarch64 | OK | OK | OK | ||||||||||||||||||
Package 85/245 | Hostname | OS / Arch | INSTALL | BUILD | CHECK | BUILD BIN | ||||||||||||||||
ExpressionAtlas 2.1.1 (landing page) Anil Thanki
| nebbiolo2 | Linux (Ubuntu 24.04.3 LTS) / x86_64 | OK | OK | OK | ![]() | ||||||||||||||||
lconway | macOS 12.7.6 Monterey / x86_64 | OK | OK | OK | OK | ![]() | ||||||||||||||||
kjohnson3 | macOS 13.7.7 Ventura / arm64 | OK | OK | OK | OK | ![]() | ||||||||||||||||
taishan | Linux (openEuler 24.03 LTS) / aarch64 | OK | OK | OK | ||||||||||||||||||
Package 86/245 | Hostname | OS / Arch | INSTALL | BUILD | CHECK | BUILD BIN | ||||||||||||||||
flowBin 1.45.0 (landing page) Kieran O'Neill
| nebbiolo2 | Linux (Ubuntu 24.04.3 LTS) / x86_64 | OK | OK | OK | ![]() | ||||||||||||||||
lconway | macOS 12.7.6 Monterey / x86_64 | OK | OK | OK | OK | ![]() | ||||||||||||||||
kjohnson3 | macOS 13.7.7 Ventura / arm64 | OK | OK | OK | OK | ![]() | ||||||||||||||||
taishan | Linux (openEuler 24.03 LTS) / aarch64 | OK | OK | OK | ||||||||||||||||||
Package 87/245 | Hostname | OS / Arch | INSTALL | BUILD | CHECK | BUILD BIN | ||||||||||||||||
gCrisprTools 2.15.0 (landing page) Russell Bainer
| nebbiolo2 | Linux (Ubuntu 24.04.3 LTS) / x86_64 | OK | OK | OK | ![]() | ||||||||||||||||
lconway | macOS 12.7.6 Monterey / x86_64 | OK | OK | OK | OK | ![]() | ||||||||||||||||
kjohnson3 | macOS 13.7.7 Ventura / arm64 | OK | OK | OK | OK | ![]() | ||||||||||||||||
taishan | Linux (openEuler 24.03 LTS) / aarch64 | OK | OK | OK | ||||||||||||||||||
Package 88/245 | Hostname | OS / Arch | INSTALL | BUILD | CHECK | BUILD BIN | ||||||||||||||||
GDCRNATools 1.29.0 (landing page) Ruidong Li
| nebbiolo2 | Linux (Ubuntu 24.04.3 LTS) / x86_64 | OK | OK | OK | ![]() | ||||||||||||||||
lconway | macOS 12.7.6 Monterey / x86_64 | OK | OK | OK | OK | ![]() | ||||||||||||||||
kjohnson3 | macOS 13.7.7 Ventura / arm64 | OK | OK | OK | OK | ![]() | ||||||||||||||||
taishan | Linux (openEuler 24.03 LTS) / aarch64 | OK | OK | OK | ||||||||||||||||||
Package 89/245 | Hostname | OS / Arch | INSTALL | BUILD | CHECK | BUILD BIN | ||||||||||||||||
genefu 2.41.0 (landing page) Benjamin Haibe-Kains
| nebbiolo2 | Linux (Ubuntu 24.04.3 LTS) / x86_64 | OK | OK | WARNINGS | ![]() | ||||||||||||||||
lconway | macOS 12.7.6 Monterey / x86_64 | OK | OK | WARNINGS | OK | ![]() | ||||||||||||||||
kjohnson3 | macOS 13.7.7 Ventura / arm64 | OK | OK | WARNINGS | OK | ![]() | ||||||||||||||||
taishan | Linux (openEuler 24.03 LTS) / aarch64 | OK | OK | WARNINGS | ||||||||||||||||||
Package 90/245 | Hostname | OS / Arch | INSTALL | BUILD | CHECK | BUILD BIN | ||||||||||||||||
GeneSelectMMD 2.53.0 (landing page) Weiliang Qiu
| nebbiolo2 | Linux (Ubuntu 24.04.3 LTS) / x86_64 | OK | OK | WARNINGS | ![]() | ||||||||||||||||
lconway | macOS 12.7.6 Monterey / x86_64 | OK | OK | WARNINGS | OK | ![]() | ||||||||||||||||
kjohnson3 | macOS 13.7.7 Ventura / arm64 | OK | OK | WARNINGS | OK | ![]() | ||||||||||||||||
taishan | Linux (openEuler 24.03 LTS) / aarch64 | OK | OK | WARNINGS | ||||||||||||||||||
Package 91/245 | Hostname | OS / Arch | INSTALL | BUILD | CHECK | BUILD BIN | ||||||||||||||||
GEOexplorer 1.15.0 (landing page) Guy Hunt
| nebbiolo2 | Linux (Ubuntu 24.04.3 LTS) / x86_64 | OK | OK | ERROR | |||||||||||||||||
lconway | macOS 12.7.6 Monterey / x86_64 | OK | OK | ERROR | OK | |||||||||||||||||
kjohnson3 | macOS 13.7.7 Ventura / arm64 | OK | OK | ERROR | OK | |||||||||||||||||
taishan | Linux (openEuler 24.03 LTS) / aarch64 | OK | OK | ERROR | ||||||||||||||||||
Package 92/245 | Hostname | OS / Arch | INSTALL | BUILD | CHECK | BUILD BIN | ||||||||||||||||
GEOquery 2.77.6 (landing page) Sean Davis
| nebbiolo2 | Linux (Ubuntu 24.04.3 LTS) / x86_64 | OK | OK | WARNINGS | ![]() | ||||||||||||||||
lconway | macOS 12.7.6 Monterey / x86_64 | OK | OK | WARNINGS | OK | ![]() | ||||||||||||||||
kjohnson3 | macOS 13.7.7 Ventura / arm64 | OK | OK | WARNINGS | OK | ![]() | ||||||||||||||||
taishan | Linux (openEuler 24.03 LTS) / aarch64 | OK | OK | ERROR | ||||||||||||||||||
Package 93/245 | Hostname | OS / Arch | INSTALL | BUILD | CHECK | BUILD BIN | ||||||||||||||||
gg4way 1.7.1 (landing page) Benjamin I Laufer
| nebbiolo2 | Linux (Ubuntu 24.04.3 LTS) / x86_64 | OK | OK | OK | ![]() | ||||||||||||||||
lconway | macOS 12.7.6 Monterey / x86_64 | OK | OK | OK | OK | ![]() | ||||||||||||||||
kjohnson3 | macOS 13.7.7 Ventura / arm64 | OK | OK | OK | OK | ![]() | ||||||||||||||||
taishan | Linux (openEuler 24.03 LTS) / aarch64 | OK | OK | OK | ||||||||||||||||||
Package 94/245 | Hostname | OS / Arch | INSTALL | BUILD | CHECK | BUILD BIN | ||||||||||||||||
gINTomics 1.5.2 (landing page) Angelo Velle
| nebbiolo2 | Linux (Ubuntu 24.04.3 LTS) / x86_64 | OK | OK | OK | ![]() | ||||||||||||||||
lconway | macOS 12.7.6 Monterey / x86_64 | OK | OK | OK | OK | ![]() | ||||||||||||||||
kjohnson3 | macOS 13.7.7 Ventura / arm64 | OK | OK | OK | OK | ![]() | ||||||||||||||||
taishan | Linux (openEuler 24.03 LTS) / aarch64 | OK | OK | OK | ||||||||||||||||||
Package 95/245 | Hostname | OS / Arch | INSTALL | BUILD | CHECK | BUILD BIN | ||||||||||||||||
Glimma 2.19.2 (landing page) Shian Su
| nebbiolo2 | Linux (Ubuntu 24.04.3 LTS) / x86_64 | OK | OK | OK | ![]() | ||||||||||||||||
lconway | macOS 12.7.6 Monterey / x86_64 | OK | OK | OK | OK | ![]() | ||||||||||||||||
kjohnson3 | macOS 13.7.7 Ventura / arm64 | OK | OK | OK | OK | ![]() | ||||||||||||||||
taishan | Linux (openEuler 24.03 LTS) / aarch64 | OK | OK | OK | ||||||||||||||||||
Package 96/245 | Hostname | OS / Arch | INSTALL | BUILD | CHECK | BUILD BIN | ||||||||||||||||
GRaNIE 1.13.0 (landing page) Christian Arnold
| nebbiolo2 | Linux (Ubuntu 24.04.3 LTS) / x86_64 | OK | OK | OK | ![]() | ||||||||||||||||
lconway | macOS 12.7.6 Monterey / x86_64 | OK | OK | OK | OK | ![]() | ||||||||||||||||
kjohnson3 | macOS 13.7.7 Ventura / arm64 | OK | OK | OK | OK | ![]() | ||||||||||||||||
taishan | Linux (openEuler 24.03 LTS) / aarch64 | OK | OK | ERROR | ||||||||||||||||||
Package 97/245 | Hostname | OS / Arch | INSTALL | BUILD | CHECK | BUILD BIN | ||||||||||||||||
GUIDEseq 1.39.0 (landing page) Lihua Julie Zhu
| nebbiolo2 | Linux (Ubuntu 24.04.3 LTS) / x86_64 | OK | OK | OK | ![]() | ||||||||||||||||
lconway | macOS 12.7.6 Monterey / x86_64 | OK | OK | OK | OK | ![]() | ||||||||||||||||
kjohnson3 | macOS 13.7.7 Ventura / arm64 | OK | OK | OK | OK | ![]() | ||||||||||||||||
taishan | Linux (openEuler 24.03 LTS) / aarch64 | OK | OK | OK | ||||||||||||||||||
Package 98/245 | Hostname | OS / Arch | INSTALL | BUILD | CHECK | BUILD BIN | ||||||||||||||||
GWAS.BAYES 1.19.0 (landing page) Jacob Williams
| nebbiolo2 | Linux (Ubuntu 24.04.3 LTS) / x86_64 | OK | OK | OK | ![]() | ||||||||||||||||
lconway | macOS 12.7.6 Monterey / x86_64 | OK | OK | OK | OK | ![]() | ||||||||||||||||
kjohnson3 | macOS 13.7.7 Ventura / arm64 | OK | OK | OK | OK | ![]() | ||||||||||||||||
taishan | Linux (openEuler 24.03 LTS) / aarch64 | OK | OK | OK | ||||||||||||||||||
Package 99/245 | Hostname | OS / Arch | INSTALL | BUILD | CHECK | BUILD BIN | ||||||||||||||||
HarmonizR 1.7.0 (landing page) Simon Schlumbohm
| nebbiolo2 | Linux (Ubuntu 24.04.3 LTS) / x86_64 | OK | OK | OK | ![]() | ||||||||||||||||
lconway | macOS 12.7.6 Monterey / x86_64 | OK | OK | OK | OK | ![]() | ||||||||||||||||
kjohnson3 | macOS 13.7.7 Ventura / arm64 | OK | OK | OK | OK | ![]() | ||||||||||||||||
taishan | Linux (openEuler 24.03 LTS) / aarch64 | OK | OK | OK | ||||||||||||||||||
Package 100/245 | Hostname | OS / Arch | INSTALL | BUILD | CHECK | BUILD BIN | ||||||||||||||||
hermes 1.13.1 (landing page) Daniel Sabanés Bové
| nebbiolo2 | Linux (Ubuntu 24.04.3 LTS) / x86_64 | OK | OK | OK | ![]() | ||||||||||||||||
lconway | macOS 12.7.6 Monterey / x86_64 | OK | OK | OK | OK | ![]() | ||||||||||||||||
kjohnson3 | macOS 13.7.7 Ventura / arm64 | OK | OK | OK | OK | ![]() | ||||||||||||||||
taishan | Linux (openEuler 24.03 LTS) / aarch64 | OK | OK | OK | ||||||||||||||||||
Package 101/245 | Hostname | OS / Arch | INSTALL | BUILD | CHECK | BUILD BIN | ||||||||||||||||
HERON 1.7.0 (landing page) Sean McIlwain
| nebbiolo2 | Linux (Ubuntu 24.04.3 LTS) / x86_64 | OK | OK | OK | ![]() | ||||||||||||||||
lconway | macOS 12.7.6 Monterey / x86_64 | OK | OK | OK | OK | ![]() | ||||||||||||||||
kjohnson3 | macOS 13.7.7 Ventura / arm64 | OK | OK | OK | OK | ![]() | ||||||||||||||||
taishan | Linux (openEuler 24.03 LTS) / aarch64 | OK | OK | OK | ||||||||||||||||||
Package 102/245 | Hostname | OS / Arch | INSTALL | BUILD | CHECK | BUILD BIN | ||||||||||||||||
hipathia 3.9.0 (landing page) Marta R. Hidalgo
| nebbiolo2 | Linux (Ubuntu 24.04.3 LTS) / x86_64 | OK | ERROR | skipped | |||||||||||||||||
lconway | macOS 12.7.6 Monterey / x86_64 | OK | ERROR | skipped | skipped | |||||||||||||||||
kjohnson3 | macOS 13.7.7 Ventura / arm64 | OK | ERROR | skipped | skipped | |||||||||||||||||
taishan | Linux (openEuler 24.03 LTS) / aarch64 | OK | ERROR | skipped | ||||||||||||||||||
Package 103/245 | Hostname | OS / Arch | INSTALL | BUILD | CHECK | BUILD BIN | ||||||||||||||||
HTqPCR 1.63.0 (landing page) Matthew N. McCall
| nebbiolo2 | Linux (Ubuntu 24.04.3 LTS) / x86_64 | OK | OK | OK | ![]() | ||||||||||||||||
lconway | macOS 12.7.6 Monterey / x86_64 | OK | OK | OK | OK | ![]() | ||||||||||||||||
kjohnson3 | macOS 13.7.7 Ventura / arm64 | OK | OK | OK | OK | ![]() | ||||||||||||||||
taishan | Linux (openEuler 24.03 LTS) / aarch64 | OK | OK | OK | ||||||||||||||||||
Package 104/245 | Hostname | OS / Arch | INSTALL | BUILD | CHECK | BUILD BIN | ||||||||||||||||
icetea 1.27.1 (landing page) Vivek Bhardwaj
| nebbiolo2 | Linux (Ubuntu 24.04.3 LTS) / x86_64 | OK | OK | WARNINGS | ![]() | ||||||||||||||||
lconway | macOS 12.7.6 Monterey / x86_64 | OK | OK | WARNINGS | OK | ![]() | ||||||||||||||||
kjohnson3 | macOS 13.7.7 Ventura / arm64 | OK | OK | WARNINGS | OK | ![]() | ||||||||||||||||
taishan | Linux (openEuler 24.03 LTS) / aarch64 | OK | OK | WARNINGS | ||||||||||||||||||
Package 105/245 | Hostname | OS / Arch | INSTALL | BUILD | CHECK | BUILD BIN | ||||||||||||||||
iCheck 1.39.0 (landing page) Weiliang Qiu
| nebbiolo2 | Linux (Ubuntu 24.04.3 LTS) / x86_64 | OK | OK | OK | ![]() | ||||||||||||||||
lconway | macOS 12.7.6 Monterey / x86_64 | OK | OK | OK | OK | ![]() | ||||||||||||||||
kjohnson3 | macOS 13.7.7 Ventura / arm64 | OK | OK | OK | OK | ![]() | ||||||||||||||||
taishan | Linux (openEuler 24.03 LTS) / aarch64 | OK | OK | OK | ||||||||||||||||||
Package 106/245 | Hostname | OS / Arch | INSTALL | BUILD | CHECK | BUILD BIN | ||||||||||||||||
iChip 1.63.0 (landing page) Qianxing Mo
| nebbiolo2 | Linux (Ubuntu 24.04.3 LTS) / x86_64 | OK | OK | WARNINGS | ![]() | ||||||||||||||||
lconway | macOS 12.7.6 Monterey / x86_64 | OK | OK | WARNINGS | OK | ![]() | ||||||||||||||||
kjohnson3 | macOS 13.7.7 Ventura / arm64 | OK | OK | WARNINGS | OK | ![]() | ||||||||||||||||
taishan | Linux (openEuler 24.03 LTS) / aarch64 | OK | OK | WARNINGS | ||||||||||||||||||
Package 107/245 | Hostname | OS / Arch | INSTALL | BUILD | CHECK | BUILD BIN | ||||||||||||||||
iCOBRA 1.37.1 (landing page) Charlotte Soneson
| nebbiolo2 | Linux (Ubuntu 24.04.3 LTS) / x86_64 | OK | OK | OK | ![]() | ||||||||||||||||
lconway | macOS 12.7.6 Monterey / x86_64 | OK | OK | OK | OK | ![]() | ||||||||||||||||
kjohnson3 | macOS 13.7.7 Ventura / arm64 | OK | OK | OK | OK | ![]() | ||||||||||||||||
taishan | Linux (openEuler 24.03 LTS) / aarch64 | OK | OK | OK | ||||||||||||||||||
Package 108/245 | Hostname | OS / Arch | INSTALL | BUILD | CHECK | BUILD BIN | ||||||||||||||||
ideal 2.3.0 (landing page) Federico Marini
| nebbiolo2 | Linux (Ubuntu 24.04.3 LTS) / x86_64 | OK | OK | OK | ![]() | ||||||||||||||||
lconway | macOS 12.7.6 Monterey / x86_64 | OK | OK | OK | OK | ![]() | ||||||||||||||||
kjohnson3 | macOS 13.7.7 Ventura / arm64 | OK | OK | OK | OK | ![]() | ||||||||||||||||
taishan | Linux (openEuler 24.03 LTS) / aarch64 | OK | OK | OK | ||||||||||||||||||
Package 109/245 | Hostname | OS / Arch | INSTALL | BUILD | CHECK | BUILD BIN | ||||||||||||||||
InPAS 2.17.1 (landing page) Jianhong Ou
| nebbiolo2 | Linux (Ubuntu 24.04.3 LTS) / x86_64 | OK | OK | WARNINGS | ![]() | ||||||||||||||||
lconway | macOS 12.7.6 Monterey / x86_64 | OK | OK | WARNINGS | OK | ![]() | ||||||||||||||||
kjohnson3 | macOS 13.7.7 Ventura / arm64 | OK | OK | WARNINGS | OK | ![]() | ||||||||||||||||
taishan | Linux (openEuler 24.03 LTS) / aarch64 | OK | ERROR | skipped | ||||||||||||||||||
Package 110/245 | Hostname | OS / Arch | INSTALL | BUILD | CHECK | BUILD BIN | ||||||||||||||||
IsoformSwitchAnalyzeR 2.9.1 (landing page) Kristoffer Vitting-Seerup
| nebbiolo2 | Linux (Ubuntu 24.04.3 LTS) / x86_64 | OK | OK | OK | ![]() | ||||||||||||||||
lconway | macOS 12.7.6 Monterey / x86_64 | OK | OK | OK | OK | ![]() | ||||||||||||||||
kjohnson3 | macOS 13.7.7 Ventura / arm64 | OK | OK | OK | OK | ![]() | ||||||||||||||||
taishan | Linux (openEuler 24.03 LTS) / aarch64 | OK | OK | OK | ||||||||||||||||||
Package 111/245 | Hostname | OS / Arch | INSTALL | BUILD | CHECK | BUILD BIN | ||||||||||||||||
isomiRs 1.37.1 (landing page) Lorena Pantano
| nebbiolo2 | Linux (Ubuntu 24.04.3 LTS) / x86_64 | OK | OK | ERROR | |||||||||||||||||
lconway | macOS 12.7.6 Monterey / x86_64 | OK | OK | ERROR | OK | |||||||||||||||||
kjohnson3 | macOS 13.7.7 Ventura / arm64 | OK | OK | ERROR | OK | |||||||||||||||||
taishan | Linux (openEuler 24.03 LTS) / aarch64 | OK | OK | ERROR | ||||||||||||||||||
Package 112/245 | Hostname | OS / Arch | INSTALL | BUILD | CHECK | BUILD BIN | ||||||||||||||||
KnowSeq 1.23.0 (landing page) Daniel Castillo-Secilla
| nebbiolo2 | Linux (Ubuntu 24.04.3 LTS) / x86_64 | OK | OK | OK | ![]() | ||||||||||||||||
lconway | macOS 12.7.6 Monterey / x86_64 | OK | OK | OK | OK | ![]() | ||||||||||||||||
kjohnson3 | macOS 13.7.7 Ventura / arm64 | OK | OK | OK | OK | ![]() | ||||||||||||||||
taishan | Linux (openEuler 24.03 LTS) / aarch64 | OK | OK | OK | ||||||||||||||||||
Package 113/245 | Hostname | OS / Arch | INSTALL | BUILD | CHECK | BUILD BIN | ||||||||||||||||
lemur 1.7.1 (landing page) Constantin Ahlmann-Eltze
| nebbiolo2 | Linux (Ubuntu 24.04.3 LTS) / x86_64 | OK | OK | WARNINGS | ![]() | ||||||||||||||||
lconway | macOS 12.7.6 Monterey / x86_64 | OK | OK | WARNINGS | OK | ![]() | ||||||||||||||||
kjohnson3 | macOS 13.7.7 Ventura / arm64 | OK | OK | WARNINGS | OK | ![]() | ||||||||||||||||
taishan | Linux (openEuler 24.03 LTS) / aarch64 | OK | OK | WARNINGS | ||||||||||||||||||
Package 114/245 | Hostname | OS / Arch | INSTALL | BUILD | CHECK | BUILD BIN | ||||||||||||||||
limmaGUI 1.85.0 (landing page) Gordon Smyth
| nebbiolo2 | Linux (Ubuntu 24.04.3 LTS) / x86_64 | OK | OK | OK | ![]() | ||||||||||||||||
lconway | macOS 12.7.6 Monterey / x86_64 | OK | OK | OK | OK | ![]() | ||||||||||||||||
kjohnson3 | macOS 13.7.7 Ventura / arm64 | OK | OK | OK | OK | ![]() | ||||||||||||||||
taishan | Linux (openEuler 24.03 LTS) / aarch64 | OK | OK | OK | ||||||||||||||||||
Package 115/245 | Hostname | OS / Arch | INSTALL | BUILD | CHECK | BUILD BIN | ||||||||||||||||
limpa 1.1.7 (landing page) Gordon Smyth
| nebbiolo2 | Linux (Ubuntu 24.04.3 LTS) / x86_64 | OK | OK | OK | ![]() | ||||||||||||||||
lconway | macOS 12.7.6 Monterey / x86_64 | OK | OK | OK | OK | ![]() | ||||||||||||||||
kjohnson3 | macOS 13.7.7 Ventura / arm64 | OK | OK | OK | OK | ![]() | ||||||||||||||||
taishan | Linux (openEuler 24.03 LTS) / aarch64 | OK | OK | OK | ||||||||||||||||||
Package 116/245 | Hostname | OS / Arch | INSTALL | BUILD | CHECK | BUILD BIN | ||||||||||||||||
LimROTS 1.1.4 (landing page) Ali Mostafa Anwar
| nebbiolo2 | Linux (Ubuntu 24.04.3 LTS) / x86_64 | OK | OK | OK | ![]() | ||||||||||||||||
lconway | macOS 12.7.6 Monterey / x86_64 | OK | OK | OK | OK | ![]() | ||||||||||||||||
kjohnson3 | macOS 13.7.7 Ventura / arm64 | OK | OK | OK | OK | ![]() | ||||||||||||||||
taishan | Linux (openEuler 24.03 LTS) / aarch64 | OK | OK | OK | ||||||||||||||||||
Package 117/245 | Hostname | OS / Arch | INSTALL | BUILD | CHECK | BUILD BIN | ||||||||||||||||
Linnorm 2.33.0 (landing page) Shun Hang Yip
| nebbiolo2 | Linux (Ubuntu 24.04.3 LTS) / x86_64 | OK | OK | OK | ![]() | ||||||||||||||||
lconway | macOS 12.7.6 Monterey / x86_64 | OK | OK | OK | OK | ![]() | ||||||||||||||||
kjohnson3 | macOS 13.7.7 Ventura / arm64 | OK | OK | OK | OK | ![]() | ||||||||||||||||
taishan | Linux (openEuler 24.03 LTS) / aarch64 | OK | OK | OK | ||||||||||||||||||
Package 118/245 | Hostname | OS / Arch | INSTALL | BUILD | CHECK | BUILD BIN | ||||||||||||||||
lipidr 2.23.0 (landing page) Ahmed Mohamed
| nebbiolo2 | Linux (Ubuntu 24.04.3 LTS) / x86_64 | OK | OK | OK | ![]() | ||||||||||||||||
lconway | macOS 12.7.6 Monterey / x86_64 | OK | OK | OK | OK | ![]() | ||||||||||||||||
kjohnson3 | macOS 13.7.7 Ventura / arm64 | OK | OK | OK | OK | ![]() | ||||||||||||||||
taishan | Linux (openEuler 24.03 LTS) / aarch64 | OK | OK | OK | ||||||||||||||||||
Package 119/245 | Hostname | OS / Arch | INSTALL | BUILD | CHECK | BUILD BIN | ||||||||||||||||
lmdme 1.51.0 (landing page) Cristobal Fresno
| nebbiolo2 | Linux (Ubuntu 24.04.3 LTS) / x86_64 | OK | OK | WARNINGS | ![]() | ||||||||||||||||
lconway | macOS 12.7.6 Monterey / x86_64 | OK | OK | WARNINGS | OK | ![]() | ||||||||||||||||
kjohnson3 | macOS 13.7.7 Ventura / arm64 | OK | OK | WARNINGS | OK | ![]() | ||||||||||||||||
taishan | Linux (openEuler 24.03 LTS) / aarch64 | OK | OK | WARNINGS | ||||||||||||||||||
Package 120/245 | Hostname | OS / Arch | INSTALL | BUILD | CHECK | BUILD BIN | ||||||||||||||||
maPredictDSC 1.47.0 (landing page) Adi Laurentiu Tarca
| nebbiolo2 | Linux (Ubuntu 24.04.3 LTS) / x86_64 | OK | OK | OK | ![]() | ||||||||||||||||
lconway | macOS 12.7.6 Monterey / x86_64 | OK | OK | OK | OK | ![]() | ||||||||||||||||
kjohnson3 | macOS 13.7.7 Ventura / arm64 | OK | OK | OK | OK | ![]() | ||||||||||||||||
taishan | Linux (openEuler 24.03 LTS) / aarch64 | OK | TIMEOUT | skipped | ||||||||||||||||||
Package 121/245 | Hostname | OS / Arch | INSTALL | BUILD | CHECK | BUILD BIN | ||||||||||||||||
markeR 0.99.6 (landing page) Rita Martins-Silva
| nebbiolo2 | Linux (Ubuntu 24.04.3 LTS) / x86_64 | OK | OK | OK | ![]() | ||||||||||||||||
lconway | macOS 12.7.6 Monterey / x86_64 | OK | OK | OK | OK | ![]() | ||||||||||||||||
kjohnson3 | macOS 13.7.7 Ventura / arm64 | OK | OK | OK | OK | ![]() | ||||||||||||||||
taishan | Linux (openEuler 24.03 LTS) / aarch64 | OK | OK | OK | ||||||||||||||||||
Package 122/245 | Hostname | OS / Arch | INSTALL | BUILD | CHECK | BUILD BIN | ||||||||||||||||
marray 1.87.0 (landing page) Yee Hwa (Jean) Yang
| nebbiolo2 | Linux (Ubuntu 24.04.3 LTS) / x86_64 | OK | OK | OK | ![]() | ||||||||||||||||
lconway | macOS 12.7.6 Monterey / x86_64 | OK | OK | OK | OK | ![]() | ||||||||||||||||
kjohnson3 | macOS 13.7.7 Ventura / arm64 | OK | OK | OK | OK | ![]() | ||||||||||||||||
taishan | Linux (openEuler 24.03 LTS) / aarch64 | OK | OK | OK | ||||||||||||||||||
Package 123/245 | Hostname | OS / Arch | INSTALL | BUILD | CHECK | BUILD BIN | ||||||||||||||||
mastR 1.9.1 (landing page) Jinjin Chen
| nebbiolo2 | Linux (Ubuntu 24.04.3 LTS) / x86_64 | OK | OK | OK | ![]() | ||||||||||||||||
lconway | macOS 12.7.6 Monterey / x86_64 | OK | OK | OK | OK | ![]() | ||||||||||||||||
kjohnson3 | macOS 13.7.7 Ventura / arm64 | OK | OK | OK | OK | ![]() | ||||||||||||||||
taishan | Linux (openEuler 24.03 LTS) / aarch64 | OK | TIMEOUT | skipped | ||||||||||||||||||
Package 124/245 | Hostname | OS / Arch | INSTALL | BUILD | CHECK | BUILD BIN | ||||||||||||||||
MatrixQCvis 1.17.1 (landing page) Thomas Naake
| nebbiolo2 | Linux (Ubuntu 24.04.3 LTS) / x86_64 | OK | OK | OK | ![]() | ||||||||||||||||
lconway | macOS 12.7.6 Monterey / x86_64 | OK | OK | OK | OK | ![]() | ||||||||||||||||
kjohnson3 | macOS 13.7.7 Ventura / arm64 | OK | OK | OK | OK | ![]() | ||||||||||||||||
taishan | Linux (openEuler 24.03 LTS) / aarch64 | OK | OK | OK | ||||||||||||||||||
Package 125/245 | Hostname | OS / Arch | INSTALL | BUILD | CHECK | BUILD BIN | ||||||||||||||||
MBECS 1.13.0 (landing page) Michael Olbrich
| nebbiolo2 | Linux (Ubuntu 24.04.3 LTS) / x86_64 | OK | OK | OK | ![]() | ||||||||||||||||
lconway | macOS 12.7.6 Monterey / x86_64 | OK | OK | OK | OK | ![]() | ||||||||||||||||
kjohnson3 | macOS 13.7.7 Ventura / arm64 | OK | OK | OK | OK | ![]() | ||||||||||||||||
taishan | Linux (openEuler 24.03 LTS) / aarch64 | OK | OK | OK | ||||||||||||||||||
Package 126/245 | Hostname | OS / Arch | INSTALL | BUILD | CHECK | BUILD BIN | ||||||||||||||||
MBQN 2.21.0 (landing page) Eva Brombacher
| nebbiolo2 | Linux (Ubuntu 24.04.3 LTS) / x86_64 | OK | OK | OK | ![]() | ||||||||||||||||
lconway | macOS 12.7.6 Monterey / x86_64 | OK | OK | OK | OK | ![]() | ||||||||||||||||
kjohnson3 | macOS 13.7.7 Ventura / arm64 | OK | OK | OK | OK | ![]() | ||||||||||||||||
taishan | Linux (openEuler 24.03 LTS) / aarch64 | OK | OK | OK | ||||||||||||||||||
Package 127/245 | Hostname | OS / Arch | INSTALL | BUILD | CHECK | BUILD BIN | ||||||||||||||||
mCSEA 1.29.0 (landing page) Jordi Martorell-Marugán
| nebbiolo2 | Linux (Ubuntu 24.04.3 LTS) / x86_64 | OK | ERROR | skipped | |||||||||||||||||
lconway | macOS 12.7.6 Monterey / x86_64 | OK | ERROR | skipped | skipped | |||||||||||||||||
kjohnson3 | macOS 13.7.7 Ventura / arm64 | OK | ERROR | skipped | skipped | |||||||||||||||||
taishan | Linux (openEuler 24.03 LTS) / aarch64 | OK | ERROR | skipped | ||||||||||||||||||
Package 128/245 | Hostname | OS / Arch | INSTALL | BUILD | CHECK | BUILD BIN | ||||||||||||||||
MEAL 1.39.0 (landing page) Xavier Escribà Montagut
| nebbiolo2 | Linux (Ubuntu 24.04.3 LTS) / x86_64 | OK | OK | WARNINGS | ![]() | ||||||||||||||||
lconway | macOS 12.7.6 Monterey / x86_64 | OK | OK | WARNINGS | OK | ![]() | ||||||||||||||||
kjohnson3 | macOS 13.7.7 Ventura / arm64 | OK | OK | WARNINGS | OK | ![]() | ||||||||||||||||
taishan | Linux (openEuler 24.03 LTS) / aarch64 | OK | OK | WARNINGS | ||||||||||||||||||
Package 129/245 | Hostname | OS / Arch | INSTALL | BUILD | CHECK | BUILD BIN | ||||||||||||||||
metagenomeSeq 1.51.0 (landing page) Joseph N. Paulson
| nebbiolo2 | Linux (Ubuntu 24.04.3 LTS) / x86_64 | OK | OK | OK | ![]() | ||||||||||||||||
lconway | macOS 12.7.6 Monterey / x86_64 | OK | OK | OK | OK | ![]() | ||||||||||||||||
kjohnson3 | macOS 13.7.7 Ventura / arm64 | OK | OK | OK | OK | ![]() | ||||||||||||||||
taishan | Linux (openEuler 24.03 LTS) / aarch64 | OK | OK | OK | ||||||||||||||||||
Package 130/245 | Hostname | OS / Arch | INSTALL | BUILD | CHECK | BUILD BIN | ||||||||||||||||
metaseqR2 1.21.2 (landing page) Panagiotis Moulos
| nebbiolo2 | Linux (Ubuntu 24.04.3 LTS) / x86_64 | OK | OK | OK | ![]() | ||||||||||||||||
lconway | macOS 12.7.6 Monterey / x86_64 | OK | OK | OK | OK | ![]() | ||||||||||||||||
kjohnson3 | macOS 13.7.7 Ventura / arm64 | OK | ERROR | skipped | skipped | |||||||||||||||||
taishan | Linux (openEuler 24.03 LTS) / aarch64 | OK | OK | OK | ||||||||||||||||||
Package 131/245 | Hostname | OS / Arch | INSTALL | BUILD | CHECK | BUILD BIN | ||||||||||||||||
methylKit 1.35.1 (landing page) Altuna Akalin
| nebbiolo2 | Linux (Ubuntu 24.04.3 LTS) / x86_64 | OK | OK | OK | ![]() | ||||||||||||||||
lconway | macOS 12.7.6 Monterey / x86_64 | OK | OK | OK | OK | ![]() | ||||||||||||||||
kjohnson3 | macOS 13.7.7 Ventura / arm64 | OK | OK | OK | OK | ![]() | ||||||||||||||||
taishan | Linux (openEuler 24.03 LTS) / aarch64 | OK | OK | OK | ||||||||||||||||||
Package 132/245 | Hostname | OS / Arch | INSTALL | BUILD | CHECK | BUILD BIN | ||||||||||||||||
MethylMix 2.39.0 (landing page) Olivier Gevaert
| nebbiolo2 | Linux (Ubuntu 24.04.3 LTS) / x86_64 | OK | OK | OK | ![]() | ||||||||||||||||
lconway | macOS 12.7.6 Monterey / x86_64 | OK | OK | OK | OK | ![]() | ||||||||||||||||
kjohnson3 | macOS 13.7.7 Ventura / arm64 | OK | OK | OK | OK | ![]() | ||||||||||||||||
taishan | Linux (openEuler 24.03 LTS) / aarch64 | OK | OK | OK | ||||||||||||||||||
Package 133/245 | Hostname | OS / Arch | INSTALL | BUILD | CHECK | BUILD BIN | ||||||||||||||||
microbiomeExplorer 1.19.0 (landing page) Janina Reeder
| nebbiolo2 | Linux (Ubuntu 24.04.3 LTS) / x86_64 | OK | OK | OK | ![]() | ||||||||||||||||
lconway | macOS 12.7.6 Monterey / x86_64 | OK | OK | OK | OK | ![]() | ||||||||||||||||
kjohnson3 | macOS 13.7.7 Ventura / arm64 | OK | OK | OK | OK | ![]() | ||||||||||||||||
taishan | Linux (openEuler 24.03 LTS) / aarch64 | OK | OK | OK | ||||||||||||||||||
Package 134/245 | Hostname | OS / Arch | INSTALL | BUILD | CHECK | BUILD BIN | ||||||||||||||||
miloR 2.5.2 (landing page) Mike Morgan
| nebbiolo2 | Linux (Ubuntu 24.04.3 LTS) / x86_64 | OK | OK | OK | ![]() | ||||||||||||||||
lconway | macOS 12.7.6 Monterey / x86_64 | OK | OK | OK | OK | ![]() | ||||||||||||||||
kjohnson3 | macOS 13.7.7 Ventura / arm64 | OK | OK | OK | OK | ![]() | ||||||||||||||||
taishan | Linux (openEuler 24.03 LTS) / aarch64 | OK | OK | WARNINGS | ||||||||||||||||||
Package 135/245 | Hostname | OS / Arch | INSTALL | BUILD | CHECK | BUILD BIN | ||||||||||||||||
minfi 1.55.1 (landing page) Kasper Daniel Hansen
| nebbiolo2 | Linux (Ubuntu 24.04.3 LTS) / x86_64 | OK | OK | OK | ![]() | ||||||||||||||||
lconway | macOS 12.7.6 Monterey / x86_64 | OK | OK | OK | OK | ![]() | ||||||||||||||||
kjohnson3 | macOS 13.7.7 Ventura / arm64 | OK | OK | OK | OK | ![]() | ||||||||||||||||
taishan | Linux (openEuler 24.03 LTS) / aarch64 | OK | OK | OK | ||||||||||||||||||
Package 136/245 | Hostname | OS / Arch | INSTALL | BUILD | CHECK | BUILD BIN | ||||||||||||||||
MIRit 1.5.2 (landing page) Jacopo Ronchi
| nebbiolo2 | Linux (Ubuntu 24.04.3 LTS) / x86_64 | OK | OK | OK | ![]() | ||||||||||||||||
lconway | macOS 12.7.6 Monterey / x86_64 | OK | OK | OK | OK | ![]() | ||||||||||||||||
kjohnson3 | macOS 13.7.7 Ventura / arm64 | OK | OK | OK | OK | ![]() | ||||||||||||||||
taishan | Linux (openEuler 24.03 LTS) / aarch64 | OK | OK | OK | ||||||||||||||||||
Package 137/245 | Hostname | OS / Arch | INSTALL | BUILD | CHECK | BUILD BIN | ||||||||||||||||
miRLAB 1.39.0 (landing page) Thuc Duy Le
| nebbiolo2 | Linux (Ubuntu 24.04.3 LTS) / x86_64 | OK | OK | WARNINGS | ![]() | ||||||||||||||||
lconway | macOS 12.7.6 Monterey / x86_64 | OK | OK | WARNINGS | OK | ![]() | ||||||||||||||||
kjohnson3 | macOS 13.7.7 Ventura / arm64 | OK | OK | WARNINGS | OK | ![]() | ||||||||||||||||
taishan | Linux (openEuler 24.03 LTS) / aarch64 | OK | OK | WARNINGS | ||||||||||||||||||
Package 138/245 | Hostname | OS / Arch | INSTALL | BUILD | CHECK | BUILD BIN | ||||||||||||||||
missMethyl 1.43.1 (landing page) Belinda Phipson
| nebbiolo2 | Linux (Ubuntu 24.04.3 LTS) / x86_64 | OK | OK | WARNINGS | ![]() | ||||||||||||||||
lconway | macOS 12.7.6 Monterey / x86_64 | OK | OK | WARNINGS | OK | ![]() | ||||||||||||||||
kjohnson3 | macOS 13.7.7 Ventura / arm64 | OK | OK | WARNINGS | OK | ![]() | ||||||||||||||||
taishan | Linux (openEuler 24.03 LTS) / aarch64 | OK | OK | WARNINGS | ||||||||||||||||||
Package 139/245 | Hostname | OS / Arch | INSTALL | BUILD | CHECK | BUILD BIN | ||||||||||||||||
MLSeq 2.27.0 (landing page) Gokmen Zararsiz
| nebbiolo2 | Linux (Ubuntu 24.04.3 LTS) / x86_64 | OK | OK | OK | ![]() | ||||||||||||||||
lconway | macOS 12.7.6 Monterey / x86_64 | OK | OK | OK | OK | ![]() | ||||||||||||||||
kjohnson3 | macOS 13.7.7 Ventura / arm64 | OK | OK | OK | OK | ![]() | ||||||||||||||||
taishan | Linux (openEuler 24.03 LTS) / aarch64 | OK | OK | OK | ||||||||||||||||||
Package 140/245 | Hostname | OS / Arch | INSTALL | BUILD | CHECK | BUILD BIN | ||||||||||||||||
moanin 1.17.0 (landing page) Nelle Varoquaux
| nebbiolo2 | Linux (Ubuntu 24.04.3 LTS) / x86_64 | OK | OK | OK | ![]() | ||||||||||||||||
lconway | macOS 12.7.6 Monterey / x86_64 | OK | OK | OK | OK | ![]() | ||||||||||||||||
kjohnson3 | macOS 13.7.7 Ventura / arm64 | OK | OK | OK | OK | ![]() | ||||||||||||||||
taishan | Linux (openEuler 24.03 LTS) / aarch64 | OK | OK | OK | ||||||||||||||||||
Package 141/245 | Hostname | OS / Arch | INSTALL | BUILD | CHECK | BUILD BIN | ||||||||||||||||
monocle 2.37.0 (landing page) Cole Trapnell
| nebbiolo2 | Linux (Ubuntu 24.04.3 LTS) / x86_64 | OK | OK | OK | ![]() | ||||||||||||||||
lconway | macOS 12.7.6 Monterey / x86_64 | OK | OK | OK | OK | ![]() | ||||||||||||||||
kjohnson3 | macOS 13.7.7 Ventura / arm64 | OK | OK | OK | OK | ![]() | ||||||||||||||||
taishan | Linux (openEuler 24.03 LTS) / aarch64 | OK | OK | OK | ||||||||||||||||||
Package 142/245 | Hostname | OS / Arch | INSTALL | BUILD | CHECK | BUILD BIN | ||||||||||||||||
MoonlightR 1.35.0 (landing page) Matteo Tiberti
| nebbiolo2 | Linux (Ubuntu 24.04.3 LTS) / x86_64 | OK | OK | OK | ![]() | ||||||||||||||||
lconway | macOS 12.7.6 Monterey / x86_64 | OK | OK | OK | OK | ![]() | ||||||||||||||||
kjohnson3 | macOS 13.7.7 Ventura / arm64 | OK | OK | OK | OK | ![]() | ||||||||||||||||
taishan | Linux (openEuler 24.03 LTS) / aarch64 | OK | OK | OK | ||||||||||||||||||
Package 143/245 | Hostname | OS / Arch | INSTALL | BUILD | CHECK | BUILD BIN | ||||||||||||||||
mpra 1.31.0 (landing page) Leslie Myint
| nebbiolo2 | Linux (Ubuntu 24.04.3 LTS) / x86_64 | OK | OK | OK | ![]() | ||||||||||||||||
lconway | macOS 12.7.6 Monterey / x86_64 | OK | OK | OK | OK | ![]() | ||||||||||||||||
kjohnson3 | macOS 13.7.7 Ventura / arm64 | OK | OK | OK | OK | ![]() | ||||||||||||||||
taishan | Linux (openEuler 24.03 LTS) / aarch64 | OK | OK | OK | ||||||||||||||||||
Package 144/245 | Hostname | OS / Arch | INSTALL | BUILD | CHECK | BUILD BIN | ||||||||||||||||
msImpute 1.19.0 (landing page) Soroor Hediyeh-zadeh
| nebbiolo2 | Linux (Ubuntu 24.04.3 LTS) / x86_64 | OK | OK | OK | ![]() | ||||||||||||||||
lconway | macOS 12.7.6 Monterey / x86_64 | OK | OK | OK | OK | ![]() | ||||||||||||||||
kjohnson3 | macOS 13.7.7 Ventura / arm64 | OK | OK | OK | OK | ![]() | ||||||||||||||||
taishan | Linux (openEuler 24.03 LTS) / aarch64 | OK | OK | OK | ||||||||||||||||||
Package 145/245 | Hostname | OS / Arch | INSTALL | BUILD | CHECK | BUILD BIN | ||||||||||||||||
mspms 1.1.0 (landing page) Charlie Bayne
| nebbiolo2 | Linux (Ubuntu 24.04.3 LTS) / x86_64 | OK | OK | OK | ![]() | ||||||||||||||||
lconway | macOS 12.7.6 Monterey / x86_64 | OK | OK | OK | OK | ![]() | ||||||||||||||||
kjohnson3 | macOS 13.7.7 Ventura / arm64 | OK | OK | OK | OK | ![]() | ||||||||||||||||
taishan | Linux (openEuler 24.03 LTS) / aarch64 | OK | OK | OK | ||||||||||||||||||
Package 146/245 | Hostname | OS / Arch | INSTALL | BUILD | CHECK | BUILD BIN | ||||||||||||||||
msqrob2 1.17.1 (landing page) Lieven Clement
| nebbiolo2 | Linux (Ubuntu 24.04.3 LTS) / x86_64 | OK | OK | OK | ![]() | ||||||||||||||||
lconway | macOS 12.7.6 Monterey / x86_64 | OK | OK | OK | OK | ![]() | ||||||||||||||||
kjohnson3 | macOS 13.7.7 Ventura / arm64 | OK | OK | OK | OK | ![]() | ||||||||||||||||
taishan | Linux (openEuler 24.03 LTS) / aarch64 | OK | OK | OK | ||||||||||||||||||
Package 147/245 | Hostname | OS / Arch | INSTALL | BUILD | CHECK | BUILD BIN | ||||||||||||||||
MSstats 4.17.2 (landing page) Meena Choi
| nebbiolo2 | Linux (Ubuntu 24.04.3 LTS) / x86_64 | OK | OK | WARNINGS | ![]() | ||||||||||||||||
lconway | macOS 12.7.6 Monterey / x86_64 | OK | OK | WARNINGS | OK | ![]() | ||||||||||||||||
kjohnson3 | macOS 13.7.7 Ventura / arm64 | OK | OK | WARNINGS | OK | ![]() | ||||||||||||||||
taishan | Linux (openEuler 24.03 LTS) / aarch64 | OK | OK | WARNINGS | ||||||||||||||||||
Package 148/245 | Hostname | OS / Arch | INSTALL | BUILD | CHECK | BUILD BIN | ||||||||||||||||
MSstatsTMT 2.17.0 (landing page) Devon Kohler
| nebbiolo2 | Linux (Ubuntu 24.04.3 LTS) / x86_64 | OK | OK | OK | ![]() | ||||||||||||||||
lconway | macOS 12.7.6 Monterey / x86_64 | OK | OK | OK | OK | ![]() | ||||||||||||||||
kjohnson3 | macOS 13.7.7 Ventura / arm64 | OK | OK | OK | OK | ![]() | ||||||||||||||||
taishan | Linux (openEuler 24.03 LTS) / aarch64 | OK | OK | OK | ||||||||||||||||||
Package 149/245 | Hostname | OS / Arch | INSTALL | BUILD | CHECK | BUILD BIN | ||||||||||||||||
MultiDataSet 1.37.0 (landing page) Xavier Escribà Montagut
| nebbiolo2 | Linux (Ubuntu 24.04.3 LTS) / x86_64 | OK | OK | WARNINGS | ![]() | ||||||||||||||||
lconway | macOS 12.7.6 Monterey / x86_64 | OK | OK | WARNINGS | OK | ![]() | ||||||||||||||||
kjohnson3 | macOS 13.7.7 Ventura / arm64 | OK | OK | WARNINGS | OK | ![]() | ||||||||||||||||
taishan | Linux (openEuler 24.03 LTS) / aarch64 | OK | OK | ERROR | ||||||||||||||||||
Package 150/245 | Hostname | OS / Arch | INSTALL | BUILD | CHECK | BUILD BIN | ||||||||||||||||
muscat 1.23.2 (landing page) Helena L. Crowell
| nebbiolo2 | Linux (Ubuntu 24.04.3 LTS) / x86_64 | OK | OK | OK | ![]() | ||||||||||||||||
lconway | macOS 12.7.6 Monterey / x86_64 | OK | OK | OK | OK | ![]() | ||||||||||||||||
kjohnson3 | macOS 13.7.7 Ventura / arm64 | OK | OK | OK | OK | ![]() | ||||||||||||||||
taishan | Linux (openEuler 24.03 LTS) / aarch64 | OK | OK | OK | ||||||||||||||||||
Package 151/245 | Hostname | OS / Arch | INSTALL | BUILD | CHECK | BUILD BIN | ||||||||||||||||
mutscan 0.99.2 (landing page) Charlotte Soneson
| nebbiolo2 | Linux (Ubuntu 24.04.3 LTS) / x86_64 | OK | OK | OK | ![]() | ||||||||||||||||
lconway | macOS 12.7.6 Monterey / x86_64 | OK | OK | OK | OK | ![]() | ||||||||||||||||
kjohnson3 | macOS 13.7.7 Ventura / arm64 | OK | OK | OK | OK | ![]() | ||||||||||||||||
taishan | Linux (openEuler 24.03 LTS) / aarch64 | OK | OK | OK | ||||||||||||||||||
Package 152/245 | Hostname | OS / Arch | INSTALL | BUILD | CHECK | BUILD BIN | ||||||||||||||||
NADfinder 1.33.0 (landing page) Jianhong Ou
| nebbiolo2 | Linux (Ubuntu 24.04.3 LTS) / x86_64 | OK | OK | OK | ![]() | ||||||||||||||||
lconway | macOS 12.7.6 Monterey / x86_64 | OK | OK | OK | OK | ![]() | ||||||||||||||||
kjohnson3 | macOS 13.7.7 Ventura / arm64 | OK | OK | OK | OK | ![]() | ||||||||||||||||
taishan | Linux (openEuler 24.03 LTS) / aarch64 | OK | ERROR | skipped | ||||||||||||||||||
Package 153/245 | Hostname | OS / Arch | INSTALL | BUILD | CHECK | BUILD BIN | ||||||||||||||||
NanoMethViz 3.5.6 (landing page) Shian Su
| nebbiolo2 | Linux (Ubuntu 24.04.3 LTS) / x86_64 | OK | OK | OK | ![]() | ||||||||||||||||
lconway | macOS 12.7.6 Monterey / x86_64 | OK | OK | OK | OK | ![]() | ||||||||||||||||
kjohnson3 | macOS 13.7.7 Ventura / arm64 | OK | OK | OK | OK | ![]() | ||||||||||||||||
taishan | Linux (openEuler 24.03 LTS) / aarch64 | OK | OK | OK | ||||||||||||||||||
Package 154/245 | Hostname | OS / Arch | INSTALL | BUILD | CHECK | BUILD BIN | ||||||||||||||||
NanoTube 1.15.0 (landing page) Caleb Class
| nebbiolo2 | Linux (Ubuntu 24.04.3 LTS) / x86_64 | OK | OK | OK | ![]() | ||||||||||||||||
lconway | macOS 12.7.6 Monterey / x86_64 | OK | OK | OK | OK | ![]() | ||||||||||||||||
kjohnson3 | macOS 13.7.7 Ventura / arm64 | OK | OK | OK | OK | ![]() | ||||||||||||||||
taishan | Linux (openEuler 24.03 LTS) / aarch64 | OK | OK | OK | ||||||||||||||||||
Package 155/245 | Hostname | OS / Arch | INSTALL | BUILD | CHECK | BUILD BIN | ||||||||||||||||
nethet 1.41.0 (landing page) Nicolas Staedler
| nebbiolo2 | Linux (Ubuntu 24.04.3 LTS) / x86_64 | OK | OK | WARNINGS | ![]() | ||||||||||||||||
lconway | macOS 12.7.6 Monterey / x86_64 | OK | OK | WARNINGS | OK | ![]() | ||||||||||||||||
kjohnson3 | macOS 13.7.7 Ventura / arm64 | OK | OK | WARNINGS | OK | ![]() | ||||||||||||||||
taishan | Linux (openEuler 24.03 LTS) / aarch64 | OK | OK | WARNINGS | ||||||||||||||||||
Package 156/245 | Hostname | OS / Arch | INSTALL | BUILD | CHECK | BUILD BIN | ||||||||||||||||
Marouen Ben Guebila
| nebbiolo2 | Linux (Ubuntu 24.04.3 LTS) / x86_64 | ERROR | ERROR | skipped | |||||||||||||||||
lconway | macOS 12.7.6 Monterey / x86_64 | ERROR | ERROR | skipped | skipped | |||||||||||||||||
kjohnson3 | macOS 13.7.7 Ventura / arm64 | ERROR | ERROR | skipped | skipped | |||||||||||||||||
taishan | Linux (openEuler 24.03 LTS) / aarch64 | ERROR | ERROR | skipped | ||||||||||||||||||
Package 157/245 | Hostname | OS / Arch | INSTALL | BUILD | CHECK | BUILD BIN | ||||||||||||||||
nondetects 2.39.1 (landing page) Valeriia Sherina
| nebbiolo2 | Linux (Ubuntu 24.04.3 LTS) / x86_64 | OK | OK | OK | ![]() | ||||||||||||||||
lconway | macOS 12.7.6 Monterey / x86_64 | OK | OK | OK | OK | ![]() | ||||||||||||||||
kjohnson3 | macOS 13.7.7 Ventura / arm64 | OK | OK | OK | OK | ![]() | ||||||||||||||||
taishan | Linux (openEuler 24.03 LTS) / aarch64 | OK | OK | OK | ||||||||||||||||||
Package 158/245 | Hostname | OS / Arch | INSTALL | BUILD | CHECK | BUILD BIN | ||||||||||||||||
NormalyzerDE 1.27.0 (landing page) Jakob Willforss
| nebbiolo2 | Linux (Ubuntu 24.04.3 LTS) / x86_64 | OK | OK | WARNINGS | ![]() | ||||||||||||||||
lconway | macOS 12.7.6 Monterey / x86_64 | OK | OK | WARNINGS | OK | ![]() | ||||||||||||||||
kjohnson3 | macOS 13.7.7 Ventura / arm64 | OK | OK | WARNINGS | OK | ![]() | ||||||||||||||||
taishan | Linux (openEuler 24.03 LTS) / aarch64 | OK | OK | WARNINGS | ||||||||||||||||||
Package 159/245 | Hostname | OS / Arch | INSTALL | BUILD | CHECK | BUILD BIN | ||||||||||||||||
octad 1.11.1 (landing page) E. Chekalin
| nebbiolo2 | Linux (Ubuntu 24.04.3 LTS) / x86_64 | OK | OK | OK | ![]() | ||||||||||||||||
lconway | macOS 12.7.6 Monterey / x86_64 | OK | OK | OK | OK | ![]() | ||||||||||||||||
kjohnson3 | macOS 13.7.7 Ventura / arm64 | OK | OK | OK | OK | ![]() | ||||||||||||||||
taishan | Linux (openEuler 24.03 LTS) / aarch64 | OK | OK | OK | ||||||||||||||||||
Package 160/245 | Hostname | OS / Arch | INSTALL | BUILD | CHECK | BUILD BIN | ||||||||||||||||
OLIN 1.87.0 (landing page) Matthias Futschik
| nebbiolo2 | Linux (Ubuntu 24.04.3 LTS) / x86_64 | OK | OK | OK | ![]() | ||||||||||||||||
lconway | macOS 12.7.6 Monterey / x86_64 | OK | OK | OK | OK | ![]() | ||||||||||||||||
kjohnson3 | macOS 13.7.7 Ventura / arm64 | OK | OK | OK | OK | ![]() | ||||||||||||||||
taishan | Linux (openEuler 24.03 LTS) / aarch64 | OK | OK | OK | ||||||||||||||||||
Package 161/245 | Hostname | OS / Arch | INSTALL | BUILD | CHECK | BUILD BIN | ||||||||||||||||
omicRexposome 1.31.0 (landing page) Xavier Escribà Montagut
| nebbiolo2 | Linux (Ubuntu 24.04.3 LTS) / x86_64 | OK | OK | OK | ![]() | ||||||||||||||||
lconway | macOS 12.7.6 Monterey / x86_64 | OK | OK | OK | OK | ![]() | ||||||||||||||||
kjohnson3 | macOS 13.7.7 Ventura / arm64 | OK | OK | OK | OK | ![]() | ||||||||||||||||
taishan | Linux (openEuler 24.03 LTS) / aarch64 | OK | OK | OK | ||||||||||||||||||
Package 162/245 | Hostname | OS / Arch | INSTALL | BUILD | CHECK | BUILD BIN | ||||||||||||||||
Abdulkadir Elmas
| nebbiolo2 | Linux (Ubuntu 24.04.3 LTS) / x86_64 | OK | ERROR | skipped | |||||||||||||||||
lconway | macOS 12.7.6 Monterey / x86_64 | OK | ERROR | skipped | skipped | |||||||||||||||||
kjohnson3 | macOS 13.7.7 Ventura / arm64 | OK | ERROR | skipped | skipped | |||||||||||||||||
taishan | Linux (openEuler 24.03 LTS) / aarch64 | OK | ERROR | skipped | ||||||||||||||||||
Package 163/245 | Hostname | OS / Arch | INSTALL | BUILD | CHECK | BUILD BIN | ||||||||||||||||
OVESEG 1.25.0 (landing page) Lulu Chen
| nebbiolo2 | Linux (Ubuntu 24.04.3 LTS) / x86_64 | OK | OK | OK | ![]() | ||||||||||||||||
lconway | macOS 12.7.6 Monterey / x86_64 | OK | OK | OK | OK | ![]() | ||||||||||||||||
kjohnson3 | macOS 13.7.7 Ventura / arm64 | OK | OK | OK | OK | ![]() | ||||||||||||||||
taishan | Linux (openEuler 24.03 LTS) / aarch64 | OK | OK | OK | ||||||||||||||||||
Package 164/245 | Hostname | OS / Arch | INSTALL | BUILD | CHECK | BUILD BIN | ||||||||||||||||
PAA 1.43.0 (landing page) Michael Turewicz
| nebbiolo2 | Linux (Ubuntu 24.04.3 LTS) / x86_64 | OK | OK | OK | ![]() | ||||||||||||||||
lconway | macOS 12.7.6 Monterey / x86_64 | OK | OK | OK | OK | ![]() | ||||||||||||||||
kjohnson3 | macOS 13.7.7 Ventura / arm64 | OK | OK | OK | OK | ![]() | ||||||||||||||||
taishan | Linux (openEuler 24.03 LTS) / aarch64 | OK | OK | OK | ||||||||||||||||||
Package 165/245 | Hostname | OS / Arch | INSTALL | BUILD | CHECK | BUILD BIN | ||||||||||||||||
PADOG 1.51.0 (landing page) Adi L. Tarca
| nebbiolo2 | Linux (Ubuntu 24.04.3 LTS) / x86_64 | OK | OK | OK | ![]() | ||||||||||||||||
lconway | macOS 12.7.6 Monterey / x86_64 | OK | OK | OK | OK | ![]() | ||||||||||||||||
kjohnson3 | macOS 13.7.7 Ventura / arm64 | OK | OK | OK | OK | ![]() | ||||||||||||||||
taishan | Linux (openEuler 24.03 LTS) / aarch64 | OK | OK | OK | ||||||||||||||||||
Package 166/245 | Hostname | OS / Arch | INSTALL | BUILD | CHECK | BUILD BIN | ||||||||||||||||
pairedGSEA 1.9.0 (landing page) Søren Helweg Dam
| nebbiolo2 | Linux (Ubuntu 24.04.3 LTS) / x86_64 | OK | OK | OK | ![]() | ||||||||||||||||
lconway | macOS 12.7.6 Monterey / x86_64 | OK | OK | OK | OK | ![]() | ||||||||||||||||
kjohnson3 | macOS 13.7.7 Ventura / arm64 | OK | OK | OK | OK | ![]() | ||||||||||||||||
taishan | Linux (openEuler 24.03 LTS) / aarch64 | OK | OK | OK | ||||||||||||||||||
Package 167/245 | Hostname | OS / Arch | INSTALL | BUILD | CHECK | BUILD BIN | ||||||||||||||||
PanomiR 1.13.0 (landing page) Pourya Naderi
| nebbiolo2 | Linux (Ubuntu 24.04.3 LTS) / x86_64 | OK | OK | OK | ![]() | ||||||||||||||||
lconway | macOS 12.7.6 Monterey / x86_64 | OK | OK | OK | OK | ![]() | ||||||||||||||||
kjohnson3 | macOS 13.7.7 Ventura / arm64 | OK | OK | OK | OK | ![]() | ||||||||||||||||
taishan | Linux (openEuler 24.03 LTS) / aarch64 | OK | OK | OK | ||||||||||||||||||
Package 168/245 | Hostname | OS / Arch | INSTALL | BUILD | CHECK | BUILD BIN | ||||||||||||||||
PathoStat 1.35.0 (landing page) Solaiappan Manimaran
| nebbiolo2 | Linux (Ubuntu 24.04.3 LTS) / x86_64 | OK | OK | OK | ![]() | ||||||||||||||||
lconway | macOS 12.7.6 Monterey / x86_64 | OK | OK | OK | OK | ![]() | ||||||||||||||||
kjohnson3 | macOS 13.7.7 Ventura / arm64 | OK | OK | OK | OK | ![]() | ||||||||||||||||
taishan | Linux (openEuler 24.03 LTS) / aarch64 | OK | OK | OK | ||||||||||||||||||
Package 169/245 | Hostname | OS / Arch | INSTALL | BUILD | CHECK | BUILD BIN | ||||||||||||||||
pcaExplorer 3.3.0 (landing page) Federico Marini
| nebbiolo2 | Linux (Ubuntu 24.04.3 LTS) / x86_64 | OK | OK | OK | ![]() | ||||||||||||||||
lconway | macOS 12.7.6 Monterey / x86_64 | OK | OK | OK | OK | ![]() | ||||||||||||||||
kjohnson3 | macOS 13.7.7 Ventura / arm64 | OK | OK | OK | OK | ![]() | ||||||||||||||||
taishan | Linux (openEuler 24.03 LTS) / aarch64 | OK | OK | OK | ||||||||||||||||||
Package 170/245 | Hostname | OS / Arch | INSTALL | BUILD | CHECK | BUILD BIN | ||||||||||||||||
PECA 1.45.0 (landing page) Tomi Suomi
| nebbiolo2 | Linux (Ubuntu 24.04.3 LTS) / x86_64 | OK | OK | OK | ![]() | ||||||||||||||||
lconway | macOS 12.7.6 Monterey / x86_64 | OK | OK | OK | OK | ![]() | ||||||||||||||||
kjohnson3 | macOS 13.7.7 Ventura / arm64 | OK | OK | OK | OK | ![]() | ||||||||||||||||
taishan | Linux (openEuler 24.03 LTS) / aarch64 | OK | OK | OK | ||||||||||||||||||
Package 171/245 | Hostname | OS / Arch | INSTALL | BUILD | CHECK | BUILD BIN | ||||||||||||||||
PepSetTest 1.3.0 (landing page) Junmin Wang
| nebbiolo2 | Linux (Ubuntu 24.04.3 LTS) / x86_64 | OK | OK | OK | ![]() | ||||||||||||||||
lconway | macOS 12.7.6 Monterey / x86_64 | OK | OK | OK | OK | ![]() | ||||||||||||||||
kjohnson3 | macOS 13.7.7 Ventura / arm64 | OK | OK | OK | OK | ![]() | ||||||||||||||||
taishan | Linux (openEuler 24.03 LTS) / aarch64 | OK | OK | OK | ||||||||||||||||||
Package 172/245 | Hostname | OS / Arch | INSTALL | BUILD | CHECK | BUILD BIN | ||||||||||||||||
pepStat 1.43.0 (landing page) Gregory C Imholte
| nebbiolo2 | Linux (Ubuntu 24.04.3 LTS) / x86_64 | OK | OK | OK | ![]() | ||||||||||||||||
lconway | macOS 12.7.6 Monterey / x86_64 | OK | OK | OK | OK | ![]() | ||||||||||||||||
kjohnson3 | macOS 13.7.7 Ventura / arm64 | OK | OK | OK | OK | ![]() | ||||||||||||||||
taishan | Linux (openEuler 24.03 LTS) / aarch64 | OK | OK | OK | ||||||||||||||||||
Package 173/245 | Hostname | OS / Arch | INSTALL | BUILD | CHECK | BUILD BIN | ||||||||||||||||
phantasus 1.29.0 (landing page) Alexey Sergushichev
| nebbiolo2 | Linux (Ubuntu 24.04.3 LTS) / x86_64 | OK | OK | OK | ![]() | ||||||||||||||||
lconway | macOS 12.7.6 Monterey / x86_64 | OK | OK | OK | OK | ![]() | ||||||||||||||||
kjohnson3 | macOS 13.7.7 Ventura / arm64 | OK | OK | OK | OK | ![]() | ||||||||||||||||
taishan | Linux (openEuler 24.03 LTS) / aarch64 | OK | OK | OK | ||||||||||||||||||
Package 174/245 | Hostname | OS / Arch | INSTALL | BUILD | CHECK | BUILD BIN | ||||||||||||||||
phenomis 1.11.0 (landing page) Etienne A. Thevenot
| nebbiolo2 | Linux (Ubuntu 24.04.3 LTS) / x86_64 | OK | OK | OK | ![]() | ||||||||||||||||
lconway | macOS 12.7.6 Monterey / x86_64 | OK | OK | OK | OK | ![]() | ||||||||||||||||
kjohnson3 | macOS 13.7.7 Ventura / arm64 | OK | OK | OK | OK | ![]() | ||||||||||||||||
taishan | Linux (openEuler 24.03 LTS) / aarch64 | OK | OK | OK | ||||||||||||||||||
Package 175/245 | Hostname | OS / Arch | INSTALL | BUILD | CHECK | BUILD BIN | ||||||||||||||||
phenoTest 1.57.0 (landing page) Evarist Planet
| nebbiolo2 | Linux (Ubuntu 24.04.3 LTS) / x86_64 | OK | OK | OK | ![]() | ||||||||||||||||
lconway | macOS 12.7.6 Monterey / x86_64 | OK | OK | OK | OK | ![]() | ||||||||||||||||
kjohnson3 | macOS 13.7.7 Ventura / arm64 | OK | OK | OK | OK | ![]() | ||||||||||||||||
taishan | Linux (openEuler 24.03 LTS) / aarch64 | OK | OK | OK | ||||||||||||||||||
Package 176/245 | Hostname | OS / Arch | INSTALL | BUILD | CHECK | BUILD BIN | ||||||||||||||||
PhosR 1.19.2 (landing page) Di Xiao
| nebbiolo2 | Linux (Ubuntu 24.04.3 LTS) / x86_64 | OK | OK | OK | ![]() | ||||||||||||||||
lconway | macOS 12.7.6 Monterey / x86_64 | OK | OK | OK | OK | ![]() | ||||||||||||||||
kjohnson3 | macOS 13.7.7 Ventura / arm64 | OK | OK | OK | OK | ![]() | ||||||||||||||||
taishan | Linux (openEuler 24.03 LTS) / aarch64 | OK | OK | OK | ||||||||||||||||||
Package 177/245 | Hostname | OS / Arch | INSTALL | BUILD | CHECK | BUILD BIN | ||||||||||||||||
PolySTest 1.3.1 (landing page) Veit Schwämmle
| nebbiolo2 | Linux (Ubuntu 24.04.3 LTS) / x86_64 | OK | OK | OK | ![]() | ||||||||||||||||
lconway | macOS 12.7.6 Monterey / x86_64 | OK | OK | OK | OK | ![]() | ||||||||||||||||
kjohnson3 | macOS 13.7.7 Ventura / arm64 | OK | OK | OK | OK | ![]() | ||||||||||||||||
taishan | Linux (openEuler 24.03 LTS) / aarch64 | OK | OK | OK | ||||||||||||||||||
Package 178/245 | Hostname | OS / Arch | INSTALL | BUILD | CHECK | BUILD BIN | ||||||||||||||||
POMA 1.19.0 (landing page) Pol Castellano-Escuder
| nebbiolo2 | Linux (Ubuntu 24.04.3 LTS) / x86_64 | OK | OK | OK | ![]() | ||||||||||||||||
lconway | macOS 12.7.6 Monterey / x86_64 | OK | OK | OK | OK | ![]() | ||||||||||||||||
kjohnson3 | macOS 13.7.7 Ventura / arm64 | OK | OK | OK | OK | ![]() | ||||||||||||||||
taishan | Linux (openEuler 24.03 LTS) / aarch64 | OK | OK | OK | ||||||||||||||||||
Package 179/245 | Hostname | OS / Arch | INSTALL | BUILD | CHECK | BUILD BIN | ||||||||||||||||
POWSC 1.17.1 (landing page) Kenong Su
| nebbiolo2 | Linux (Ubuntu 24.04.3 LTS) / x86_64 | OK | OK | OK | ![]() | ||||||||||||||||
lconway | macOS 12.7.6 Monterey / x86_64 | OK | OK | OK | OK | ![]() | ||||||||||||||||
kjohnson3 | macOS 13.7.7 Ventura / arm64 | OK | OK | OK | OK | ![]() | ||||||||||||||||
taishan | Linux (openEuler 24.03 LTS) / aarch64 | OK | OK | OK | ||||||||||||||||||
Package 180/245 | Hostname | OS / Arch | INSTALL | BUILD | CHECK | BUILD BIN | ||||||||||||||||
projectR 1.25.0 (landing page) Genevieve Stein-O'Brien
| nebbiolo2 | Linux (Ubuntu 24.04.3 LTS) / x86_64 | OK | OK | OK | ![]() | ||||||||||||||||
lconway | macOS 12.7.6 Monterey / x86_64 | OK | OK | OK | OK | ![]() | ||||||||||||||||
kjohnson3 | macOS 13.7.7 Ventura / arm64 | OK | OK | OK | OK | ![]() | ||||||||||||||||
taishan | Linux (openEuler 24.03 LTS) / aarch64 | OK | OK | OK | ||||||||||||||||||
Package 181/245 | Hostname | OS / Arch | INSTALL | BUILD | CHECK | BUILD BIN | ||||||||||||||||
PRONE 1.3.2 (landing page) Lis Arend
| nebbiolo2 | Linux (Ubuntu 24.04.3 LTS) / x86_64 | OK | OK | OK | ![]() | ||||||||||||||||
lconway | macOS 12.7.6 Monterey / x86_64 | OK | OK | OK | OK | ![]() | ||||||||||||||||
kjohnson3 | macOS 13.7.7 Ventura / arm64 | OK | OK | OK | OK | ![]() | ||||||||||||||||
taishan | Linux (openEuler 24.03 LTS) / aarch64 | OK | OK | OK | ||||||||||||||||||
Package 182/245 | Hostname | OS / Arch | INSTALL | BUILD | CHECK | BUILD BIN | ||||||||||||||||
protGear 1.13.0 (landing page) Kennedy Mwai
| nebbiolo2 | Linux (Ubuntu 24.04.3 LTS) / x86_64 | OK | OK | OK | ![]() | ||||||||||||||||
lconway | macOS 12.7.6 Monterey / x86_64 | OK | OK | OK | OK | ![]() | ||||||||||||||||
kjohnson3 | macOS 13.7.7 Ventura / arm64 | OK | OK | OK | OK | ![]() | ||||||||||||||||
taishan | Linux (openEuler 24.03 LTS) / aarch64 | OK | OK | OK | ||||||||||||||||||
Package 183/245 | Hostname | OS / Arch | INSTALL | BUILD | CHECK | BUILD BIN | ||||||||||||||||
psichomics 1.35.0 (landing page) Nuno Saraiva-Agostinho
| nebbiolo2 | Linux (Ubuntu 24.04.3 LTS) / x86_64 | OK | OK | OK | ![]() | ||||||||||||||||
lconway | macOS 12.7.6 Monterey / x86_64 | OK | OK | OK | OK | ![]() | ||||||||||||||||
kjohnson3 | macOS 13.7.7 Ventura / arm64 | OK | OK | OK | OK | ![]() | ||||||||||||||||
taishan | Linux (openEuler 24.03 LTS) / aarch64 | OK | OK | OK | ||||||||||||||||||
Package 184/245 | Hostname | OS / Arch | INSTALL | BUILD | CHECK | BUILD BIN | ||||||||||||||||
qmtools 1.13.0 (landing page) Jaehyun Joo
| nebbiolo2 | Linux (Ubuntu 24.04.3 LTS) / x86_64 | OK | OK | OK | ![]() | ||||||||||||||||
lconway | macOS 12.7.6 Monterey / x86_64 | OK | OK | OK | OK | ![]() | ||||||||||||||||
kjohnson3 | macOS 13.7.7 Ventura / arm64 | OK | OK | OK | OK | ![]() | ||||||||||||||||
taishan | Linux (openEuler 24.03 LTS) / aarch64 | OK | OK | OK | ||||||||||||||||||
Package 185/245 | Hostname | OS / Arch | INSTALL | BUILD | CHECK | BUILD BIN | ||||||||||||||||
qpcrNorm 1.67.0 (landing page) Jessica Mar
| nebbiolo2 | Linux (Ubuntu 24.04.3 LTS) / x86_64 | OK | OK | OK | ![]() | ||||||||||||||||
lconway | macOS 12.7.6 Monterey / x86_64 | OK | OK | OK | OK | ![]() | ||||||||||||||||
kjohnson3 | macOS 13.7.7 Ventura / arm64 | OK | OK | OK | OK | ![]() | ||||||||||||||||
taishan | Linux (openEuler 24.03 LTS) / aarch64 | OK | OK | OK | ||||||||||||||||||
Package 186/245 | Hostname | OS / Arch | INSTALL | BUILD | CHECK | BUILD BIN | ||||||||||||||||
qPLEXanalyzer 1.27.0 (landing page) Ashley Sawle
| nebbiolo2 | Linux (Ubuntu 24.04.3 LTS) / x86_64 | OK | ERROR | skipped | |||||||||||||||||
lconway | macOS 12.7.6 Monterey / x86_64 | OK | ERROR | skipped | skipped | |||||||||||||||||
kjohnson3 | macOS 13.7.7 Ventura / arm64 | OK | ERROR | skipped | skipped | |||||||||||||||||
taishan | Linux (openEuler 24.03 LTS) / aarch64 | OK | OK | OK | ||||||||||||||||||
Package 187/245 | Hostname | OS / Arch | INSTALL | BUILD | CHECK | BUILD BIN | ||||||||||||||||
qsea 1.35.1 (landing page) Matthias Lienhard
| nebbiolo2 | Linux (Ubuntu 24.04.3 LTS) / x86_64 | OK | OK | WARNINGS | ![]() | ||||||||||||||||
lconway | macOS 12.7.6 Monterey / x86_64 | ERROR | ERROR | skipped | skipped | |||||||||||||||||
kjohnson3 | macOS 13.7.7 Ventura / arm64 | ERROR | ERROR | skipped | skipped | |||||||||||||||||
taishan | Linux (openEuler 24.03 LTS) / aarch64 | OK | OK | WARNINGS | ||||||||||||||||||
Package 188/245 | Hostname | OS / Arch | INSTALL | BUILD | CHECK | BUILD BIN | ||||||||||||||||
qusage 2.43.0 (landing page) Christopher Bolen
| nebbiolo2 | Linux (Ubuntu 24.04.3 LTS) / x86_64 | OK | OK | OK | ![]() | ||||||||||||||||
lconway | macOS 12.7.6 Monterey / x86_64 | OK | OK | OK | OK | ![]() | ||||||||||||||||
kjohnson3 | macOS 13.7.7 Ventura / arm64 | OK | OK | OK | OK | ![]() | ||||||||||||||||
taishan | Linux (openEuler 24.03 LTS) / aarch64 | OK | OK | OK | ||||||||||||||||||
Package 189/245 | Hostname | OS / Arch | INSTALL | BUILD | CHECK | BUILD BIN | ||||||||||||||||
RBM 1.41.0 (landing page) Dongmei Li
| nebbiolo2 | Linux (Ubuntu 24.04.3 LTS) / x86_64 | OK | OK | OK | ![]() | ||||||||||||||||
lconway | macOS 12.7.6 Monterey / x86_64 | OK | OK | OK | OK | ![]() | ||||||||||||||||
kjohnson3 | macOS 13.7.7 Ventura / arm64 | OK | OK | OK | OK | ![]() | ||||||||||||||||
taishan | Linux (openEuler 24.03 LTS) / aarch64 | OK | OK | OK | ||||||||||||||||||
Package 190/245 | Hostname | OS / Arch | INSTALL | BUILD | CHECK | BUILD BIN | ||||||||||||||||
rCGH 1.39.1 (landing page) Frederic Commo
| nebbiolo2 | Linux (Ubuntu 24.04.3 LTS) / x86_64 | OK | OK | OK | ![]() | ||||||||||||||||
lconway | macOS 12.7.6 Monterey / x86_64 | OK | OK | OK | OK | ![]() | ||||||||||||||||
kjohnson3 | macOS 13.7.7 Ventura / arm64 | OK | OK | OK | OK | ![]() | ||||||||||||||||
taishan | Linux (openEuler 24.03 LTS) / aarch64 | OK | OK | OK | ||||||||||||||||||
Package 191/245 | Hostname | OS / Arch | INSTALL | BUILD | CHECK | BUILD BIN | ||||||||||||||||
RegEnrich 1.19.0 (landing page) Weiyang Tao
| nebbiolo2 | Linux (Ubuntu 24.04.3 LTS) / x86_64 | OK | OK | OK | ![]() | ||||||||||||||||
lconway | macOS 12.7.6 Monterey / x86_64 | OK | OK | OK | OK | ![]() | ||||||||||||||||
kjohnson3 | macOS 13.7.7 Ventura / arm64 | OK | OK | OK | OK | ![]() | ||||||||||||||||
taishan | Linux (openEuler 24.03 LTS) / aarch64 | OK | ERROR | skipped | ||||||||||||||||||
Package 192/245 | Hostname | OS / Arch | INSTALL | BUILD | CHECK | BUILD BIN | ||||||||||||||||
regsplice 1.35.0 (landing page) Lukas M. Weber
| nebbiolo2 | Linux (Ubuntu 24.04.3 LTS) / x86_64 | OK | OK | OK | ![]() | ||||||||||||||||
lconway | macOS 12.7.6 Monterey / x86_64 | OK | OK | OK | OK | ![]() | ||||||||||||||||
kjohnson3 | macOS 13.7.7 Ventura / arm64 | OK | OK | OK | OK | ![]() | ||||||||||||||||
taishan | Linux (openEuler 24.03 LTS) / aarch64 | OK | OK | OK | ||||||||||||||||||
Package 193/245 | Hostname | OS / Arch | INSTALL | BUILD | CHECK | BUILD BIN | ||||||||||||||||
ReportingTools 2.49.0 (landing page) Jason A. Hackney
| nebbiolo2 | Linux (Ubuntu 24.04.3 LTS) / x86_64 | OK | OK | OK | ![]() | ||||||||||||||||
lconway | macOS 12.7.6 Monterey / x86_64 | OK | OK | OK | OK | ![]() | ||||||||||||||||
kjohnson3 | macOS 13.7.7 Ventura / arm64 | OK | OK | OK | OK | ![]() | ||||||||||||||||
taishan | Linux (openEuler 24.03 LTS) / aarch64 | OK | OK | OK | ||||||||||||||||||
Package 194/245 | Hostname | OS / Arch | INSTALL | BUILD | CHECK | BUILD BIN | ||||||||||||||||
RFLOMICS 1.1.4 (landing page) Nadia Bessoltane
| nebbiolo2 | Linux (Ubuntu 24.04.3 LTS) / x86_64 | OK | OK | OK | ![]() | ||||||||||||||||
lconway | macOS 12.7.6 Monterey / x86_64 | OK | OK | OK | OK | ![]() | ||||||||||||||||
kjohnson3 | macOS 13.7.7 Ventura / arm64 | OK | OK | OK | OK | ![]() | ||||||||||||||||
taishan | Linux (openEuler 24.03 LTS) / aarch64 | OK | OK | OK | ||||||||||||||||||
Package 195/245 | Hostname | OS / Arch | INSTALL | BUILD | CHECK | BUILD BIN | ||||||||||||||||
RNAseqCovarImpute 1.7.0 (landing page) Brennan Baker
| nebbiolo2 | Linux (Ubuntu 24.04.3 LTS) / x86_64 | OK | OK | OK | ![]() | ||||||||||||||||
lconway | macOS 12.7.6 Monterey / x86_64 | OK | OK | OK | OK | ![]() | ||||||||||||||||
kjohnson3 | macOS 13.7.7 Ventura / arm64 | OK | OK | OK | OK | ![]() | ||||||||||||||||
taishan | Linux (openEuler 24.03 LTS) / aarch64 | OK | OK | OK | ||||||||||||||||||
Package 196/245 | Hostname | OS / Arch | INSTALL | BUILD | CHECK | BUILD BIN | ||||||||||||||||
RnBeads 2.27.2 (landing page) Fabian Mueller
| nebbiolo2 | Linux (Ubuntu 24.04.3 LTS) / x86_64 | OK | OK | OK | ![]() | ||||||||||||||||
lconway | macOS 12.7.6 Monterey / x86_64 | OK | OK | OK | OK | ![]() | ||||||||||||||||
kjohnson3 | macOS 13.7.7 Ventura / arm64 | OK | OK | OK | OK | ![]() | ||||||||||||||||
taishan | Linux (openEuler 24.03 LTS) / aarch64 | OK | OK | OK | ||||||||||||||||||
Package 197/245 | Hostname | OS / Arch | INSTALL | BUILD | CHECK | BUILD BIN | ||||||||||||||||
Rnits 1.43.0 (landing page) Dipen P. Sangurdekar
| nebbiolo2 | Linux (Ubuntu 24.04.3 LTS) / x86_64 | OK | OK | WARNINGS | ![]() | ||||||||||||||||
lconway | macOS 12.7.6 Monterey / x86_64 | OK | OK | WARNINGS | OK | ![]() | ||||||||||||||||
kjohnson3 | macOS 13.7.7 Ventura / arm64 | OK | OK | WARNINGS | OK | ![]() | ||||||||||||||||
taishan | Linux (openEuler 24.03 LTS) / aarch64 | OK | OK | WARNINGS | ||||||||||||||||||
Package 198/245 | Hostname | OS / Arch | INSTALL | BUILD | CHECK | BUILD BIN | ||||||||||||||||
roastgsa 1.7.0 (landing page) Adria Caballe
| nebbiolo2 | Linux (Ubuntu 24.04.3 LTS) / x86_64 | OK | OK | OK | ![]() | ||||||||||||||||
lconway | macOS 12.7.6 Monterey / x86_64 | OK | OK | OK | OK | ![]() | ||||||||||||||||
kjohnson3 | macOS 13.7.7 Ventura / arm64 | OK | OK | OK | OK | ![]() | ||||||||||||||||
taishan | Linux (openEuler 24.03 LTS) / aarch64 | OK | OK | OK | ||||||||||||||||||
Package 199/245 | Hostname | OS / Arch | INSTALL | BUILD | CHECK | BUILD BIN | ||||||||||||||||
ROSeq 1.21.0 (landing page) Krishan Gupta
| nebbiolo2 | Linux (Ubuntu 24.04.3 LTS) / x86_64 | OK | OK | WARNINGS | ![]() | ||||||||||||||||
lconway | macOS 12.7.6 Monterey / x86_64 | OK | OK | WARNINGS | OK | ![]() | ||||||||||||||||
kjohnson3 | macOS 13.7.7 Ventura / arm64 | OK | OK | WARNINGS | OK | ![]() | ||||||||||||||||
taishan | Linux (openEuler 24.03 LTS) / aarch64 | OK | OK | WARNINGS | ||||||||||||||||||
Package 200/245 | Hostname | OS / Arch | INSTALL | BUILD | CHECK | BUILD BIN | ||||||||||||||||
RTN 2.33.0 (landing page) Mauro Castro
| nebbiolo2 | Linux (Ubuntu 24.04.3 LTS) / x86_64 | OK | OK | OK | ![]() | ||||||||||||||||
lconway | macOS 12.7.6 Monterey / x86_64 | OK | OK | OK | OK | ![]() | ||||||||||||||||
kjohnson3 | macOS 13.7.7 Ventura / arm64 | OK | OK | OK | OK | ![]() | ||||||||||||||||
taishan | Linux (openEuler 24.03 LTS) / aarch64 | OK | OK | OK | ||||||||||||||||||
Package 201/245 | Hostname | OS / Arch | INSTALL | BUILD | CHECK | BUILD BIN | ||||||||||||||||
RTopper 1.55.0 (landing page) Luigi Marchionni
| nebbiolo2 | Linux (Ubuntu 24.04.3 LTS) / x86_64 | OK | OK | OK | ![]() | ||||||||||||||||
lconway | macOS 12.7.6 Monterey / x86_64 | OK | OK | OK | OK | ![]() | ||||||||||||||||
kjohnson3 | macOS 13.7.7 Ventura / arm64 | OK | OK | OK | OK | ![]() | ||||||||||||||||
taishan | Linux (openEuler 24.03 LTS) / aarch64 | OK | OK | OK | ||||||||||||||||||
Package 202/245 | Hostname | OS / Arch | INSTALL | BUILD | CHECK | BUILD BIN | ||||||||||||||||
saseR 1.5.1 (landing page) Alexandre Segers
| nebbiolo2 | Linux (Ubuntu 24.04.3 LTS) / x86_64 | OK | OK | WARNINGS | ![]() | ||||||||||||||||
lconway | macOS 12.7.6 Monterey / x86_64 | OK | OK | WARNINGS | OK | ![]() | ||||||||||||||||
kjohnson3 | macOS 13.7.7 Ventura / arm64 | OK | OK | WARNINGS | OK | ![]() | ||||||||||||||||
taishan | Linux (openEuler 24.03 LTS) / aarch64 | OK | OK | WARNINGS | ||||||||||||||||||
Package 203/245 | Hostname | OS / Arch | INSTALL | BUILD | CHECK | BUILD BIN | ||||||||||||||||
satuRn 1.17.0 (landing page) Jeroen Gilis
| nebbiolo2 | Linux (Ubuntu 24.04.3 LTS) / x86_64 | OK | OK | OK | ![]() | ||||||||||||||||
lconway | macOS 12.7.6 Monterey / x86_64 | OK | OK | OK | OK | ![]() | ||||||||||||||||
kjohnson3 | macOS 13.7.7 Ventura / arm64 | OK | OK | OK | OK | ![]() | ||||||||||||||||
taishan | Linux (openEuler 24.03 LTS) / aarch64 | OK | OK | OK | ||||||||||||||||||
Package 204/245 | Hostname | OS / Arch | INSTALL | BUILD | CHECK | BUILD BIN | ||||||||||||||||
scClassify 1.21.0 (landing page) Yingxin Lin
| nebbiolo2 | Linux (Ubuntu 24.04.3 LTS) / x86_64 | OK | OK | OK | ![]() | ||||||||||||||||
lconway | macOS 12.7.6 Monterey / x86_64 | OK | OK | OK | OK | ![]() | ||||||||||||||||
kjohnson3 | macOS 13.7.7 Ventura / arm64 | OK | OK | OK | OK | ![]() | ||||||||||||||||
taishan | Linux (openEuler 24.03 LTS) / aarch64 | OK | OK | OK | ||||||||||||||||||
Package 205/245 | Hostname | OS / Arch | INSTALL | BUILD | CHECK | BUILD BIN | ||||||||||||||||
scone 1.33.0 (landing page) Davide Risso
| nebbiolo2 | Linux (Ubuntu 24.04.3 LTS) / x86_64 | OK | OK | OK | ![]() | ||||||||||||||||
lconway | macOS 12.7.6 Monterey / x86_64 | OK | OK | OK | OK | ![]() | ||||||||||||||||
kjohnson3 | macOS 13.7.7 Ventura / arm64 | OK | OK | OK | OK | ![]() | ||||||||||||||||
taishan | Linux (openEuler 24.03 LTS) / aarch64 | OK | OK | OK | ||||||||||||||||||
Package 206/245 | Hostname | OS / Arch | INSTALL | BUILD | CHECK | BUILD BIN | ||||||||||||||||
scQTLtools 1.1.7 (landing page) Xiaofeng Wu
| nebbiolo2 | Linux (Ubuntu 24.04.3 LTS) / x86_64 | OK | OK | ERROR | |||||||||||||||||
lconway | macOS 12.7.6 Monterey / x86_64 | OK | OK | ERROR | OK | |||||||||||||||||
kjohnson3 | macOS 13.7.7 Ventura / arm64 | OK | OK | ERROR | OK | |||||||||||||||||
taishan | Linux (openEuler 24.03 LTS) / aarch64 | OK | OK | ERROR | ||||||||||||||||||
Package 207/245 | Hostname | OS / Arch | INSTALL | BUILD | CHECK | BUILD BIN | ||||||||||||||||
scran 1.37.0 (landing page) Aaron Lun
| nebbiolo2 | Linux (Ubuntu 24.04.3 LTS) / x86_64 | OK | OK | WARNINGS | ![]() | ||||||||||||||||
lconway | macOS 12.7.6 Monterey / x86_64 | OK | OK | WARNINGS | OK | ![]() | ||||||||||||||||
kjohnson3 | macOS 13.7.7 Ventura / arm64 | OK | OK | WARNINGS | OK | ![]() | ||||||||||||||||
taishan | Linux (openEuler 24.03 LTS) / aarch64 | OK | OK | WARNINGS | ||||||||||||||||||
Package 208/245 | Hostname | OS / Arch | INSTALL | BUILD | CHECK | BUILD BIN | ||||||||||||||||
ScreenR 1.11.0 (landing page) Emanuel Michele Soda
| nebbiolo2 | Linux (Ubuntu 24.04.3 LTS) / x86_64 | OK | OK | ERROR | |||||||||||||||||
lconway | macOS 12.7.6 Monterey / x86_64 | OK | OK | ERROR | OK | |||||||||||||||||
kjohnson3 | macOS 13.7.7 Ventura / arm64 | OK | OK | ERROR | OK | |||||||||||||||||
taishan | Linux (openEuler 24.03 LTS) / aarch64 | OK | OK | ERROR | ||||||||||||||||||
Package 209/245 | Hostname | OS / Arch | INSTALL | BUILD | CHECK | BUILD BIN | ||||||||||||||||
scviR 1.9.13 (landing page) Vincent Carey
| nebbiolo2 | Linux (Ubuntu 24.04.3 LTS) / x86_64 | OK | OK | ERROR | |||||||||||||||||
lconway | macOS 12.7.6 Monterey / x86_64 | OK | ERROR | skipped | skipped | |||||||||||||||||
kjohnson3 | macOS 13.7.7 Ventura / arm64 | OK | TIMEOUT | skipped | skipped | |||||||||||||||||
taishan | Linux (openEuler 24.03 LTS) / aarch64 | OK | ERROR | skipped | ||||||||||||||||||
Package 210/245 | Hostname | OS / Arch | INSTALL | BUILD | CHECK | BUILD BIN | ||||||||||||||||
seqsetvis 1.29.1 (landing page) Joseph R Boyd
| nebbiolo2 | Linux (Ubuntu 24.04.3 LTS) / x86_64 | OK | OK | OK | ![]() | ||||||||||||||||
lconway | macOS 12.7.6 Monterey / x86_64 | OK | OK | OK | OK | ![]() | ||||||||||||||||
kjohnson3 | macOS 13.7.7 Ventura / arm64 | OK | OK | OK | OK | ![]() | ||||||||||||||||
taishan | Linux (openEuler 24.03 LTS) / aarch64 | OK | OK | OK | ||||||||||||||||||
Package 211/245 | Hostname | OS / Arch | INSTALL | BUILD | CHECK | BUILD BIN | ||||||||||||||||
shinyDSP 1.1.2 (landing page) Seung J. Kim
| nebbiolo2 | Linux (Ubuntu 24.04.3 LTS) / x86_64 | OK | OK | OK | ![]() | ||||||||||||||||
lconway | macOS 12.7.6 Monterey / x86_64 | OK | OK | OK | OK | ![]() | ||||||||||||||||
kjohnson3 | macOS 13.7.7 Ventura / arm64 | OK | OK | OK | OK | ![]() | ||||||||||||||||
taishan | Linux (openEuler 24.03 LTS) / aarch64 | OK | OK | OK | ||||||||||||||||||
Package 212/245 | Hostname | OS / Arch | INSTALL | BUILD | CHECK | BUILD BIN | ||||||||||||||||
shinyepico 1.17.0 (landing page) Octavio Morante-Palacios
| nebbiolo2 | Linux (Ubuntu 24.04.3 LTS) / x86_64 | OK | OK | OK | ![]() | ||||||||||||||||
lconway | macOS 12.7.6 Monterey / x86_64 | OK | OK | OK | OK | ![]() | ||||||||||||||||
kjohnson3 | macOS 13.7.7 Ventura / arm64 | OK | OK | OK | OK | ![]() | ||||||||||||||||
taishan | Linux (openEuler 24.03 LTS) / aarch64 | OK | OK | OK | ||||||||||||||||||
Package 213/245 | Hostname | OS / Arch | INSTALL | BUILD | CHECK | BUILD BIN | ||||||||||||||||
singleCellTK 2.19.2 (landing page) Joshua David Campbell
| nebbiolo2 | Linux (Ubuntu 24.04.3 LTS) / x86_64 | OK | OK | OK | ![]() | ||||||||||||||||
lconway | macOS 12.7.6 Monterey / x86_64 | OK | OK | OK | OK | ![]() | ||||||||||||||||
kjohnson3 | macOS 13.7.7 Ventura / arm64 | OK | OK | OK | OK | ![]() | ||||||||||||||||
taishan | Linux (openEuler 24.03 LTS) / aarch64 | OK | OK | OK | ||||||||||||||||||
Package 214/245 | Hostname | OS / Arch | INSTALL | BUILD | CHECK | BUILD BIN | ||||||||||||||||
SmartPhos 0.99.30 (landing page) Shubham Agrawal
| nebbiolo2 | Linux (Ubuntu 24.04.3 LTS) / x86_64 | OK | OK | OK | ![]() | ||||||||||||||||
lconway | macOS 12.7.6 Monterey / x86_64 | OK | OK | OK | OK | ![]() | ||||||||||||||||
kjohnson3 | macOS 13.7.7 Ventura / arm64 | OK | OK | OK | OK | ![]() | ||||||||||||||||
taishan | Linux (openEuler 24.03 LTS) / aarch64 | OK | OK | OK | ||||||||||||||||||
Package 215/245 | Hostname | OS / Arch | INSTALL | BUILD | CHECK | BUILD BIN | ||||||||||||||||
sparrow 1.15.0 (landing page) Steve Lianoglou
| nebbiolo2 | Linux (Ubuntu 24.04.3 LTS) / x86_64 | OK | OK | OK | ![]() | ||||||||||||||||
lconway | macOS 12.7.6 Monterey / x86_64 | OK | OK | OK | OK | ![]() | ||||||||||||||||
kjohnson3 | macOS 13.7.7 Ventura / arm64 | OK | OK | OK | OK | ![]() | ||||||||||||||||
taishan | Linux (openEuler 24.03 LTS) / aarch64 | OK | OK | OK | ||||||||||||||||||
Package 216/245 | Hostname | OS / Arch | INSTALL | BUILD | CHECK | BUILD BIN | ||||||||||||||||
speckle 1.9.1 (landing page) Belinda Phipson
| nebbiolo2 | Linux (Ubuntu 24.04.3 LTS) / x86_64 | OK | OK | ERROR | |||||||||||||||||
lconway | macOS 12.7.6 Monterey / x86_64 | OK | OK | OK | OK | ![]() | ||||||||||||||||
kjohnson3 | macOS 13.7.7 Ventura / arm64 | OK | OK | OK | OK | ![]() | ||||||||||||||||
taishan | Linux (openEuler 24.03 LTS) / aarch64 | OK | OK | OK | ||||||||||||||||||
Package 217/245 | Hostname | OS / Arch | INSTALL | BUILD | CHECK | BUILD BIN | ||||||||||||||||
splineTimeR 1.37.0 (landing page) Herbert Braselmann
| nebbiolo2 | Linux (Ubuntu 24.04.3 LTS) / x86_64 | OK | OK | OK | ![]() | ||||||||||||||||
lconway | macOS 12.7.6 Monterey / x86_64 | OK | OK | OK | OK | ![]() | ||||||||||||||||
kjohnson3 | macOS 13.7.7 Ventura / arm64 | OK | OK | OK | OK | ![]() | ||||||||||||||||
taishan | Linux (openEuler 24.03 LTS) / aarch64 | OK | OK | OK | ||||||||||||||||||
Package 218/245 | Hostname | OS / Arch | INSTALL | BUILD | CHECK | BUILD BIN | ||||||||||||||||
SPsimSeq 1.19.0 (landing page) Joris Meys
| nebbiolo2 | Linux (Ubuntu 24.04.3 LTS) / x86_64 | OK | OK | OK | ![]() | ||||||||||||||||
lconway | macOS 12.7.6 Monterey / x86_64 | OK | OK | OK | OK | ![]() | ||||||||||||||||
kjohnson3 | macOS 13.7.7 Ventura / arm64 | OK | OK | OK | OK | ![]() | ||||||||||||||||
taishan | Linux (openEuler 24.03 LTS) / aarch64 | OK | OK | OK | ||||||||||||||||||
Package 219/245 | Hostname | OS / Arch | INSTALL | BUILD | CHECK | BUILD BIN | ||||||||||||||||
standR 1.13.0 (landing page) Ning Liu
| nebbiolo2 | Linux (Ubuntu 24.04.3 LTS) / x86_64 | OK | OK | OK | ![]() | ||||||||||||||||
lconway | macOS 12.7.6 Monterey / x86_64 | OK | OK | OK | OK | ![]() | ||||||||||||||||
kjohnson3 | macOS 13.7.7 Ventura / arm64 | OK | OK | OK | OK | ![]() | ||||||||||||||||
taishan | Linux (openEuler 24.03 LTS) / aarch64 | OK | OK | OK | ||||||||||||||||||
Package 220/245 | Hostname | OS / Arch | INSTALL | BUILD | CHECK | BUILD BIN | ||||||||||||||||
STATegRa 1.45.0 (landing page) David Gomez-Cabrero
| nebbiolo2 | Linux (Ubuntu 24.04.3 LTS) / x86_64 | OK | OK | OK | ![]() | ||||||||||||||||
lconway | macOS 12.7.6 Monterey / x86_64 | OK | OK | OK | OK | ![]() | ||||||||||||||||
kjohnson3 | macOS 13.7.7 Ventura / arm64 | OK | OK | OK | OK | ![]() | ||||||||||||||||
taishan | Linux (openEuler 24.03 LTS) / aarch64 | OK | OK | OK | ||||||||||||||||||
Package 221/245 | Hostname | OS / Arch | INSTALL | BUILD | CHECK | BUILD BIN | ||||||||||||||||
Statial 1.11.7 (landing page) Farhan Ameen
| nebbiolo2 | Linux (Ubuntu 24.04.3 LTS) / x86_64 | OK | OK | OK | ![]() | ||||||||||||||||
lconway | macOS 12.7.6 Monterey / x86_64 | OK | OK | OK | OK | ![]() | ||||||||||||||||
kjohnson3 | macOS 13.7.7 Ventura / arm64 | OK | OK | OK | OK | ![]() | ||||||||||||||||
taishan | Linux (openEuler 24.03 LTS) / aarch64 | OK | OK | ERROR | ||||||||||||||||||
Package 222/245 | Hostname | OS / Arch | INSTALL | BUILD | CHECK | BUILD BIN | ||||||||||||||||
sva 3.57.0 (landing page) Jeffrey T. Leek
| nebbiolo2 | Linux (Ubuntu 24.04.3 LTS) / x86_64 | OK | OK | OK | ![]() | ||||||||||||||||
lconway | macOS 12.7.6 Monterey / x86_64 | OK | OK | OK | OK | ![]() | ||||||||||||||||
kjohnson3 | macOS 13.7.7 Ventura / arm64 | OK | OK | OK | OK | ![]() | ||||||||||||||||
taishan | Linux (openEuler 24.03 LTS) / aarch64 | OK | OK | OK | ||||||||||||||||||
Package 223/245 | Hostname | OS / Arch | INSTALL | BUILD | CHECK | BUILD BIN | ||||||||||||||||
timecourse 1.81.0 (landing page) Yu Chuan Tai
| nebbiolo2 | Linux (Ubuntu 24.04.3 LTS) / x86_64 | OK | OK | OK | ![]() | ||||||||||||||||
lconway | macOS 12.7.6 Monterey / x86_64 | OK | OK | OK | OK | ![]() | ||||||||||||||||
kjohnson3 | macOS 13.7.7 Ventura / arm64 | OK | OK | OK | OK | ![]() | ||||||||||||||||
taishan | Linux (openEuler 24.03 LTS) / aarch64 | OK | OK | OK | ||||||||||||||||||
Package 224/245 | Hostname | OS / Arch | INSTALL | BUILD | CHECK | BUILD BIN | ||||||||||||||||
TMSig 1.3.0 (landing page) Tyler Sagendorf
| nebbiolo2 | Linux (Ubuntu 24.04.3 LTS) / x86_64 | OK | OK | OK | ![]() | ||||||||||||||||
lconway | macOS 12.7.6 Monterey / x86_64 | OK | OK | OK | OK | ![]() | ||||||||||||||||
kjohnson3 | macOS 13.7.7 Ventura / arm64 | OK | OK | OK | OK | ![]() | ||||||||||||||||
taishan | Linux (openEuler 24.03 LTS) / aarch64 | OK | OK | OK | ||||||||||||||||||
Package 225/245 | Hostname | OS / Arch | INSTALL | BUILD | CHECK | BUILD BIN | ||||||||||||||||
TOAST 1.23.0 (landing page) Ziyi Li
| nebbiolo2 | Linux (Ubuntu 24.04.3 LTS) / x86_64 | OK | OK | OK | ![]() | ||||||||||||||||
lconway | macOS 12.7.6 Monterey / x86_64 | OK | OK | OK | OK | ![]() | ||||||||||||||||
kjohnson3 | macOS 13.7.7 Ventura / arm64 | OK | OK | OK | OK | ![]() | ||||||||||||||||
taishan | Linux (openEuler 24.03 LTS) / aarch64 | OK | OK | OK | ||||||||||||||||||
Package 226/245 | Hostname | OS / Arch | INSTALL | BUILD | CHECK | BUILD BIN | ||||||||||||||||
TOP 1.9.0 (landing page) Harry Robertson
| nebbiolo2 | Linux (Ubuntu 24.04.3 LTS) / x86_64 | OK | OK | OK | ![]() | ||||||||||||||||
lconway | macOS 12.7.6 Monterey / x86_64 | OK | OK | OK | OK | ![]() | ||||||||||||||||
kjohnson3 | macOS 13.7.7 Ventura / arm64 | OK | OK | OK | OK | ![]() | ||||||||||||||||
taishan | Linux (openEuler 24.03 LTS) / aarch64 | OK | OK | OK | ||||||||||||||||||
Package 227/245 | Hostname | OS / Arch | INSTALL | BUILD | CHECK | BUILD BIN | ||||||||||||||||
ToxicoGx 2.13.0 (landing page) Benjamin Haibe-Kains
| nebbiolo2 | Linux (Ubuntu 24.04.3 LTS) / x86_64 | OK | OK | OK | ![]() | ||||||||||||||||
lconway | macOS 12.7.6 Monterey / x86_64 | OK | OK | OK | OK | ![]() | ||||||||||||||||
kjohnson3 | macOS 13.7.7 Ventura / arm64 | OK | OK | OK | OK | ![]() | ||||||||||||||||
taishan | Linux (openEuler 24.03 LTS) / aarch64 | OK | OK | OK | ||||||||||||||||||
Package 228/245 | Hostname | OS / Arch | INSTALL | BUILD | CHECK | BUILD BIN | ||||||||||||||||
TPP 3.37.0 (landing page) Dorothee Childs
| nebbiolo2 | Linux (Ubuntu 24.04.3 LTS) / x86_64 | OK | OK | OK | ![]() | ||||||||||||||||
lconway | macOS 12.7.6 Monterey / x86_64 | OK | OK | OK | OK | ![]() | ||||||||||||||||
kjohnson3 | macOS 13.7.7 Ventura / arm64 | OK | OK | OK | OK | ![]() | ||||||||||||||||
taishan | Linux (openEuler 24.03 LTS) / aarch64 | OK | OK | OK | ||||||||||||||||||
Package 229/245 | Hostname | OS / Arch | INSTALL | BUILD | CHECK | BUILD BIN | ||||||||||||||||
TPP2D 1.25.2 (landing page) Nils Kurzawa
| nebbiolo2 | Linux (Ubuntu 24.04.3 LTS) / x86_64 | OK | OK | OK | ![]() | ||||||||||||||||
lconway | macOS 12.7.6 Monterey / x86_64 | OK | OK | OK | OK | ![]() | ||||||||||||||||
kjohnson3 | macOS 13.7.7 Ventura / arm64 | OK | OK | OK | OK | ![]() | ||||||||||||||||
taishan | Linux (openEuler 24.03 LTS) / aarch64 | OK | OK | OK | ||||||||||||||||||
Package 230/245 | Hostname | OS / Arch | INSTALL | BUILD | CHECK | BUILD BIN | ||||||||||||||||
transcriptogramer 1.31.0 (landing page) Diego Morais
| nebbiolo2 | Linux (Ubuntu 24.04.3 LTS) / x86_64 | OK | OK | OK | ![]() | ||||||||||||||||
lconway | macOS 12.7.6 Monterey / x86_64 | OK | OK | OK | OK | ![]() | ||||||||||||||||
kjohnson3 | macOS 13.7.7 Ventura / arm64 | OK | OK | OK | OK | ![]() | ||||||||||||||||
taishan | Linux (openEuler 24.03 LTS) / aarch64 | OK | OK | OK | ||||||||||||||||||
Package 231/245 | Hostname | OS / Arch | INSTALL | BUILD | CHECK | BUILD BIN | ||||||||||||||||
tRanslatome 1.47.0 (landing page) Toma Tebaldi
| nebbiolo2 | Linux (Ubuntu 24.04.3 LTS) / x86_64 | OK | OK | OK | ![]() | ||||||||||||||||
lconway | macOS 12.7.6 Monterey / x86_64 | OK | OK | OK | OK | ![]() | ||||||||||||||||
kjohnson3 | macOS 13.7.7 Ventura / arm64 | OK | OK | OK | OK | ![]() | ||||||||||||||||
taishan | Linux (openEuler 24.03 LTS) / aarch64 | OK | OK | OK | ||||||||||||||||||
Package 232/245 | Hostname | OS / Arch | INSTALL | BUILD | CHECK | BUILD BIN | ||||||||||||||||
TurboNorm 1.57.0 (landing page) Maarten van Iterson
| nebbiolo2 | Linux (Ubuntu 24.04.3 LTS) / x86_64 | OK | OK | OK | ![]() | ||||||||||||||||
lconway | macOS 12.7.6 Monterey / x86_64 | OK | OK | OK | OK | ![]() | ||||||||||||||||
kjohnson3 | macOS 13.7.7 Ventura / arm64 | OK | OK | OK | OK | ![]() | ||||||||||||||||
taishan | Linux (openEuler 24.03 LTS) / aarch64 | OK | OK | OK | ||||||||||||||||||
Package 233/245 | Hostname | OS / Arch | INSTALL | BUILD | CHECK | BUILD BIN | ||||||||||||||||
TVTB 1.35.2 (landing page) Kevin Rue-Albrecht
| nebbiolo2 | Linux (Ubuntu 24.04.3 LTS) / x86_64 | OK | OK | OK | ![]() | ||||||||||||||||
lconway | macOS 12.7.6 Monterey / x86_64 | OK | OK | OK | OK | ![]() | ||||||||||||||||
kjohnson3 | macOS 13.7.7 Ventura / arm64 | OK | OK | OK | OK | ![]() | ||||||||||||||||
taishan | Linux (openEuler 24.03 LTS) / aarch64 | OK | OK | OK | ||||||||||||||||||
Package 234/245 | Hostname | OS / Arch | INSTALL | BUILD | CHECK | BUILD BIN | ||||||||||||||||
tweeDEseq 1.55.0 (landing page) Dolors Pelegri-Siso
| nebbiolo2 | Linux (Ubuntu 24.04.3 LTS) / x86_64 | OK | OK | WARNINGS | ![]() | ||||||||||||||||
lconway | macOS 12.7.6 Monterey / x86_64 | OK | OK | WARNINGS | OK | ![]() | ||||||||||||||||
kjohnson3 | macOS 13.7.7 Ventura / arm64 | OK | OK | WARNINGS | OK | ![]() | ||||||||||||||||
taishan | Linux (openEuler 24.03 LTS) / aarch64 | OK | OK | WARNINGS | ||||||||||||||||||
Package 235/245 | Hostname | OS / Arch | INSTALL | BUILD | CHECK | BUILD BIN | ||||||||||||||||
unifiedWMWqPCR 1.45.0 (landing page) Joris Meys
| nebbiolo2 | Linux (Ubuntu 24.04.3 LTS) / x86_64 | OK | OK | OK | ![]() | ||||||||||||||||
lconway | macOS 12.7.6 Monterey / x86_64 | OK | OK | OK | OK | ![]() | ||||||||||||||||
kjohnson3 | macOS 13.7.7 Ventura / arm64 | OK | OK | OK | OK | ![]() | ||||||||||||||||
taishan | Linux (openEuler 24.03 LTS) / aarch64 | OK | OK | OK | ||||||||||||||||||
Package 236/245 | Hostname | OS / Arch | INSTALL | BUILD | CHECK | BUILD BIN | ||||||||||||||||
variancePartition 1.39.3 (landing page) Gabriel E. Hoffman
| nebbiolo2 | Linux (Ubuntu 24.04.3 LTS) / x86_64 | OK | OK | OK | ![]() | ||||||||||||||||
lconway | macOS 12.7.6 Monterey / x86_64 | OK | OK | OK | OK | ![]() | ||||||||||||||||
kjohnson3 | macOS 13.7.7 Ventura / arm64 | OK | OK | OK | OK | ![]() | ||||||||||||||||
taishan | Linux (openEuler 24.03 LTS) / aarch64 | OK | OK | OK | ||||||||||||||||||
Package 237/245 | Hostname | OS / Arch | INSTALL | BUILD | CHECK | BUILD BIN | ||||||||||||||||
vsclust 1.11.2 (landing page) Veit Schwammle
| nebbiolo2 | Linux (Ubuntu 24.04.3 LTS) / x86_64 | OK | OK | OK | ![]() | ||||||||||||||||
lconway | macOS 12.7.6 Monterey / x86_64 | OK | OK | OK | OK | ![]() | ||||||||||||||||
kjohnson3 | macOS 13.7.7 Ventura / arm64 | OK | OK | OK | OK | ![]() | ||||||||||||||||
taishan | Linux (openEuler 24.03 LTS) / aarch64 | OK | OK | OK | ||||||||||||||||||
Package 238/245 | Hostname | OS / Arch | INSTALL | BUILD | CHECK | BUILD BIN | ||||||||||||||||
vsn 3.77.0 (landing page) Wolfgang Huber
| nebbiolo2 | Linux (Ubuntu 24.04.3 LTS) / x86_64 | OK | OK | OK | ![]() | ||||||||||||||||
lconway | macOS 12.7.6 Monterey / x86_64 | OK | OK | OK | OK | ![]() | ||||||||||||||||
kjohnson3 | macOS 13.7.7 Ventura / arm64 | OK | OK | OK | OK | ![]() | ||||||||||||||||
taishan | Linux (openEuler 24.03 LTS) / aarch64 | OK | OK | OK | ||||||||||||||||||
Package 239/245 | Hostname | OS / Arch | INSTALL | BUILD | CHECK | BUILD BIN | ||||||||||||||||
wateRmelon 2.15.0 (landing page) Leo C Schalkwyk
| nebbiolo2 | Linux (Ubuntu 24.04.3 LTS) / x86_64 | OK | OK | WARNINGS | ![]() | ||||||||||||||||
lconway | macOS 12.7.6 Monterey / x86_64 | OK | OK | WARNINGS | OK | ![]() | ||||||||||||||||
kjohnson3 | macOS 13.7.7 Ventura / arm64 | OK | OK | WARNINGS | OK | ![]() | ||||||||||||||||
taishan | Linux (openEuler 24.03 LTS) / aarch64 | OK | OK | WARNINGS | ||||||||||||||||||
Package 240/245 | Hostname | OS / Arch | INSTALL | BUILD | CHECK | BUILD BIN | ||||||||||||||||
weitrix 1.21.0 (landing page) Paul Harrison
| nebbiolo2 | Linux (Ubuntu 24.04.3 LTS) / x86_64 | OK | OK | OK | ![]() | ||||||||||||||||
lconway | macOS 12.7.6 Monterey / x86_64 | OK | OK | OK | OK | ![]() | ||||||||||||||||
kjohnson3 | macOS 13.7.7 Ventura / arm64 | OK | OK | OK | OK | ![]() | ||||||||||||||||
taishan | Linux (openEuler 24.03 LTS) / aarch64 | OK | OK | OK | ||||||||||||||||||
Package 241/245 | Hostname | OS / Arch | INSTALL | BUILD | CHECK | BUILD BIN | ||||||||||||||||
Wrench 1.27.0 (landing page) Hector Corrada Bravo
| nebbiolo2 | Linux (Ubuntu 24.04.3 LTS) / x86_64 | OK | OK | OK | ![]() | ||||||||||||||||
lconway | macOS 12.7.6 Monterey / x86_64 | OK | OK | OK | OK | ![]() | ||||||||||||||||
kjohnson3 | macOS 13.7.7 Ventura / arm64 | OK | OK | OK | OK | ![]() | ||||||||||||||||
taishan | Linux (openEuler 24.03 LTS) / aarch64 | OK | OK | OK | ||||||||||||||||||
Package 242/245 | Hostname | OS / Arch | INSTALL | BUILD | CHECK | BUILD BIN | ||||||||||||||||
XAItest 1.1.5 (landing page) Ghislain FIEVET
| nebbiolo2 | Linux (Ubuntu 24.04.3 LTS) / x86_64 | OK | OK | WARNINGS | ![]() | ||||||||||||||||
lconway | macOS 12.7.6 Monterey / x86_64 | OK | OK | WARNINGS | OK | ![]() | ||||||||||||||||
kjohnson3 | macOS 13.7.7 Ventura / arm64 | OK | OK | WARNINGS | OK | ![]() | ||||||||||||||||
taishan | Linux (openEuler 24.03 LTS) / aarch64 | OK | OK | WARNINGS | ||||||||||||||||||
Package 243/245 | Hostname | OS / Arch | INSTALL | BUILD | CHECK | BUILD BIN | ||||||||||||||||
yamss 1.35.0 (landing page) Leslie Myint
| nebbiolo2 | Linux (Ubuntu 24.04.3 LTS) / x86_64 | OK | OK | OK | ![]() | ||||||||||||||||
lconway | macOS 12.7.6 Monterey / x86_64 | OK | OK | OK | OK | ![]() | ||||||||||||||||
kjohnson3 | macOS 13.7.7 Ventura / arm64 | OK | OK | OK | OK | ![]() | ||||||||||||||||
taishan | Linux (openEuler 24.03 LTS) / aarch64 | OK | OK | OK | ||||||||||||||||||
Package 244/245 | Hostname | OS / Arch | INSTALL | BUILD | CHECK | BUILD BIN | ||||||||||||||||
yarn 1.35.0 (landing page) Joseph N Paulson
| nebbiolo2 | Linux (Ubuntu 24.04.3 LTS) / x86_64 | OK | OK | OK | ![]() | ||||||||||||||||
lconway | macOS 12.7.6 Monterey / x86_64 | OK | OK | OK | OK | ![]() | ||||||||||||||||
kjohnson3 | macOS 13.7.7 Ventura / arm64 | OK | OK | OK | OK | ![]() | ||||||||||||||||
taishan | Linux (openEuler 24.03 LTS) / aarch64 | OK | OK | OK | ||||||||||||||||||
Package 245/245 | Hostname | OS / Arch | INSTALL | BUILD | CHECK | BUILD BIN | ||||||||||||||||
zenith 1.11.0 (landing page) Gabriel Hoffman
| nebbiolo2 | Linux (Ubuntu 24.04.3 LTS) / x86_64 | OK | OK | WARNINGS | ![]() | ||||||||||||||||
lconway | macOS 12.7.6 Monterey / x86_64 | OK | OK | WARNINGS | OK | ![]() | ||||||||||||||||
kjohnson3 | macOS 13.7.7 Ventura / arm64 | OK | OK | WARNINGS | OK | ![]() | ||||||||||||||||
taishan | Linux (openEuler 24.03 LTS) / aarch64 | OK | OK | WARNINGS | ||||||||||||||||||