Back to Multiple platform build/check report for BioC 3.22:   simplified   long
ABCDEFGHIJKLMNO[P]QRSTUVWXYZ

This page was generated on 2025-10-20 12:04 -0400 (Mon, 20 Oct 2025).

HostnameOSArch (*)R versionInstalled pkgs
nebbiolo2Linux (Ubuntu 24.04.3 LTS)x86_644.5.1 Patched (2025-08-23 r88802) -- "Great Square Root" 4887
lconwaymacOS 12.7.6 Montereyx86_644.5.1 Patched (2025-09-10 r88807) -- "Great Square Root" 4677
kjohnson3macOS 13.7.7 Venturaarm644.5.1 Patched (2025-09-10 r88807) -- "Great Square Root" 4622
taishanLinux (openEuler 24.03 LTS)aarch644.5.0 (2025-04-11) -- "How About a Twenty-Six" 4632
Click on any hostname to see more info about the system (e.g. compilers)      (*) as reported by 'uname -p', except on Windows and Mac OS X

Package 1645/2353HostnameOS / ArchINSTALLBUILDCHECKBUILD BIN
PRONE 1.3.2  (landing page)
Lis Arend
Snapshot Date: 2025-10-19 13:45 -0400 (Sun, 19 Oct 2025)
git_url: https://git.bioconductor.org/packages/PRONE
git_branch: devel
git_last_commit: a875b50
git_last_commit_date: 2025-09-25 06:07:44 -0400 (Thu, 25 Sep 2025)
nebbiolo2Linux (Ubuntu 24.04.3 LTS) / x86_64  OK    OK    OK  UNNEEDED, same version is already published
lconwaymacOS 12.7.6 Monterey / x86_64  OK    OK    OK    OK  UNNEEDED, same version is already published
kjohnson3macOS 13.7.7 Ventura / arm64  OK    OK    OK    OK  UNNEEDED, same version is already published
taishanLinux (openEuler 24.03 LTS) / aarch64  OK    OK    OK  


CHECK results for PRONE on nebbiolo2

To the developers/maintainers of the PRONE package:
- Allow up to 24 hours (and sometimes 48 hours) for your latest push to git@git.bioconductor.org:packages/PRONE.git to reflect on this report. See Troubleshooting Build Report for more information.
- Use the following Renviron settings to reproduce errors and warnings.
- If 'R CMD check' started to fail recently on the Linux builder(s) over a missing dependency, add the missing dependency to 'Suggests:' in your DESCRIPTION file. See Renviron.bioc for more information.

raw results


Summary

Package: PRONE
Version: 1.3.2
Command: /home/biocbuild/bbs-3.22-bioc/R/bin/R CMD check --install=check:PRONE.install-out.txt --library=/home/biocbuild/bbs-3.22-bioc/R/site-library --timings PRONE_1.3.2.tar.gz
StartedAt: 2025-10-20 03:31:47 -0400 (Mon, 20 Oct 2025)
EndedAt: 2025-10-20 03:39:41 -0400 (Mon, 20 Oct 2025)
EllapsedTime: 473.4 seconds
RetCode: 0
Status:   OK  
CheckDir: PRONE.Rcheck
Warnings: 0

Command output

##############################################################################
##############################################################################
###
### Running command:
###
###   /home/biocbuild/bbs-3.22-bioc/R/bin/R CMD check --install=check:PRONE.install-out.txt --library=/home/biocbuild/bbs-3.22-bioc/R/site-library --timings PRONE_1.3.2.tar.gz
###
##############################################################################
##############################################################################


* using log directory ‘/home/biocbuild/bbs-3.22-bioc/meat/PRONE.Rcheck’
* using R version 4.5.1 Patched (2025-08-23 r88802)
* using platform: x86_64-pc-linux-gnu
* R was compiled by
    gcc (Ubuntu 13.3.0-6ubuntu2~24.04) 13.3.0
    GNU Fortran (Ubuntu 13.3.0-6ubuntu2~24.04) 13.3.0
* running under: Ubuntu 24.04.3 LTS
* using session charset: UTF-8
* checking for file ‘PRONE/DESCRIPTION’ ... OK
* checking extension type ... Package
* this is package ‘PRONE’ version ‘1.3.2’
* package encoding: UTF-8
* checking package namespace information ... OK
* checking package dependencies ... INFO
Imports includes 34 non-default packages.
Importing from so many packages makes the package vulnerable to any of
them becoming unavailable.  Move as many as possible to Suggests and
use conditionally.
* checking if this is a source package ... OK
* checking if there is a namespace ... OK
* checking for hidden files and directories ... OK
* checking for portable file names ... OK
* checking for sufficient/correct file permissions ... OK
* checking whether package ‘PRONE’ can be installed ... OK
* checking installed package size ... OK
* checking package directory ... OK
* checking ‘build’ directory ... OK
* checking DESCRIPTION meta-information ... OK
* checking top-level files ... OK
* checking for left-over files ... OK
* checking index information ... OK
* checking package subdirectories ... OK
* checking code files for non-ASCII characters ... OK
* checking R files for syntax errors ... OK
* checking whether the package can be loaded ... OK
* checking whether the package can be loaded with stated dependencies ... OK
* checking whether the package can be unloaded cleanly ... OK
* checking whether the namespace can be loaded with stated dependencies ... OK
* checking whether the namespace can be unloaded cleanly ... OK
* checking loading without being on the library search path ... OK
* checking dependencies in R code ... NOTE
Unexported objects imported by ':::' calls:
  ‘NormalyzerDE:::calculateAvgMadMem’
  ‘NormalyzerDE:::calculateAvgReplicateVariation’
  ‘NormalyzerDE:::calculatePercentageAvgDiffInMat’
  ‘NormalyzerDE:::calculateReplicateCV’
  ‘NormalyzerDE:::calculateSummarizedCorrelationVector’
  See the note in ?`:::` about the use of this operator.
* checking S3 generic/method consistency ... OK
* checking replacement functions ... OK
* checking foreign function calls ... OK
* checking R code for possible problems ... NOTE
plot_upset_DE: no visible global function definition for
  ‘packageVersion’
Undefined global functions or variables:
  packageVersion
Consider adding
  importFrom("utils", "packageVersion")
to your NAMESPACE file.
* checking Rd files ... OK
* checking Rd metadata ... OK
* checking Rd cross-references ... OK
* checking for missing documentation entries ... OK
* checking for code/documentation mismatches ... OK
* checking Rd \usage sections ... OK
* checking Rd contents ... OK
* checking for unstated dependencies in examples ... OK
* checking contents of ‘data’ directory ... OK
* checking data for non-ASCII characters ... OK
* checking data for ASCII and uncompressed saves ... OK
* checking files in ‘vignettes’ ... OK
* checking examples ... OK
* checking for unstated dependencies in vignettes ... OK
* checking package vignettes ... OK
* checking re-building of vignette outputs ... OK
* checking PDF version of manual ... OK
* DONE

Status: 2 NOTEs
See
  ‘/home/biocbuild/bbs-3.22-bioc/meat/PRONE.Rcheck/00check.log’
for details.


Installation output

PRONE.Rcheck/00install.out

##############################################################################
##############################################################################
###
### Running command:
###
###   /home/biocbuild/bbs-3.22-bioc/R/bin/R CMD INSTALL PRONE
###
##############################################################################
##############################################################################


* installing to library ‘/home/biocbuild/bbs-3.22-bioc/R/site-library’
* installing *source* package ‘PRONE’ ...
** this is package ‘PRONE’ version ‘1.3.2’
** using staged installation
** R
** data
** inst
** byte-compile and prepare package for lazy loading
** help
*** installing help indices
*** copying figures
** building package indices
** installing vignettes
** testing if installed package can be loaded from temporary location
** testing if installed package can be loaded from final location
** testing if installed package keeps a record of temporary installation path
* DONE (PRONE)

Tests output


Example timings

PRONE.Rcheck/PRONE-Ex.timings

nameusersystemelapsed
apply_thresholds0.0320.0010.033
detect_outliers_POMA1.7070.0831.790
eigenMSNorm0.5840.0610.646
export_data0.0260.0020.027
extract_consensus_DE_candidates0.0770.0010.079
filter_out_NA_proteins_by_threshold0.2020.0020.198
filter_out_complete_NA_proteins0.0500.0010.052
filter_out_proteins_by_ID0.1530.0010.155
filter_out_proteins_by_value0.1500.0030.154
get_NA_overview0.0350.0010.036
get_normalization_methods000
get_overview_DE0.0570.0010.058
get_proteins_by_value0.1390.0010.140
get_spiked_stats_DE0.0860.0000.086
globalIntNorm0.1260.0010.127
globalMeanNorm0.130.000.13
globalMedianNorm0.1330.0080.141
impute_se0.7520.0210.708
irsNorm0.0570.0010.058
limmaNorm0.070.000.07
load_data0.0490.0000.050
load_spike_data0.040.000.04
loessCycNorm0.1170.0050.122
loessFNorm0.0880.0000.087
meanNorm0.0430.0010.044
medianAbsDevNorm0.0960.0000.096
medianNorm0.0590.0020.061
normalize_se3.3550.0863.441
normalize_se_combination3.9850.1784.163
normalize_se_single3.090.093.18
normicsNorm2.9830.0283.011
plot_NA_density0.3960.0050.385
plot_NA_frequency0.2180.0020.205
plot_NA_heatmap1.2930.0201.313
plot_PCA1.3010.0221.322
plot_ROC_AUC_spiked1.1780.0161.177
plot_TP_FP_spiked_bar0.3160.0030.319
plot_TP_FP_spiked_box0.4140.0020.416
plot_TP_FP_spiked_scatter0.4440.0010.445
plot_boxplots4.4830.0534.445
plot_condition_overview0.2470.0260.273
plot_densities2.6580.0382.646
plot_fold_changes_spiked0.5670.0050.556
plot_heatmap3.7050.0573.762
plot_heatmap_DE1.2040.0051.209
plot_histogram_spiked0.4020.0030.390
plot_identified_spiked_proteins0.4530.0050.458
plot_intersection_enrichment0.7780.0172.676
plot_intragroup_PCV0.5840.0000.584
plot_intragroup_PEV0.4120.0020.414
plot_intragroup_PMAD0.4320.0020.434
plot_intragroup_correlation0.4160.0000.416
plot_jaccard_heatmap0.2950.0020.285
plot_logFC_thresholds_spiked0.6890.0040.693
plot_markers_boxplots0.8560.0020.851
plot_nr_prot_samples0.2720.0000.272
plot_overview_DE_bar0.4240.0010.425
plot_overview_DE_tile0.2380.0020.239
plot_profiles_spiked0.8190.0030.808
plot_pvalues_spiked0.4950.0070.502
plot_stats_spiked_heatmap0.4350.0020.437
plot_tot_int_samples0.2670.0010.268
plot_upset0.8380.0030.841
plot_upset_DE0.0300.0020.032
plot_volcano_DE3.9960.0054.002
quantileNorm0.0440.0000.046
readPRONE_example0.0000.0010.001
remove_POMA_outliers0.7410.0010.742
remove_assays_from_SE0.0450.0010.047
remove_reference_samples0.0450.0020.046
remove_samples_manually0.040.000.04
rlrMACycNorm0.5680.0040.572
rlrMANorm0.1220.0010.123
rlrNorm0.0860.0000.085
robnormNorm0.0740.0020.076
run_DE2.3150.0012.277
specify_comparisons0.0330.0020.030
subset_SE_by_norm0.0740.0030.077
tmmNorm0.1230.0030.126
vsnNorm1.0020.1051.107