| Back to Multiple platform build/check report for BioC 3.22: simplified long |
|
This page was generated on 2025-11-20 12:04 -0500 (Thu, 20 Nov 2025).
| Hostname | OS | Arch (*) | R version | Installed pkgs |
|---|---|---|---|---|
| nebbiolo2 | Linux (Ubuntu 24.04.3 LTS) | x86_64 | 4.5.2 (2025-10-31) -- "[Not] Part in a Rumble" | 4615 |
| merida1 | macOS 12.7.6 Monterey | x86_64 | 4.5.2 Patched (2025-11-05 r88990) -- "[Not] Part in a Rumble" | 4610 |
| kjohnson1 | macOS 13.7.5 Ventura | arm64 | 4.5.2 Patched (2025-11-04 r88984) -- "[Not] Part in a Rumble" | 4598 |
| taishan | Linux (openEuler 24.03 LTS) | aarch64 | 4.5.0 (2025-04-11) -- "How About a Twenty-Six" | 4668 |
| Click on any hostname to see more info about the system (e.g. compilers) (*) as reported by 'uname -p', except on Windows and Mac OS X | ||||
| Package 82/2361 | Hostname | OS / Arch | INSTALL | BUILD | CHECK | BUILD BIN | ||||||||
| anota2seq 1.32.0 (landing page) Christian Oertlin
| nebbiolo2 | Linux (Ubuntu 24.04.3 LTS) / x86_64 | OK | OK | WARNINGS | |||||||||
| merida1 | macOS 12.7.6 Monterey / x86_64 | OK | OK | OK | OK | |||||||||
| kjohnson1 | macOS 13.7.5 Ventura / arm64 | OK | OK | OK | OK | |||||||||
| taishan | Linux (openEuler 24.03 LTS) / aarch64 | OK | OK | OK | ||||||||||
|
To the developers/maintainers of the anota2seq package: - Allow up to 24 hours (and sometimes 48 hours) for your latest push to git@git.bioconductor.org:packages/anota2seq.git to reflect on this report. See Troubleshooting Build Report for more information. - Use the following Renviron settings to reproduce errors and warnings. - If 'R CMD check' started to fail recently on the Linux builder(s) over a missing dependency, add the missing dependency to 'Suggests:' in your DESCRIPTION file. See Renviron.bioc for more information. |
| Package: anota2seq |
| Version: 1.32.0 |
| Command: /Library/Frameworks/R.framework/Resources/bin/R CMD check --install=check:anota2seq.install-out.txt --library=/Library/Frameworks/R.framework/Resources/library --no-vignettes --timings anota2seq_1.32.0.tar.gz |
| StartedAt: 2025-11-18 03:48:17 -0500 (Tue, 18 Nov 2025) |
| EndedAt: 2025-11-18 03:58:00 -0500 (Tue, 18 Nov 2025) |
| EllapsedTime: 583.2 seconds |
| RetCode: 0 |
| Status: OK |
| CheckDir: anota2seq.Rcheck |
| Warnings: 0 |
##############################################################################
##############################################################################
###
### Running command:
###
### /Library/Frameworks/R.framework/Resources/bin/R CMD check --install=check:anota2seq.install-out.txt --library=/Library/Frameworks/R.framework/Resources/library --no-vignettes --timings anota2seq_1.32.0.tar.gz
###
##############################################################################
##############################################################################
* using log directory ‘/Users/biocbuild/bbs-3.22-bioc/meat/anota2seq.Rcheck’
* using R version 4.5.2 Patched (2025-11-05 r88990)
* using platform: x86_64-apple-darwin20
* R was compiled by
Apple clang version 14.0.0 (clang-1400.0.29.202)
GNU Fortran (GCC) 14.2.0
* running under: macOS Monterey 12.7.6
* using session charset: UTF-8
* using option ‘--no-vignettes’
* checking for file ‘anota2seq/DESCRIPTION’ ... OK
* this is package ‘anota2seq’ version ‘1.32.0’
* checking package namespace information ... OK
* checking package dependencies ... OK
* checking if this is a source package ... OK
* checking if there is a namespace ... OK
* checking for hidden files and directories ... OK
* checking for portable file names ... OK
* checking for sufficient/correct file permissions ... OK
* checking whether package ‘anota2seq’ can be installed ... OK
* checking installed package size ... OK
* checking package directory ... OK
* checking ‘build’ directory ... OK
* checking DESCRIPTION meta-information ... OK
* checking top-level files ... OK
* checking for left-over files ... OK
* checking index information ... OK
* checking package subdirectories ... OK
* checking code files for non-ASCII characters ... OK
* checking R files for syntax errors ... OK
* checking whether the package can be loaded ... OK
* checking whether the package can be loaded with stated dependencies ... OK
* checking whether the package can be unloaded cleanly ... OK
* checking whether the namespace can be loaded with stated dependencies ... OK
* checking whether the namespace can be unloaded cleanly ... OK
* checking dependencies in R code ... OK
* checking S3 generic/method consistency ... OK
* checking replacement functions ... OK
* checking foreign function calls ... OK
* checking R code for possible problems ... OK
* checking Rd files ... OK
* checking Rd metadata ... OK
* checking Rd cross-references ... OK
* checking for missing documentation entries ... OK
* checking for code/documentation mismatches ... OK
* checking Rd \usage sections ... OK
* checking Rd contents ... OK
* checking for unstated dependencies in examples ... OK
* checking contents of ‘data’ directory ... OK
* checking data for non-ASCII characters ... OK
* checking LazyData ... OK
* checking data for ASCII and uncompressed saves ... OK
* checking sizes of PDF files under ‘inst/doc’ ... OK
* checking files in ‘vignettes’ ... OK
* checking examples ... OK
Examples with CPU (user + system) or elapsed time > 5s
user system elapsed
anota2seqGetResidOutlierTest 88.026 0.592 90.587
anota2seqGetQualityControl 87.211 0.313 89.554
* checking for unstated dependencies in vignettes ... OK
* checking package vignettes ... OK
* checking running R code from vignettes ... SKIPPED
* checking re-building of vignette outputs ... SKIPPED
* checking PDF version of manual ... OK
* DONE
Status: OK
anota2seq.Rcheck/00install.out
############################################################################## ############################################################################## ### ### Running command: ### ### /Library/Frameworks/R.framework/Resources/bin/R CMD INSTALL anota2seq ### ############################################################################## ############################################################################## * installing to library ‘/Library/Frameworks/R.framework/Versions/4.5-x86_64/Resources/library’ * installing *source* package ‘anota2seq’ ... ** this is package ‘anota2seq’ version ‘1.32.0’ ** using staged installation ** R ** data *** moving datasets to lazyload DB ** inst ** byte-compile and prepare package for lazy loading ** help *** installing help indices ** building package indices ** installing vignettes ** testing if installed package can be loaded from temporary location ** testing if installed package can be loaded from final location ** testing if installed package keeps a record of temporary installation path * DONE (anota2seq)
anota2seq.Rcheck/anota2seq-Ex.timings
| name | user | system | elapsed | |
| anota2seq-plots | 0.000 | 0.001 | 0.002 | |
| anota2seqAnalyze | 2.063 | 0.049 | 2.145 | |
| anota2seqDataSetFromMatrix | 0.806 | 0.009 | 0.825 | |
| anota2seqGetContrasts | 1.139 | 0.019 | 1.168 | |
| anota2seqGetCovariates | 1.284 | 0.159 | 1.464 | |
| anota2seqGetDeltaData | 1.206 | 0.075 | 1.301 | |
| anota2seqGetNormalizedData | 0.064 | 0.007 | 0.070 | |
| anota2seqGetOutput | 1.142 | 0.011 | 1.164 | |
| anota2seqGetQualityControl | 87.211 | 0.313 | 89.554 | |
| anota2seqGetResidOutlierTest | 88.026 | 0.592 | 90.587 | |
| anota2seqGetThresholds | 1.144 | 0.022 | 1.176 | |
| anota2seqPerformQC | 0.000 | 0.000 | 0.001 | |
| anota2seqRegModes | 3.153 | 0.062 | 3.227 | |
| anota2seqResidOutlierTest | 0.000 | 0.000 | 0.001 | |
| anota2seqRun | 3.041 | 0.033 | 3.082 | |
| anota2seqSelSigGenes | 1.179 | 0.017 | 1.199 | |
| anota2seq_data | 0.031 | 0.006 | 0.038 | |
| show-Anota2seqDataSet-method | 0.230 | 0.009 | 0.239 | |