| Back to Multiple platform build/check report for BioC 3.22: simplified long |
|
This page was generated on 2025-11-20 12:05 -0500 (Thu, 20 Nov 2025).
| Hostname | OS | Arch (*) | R version | Installed pkgs |
|---|---|---|---|---|
| nebbiolo2 | Linux (Ubuntu 24.04.3 LTS) | x86_64 | 4.5.2 (2025-10-31) -- "[Not] Part in a Rumble" | 4615 |
| merida1 | macOS 12.7.6 Monterey | x86_64 | 4.5.2 Patched (2025-11-05 r88990) -- "[Not] Part in a Rumble" | 4610 |
| kjohnson1 | macOS 13.7.5 Ventura | arm64 | 4.5.2 Patched (2025-11-04 r88984) -- "[Not] Part in a Rumble" | 4598 |
| taishan | Linux (openEuler 24.03 LTS) | aarch64 | 4.5.0 (2025-04-11) -- "How About a Twenty-Six" | 4668 |
| Click on any hostname to see more info about the system (e.g. compilers) (*) as reported by 'uname -p', except on Windows and Mac OS X | ||||
| Package 1653/2361 | Hostname | OS / Arch | INSTALL | BUILD | CHECK | BUILD BIN | ||||||||
| PRONE 1.4.0 (landing page) Lis Arend
| nebbiolo2 | Linux (Ubuntu 24.04.3 LTS) / x86_64 | OK | OK | OK | |||||||||
| merida1 | macOS 12.7.6 Monterey / x86_64 | OK | OK | OK | OK | |||||||||
| kjohnson1 | macOS 13.7.5 Ventura / arm64 | OK | OK | OK | OK | |||||||||
| taishan | Linux (openEuler 24.03 LTS) / aarch64 | OK | OK | OK | ||||||||||
|
To the developers/maintainers of the PRONE package: - Allow up to 24 hours (and sometimes 48 hours) for your latest push to git@git.bioconductor.org:packages/PRONE.git to reflect on this report. See Troubleshooting Build Report for more information. - Use the following Renviron settings to reproduce errors and warnings. - If 'R CMD check' started to fail recently on the Linux builder(s) over a missing dependency, add the missing dependency to 'Suggests:' in your DESCRIPTION file. See Renviron.bioc for more information. |
| Package: PRONE |
| Version: 1.4.0 |
| Command: /Library/Frameworks/R.framework/Resources/bin/R CMD check --install=check:PRONE.install-out.txt --library=/Library/Frameworks/R.framework/Resources/library --no-vignettes --timings PRONE_1.4.0.tar.gz |
| StartedAt: 2025-11-18 12:21:07 -0500 (Tue, 18 Nov 2025) |
| EndedAt: 2025-11-18 12:32:58 -0500 (Tue, 18 Nov 2025) |
| EllapsedTime: 711.3 seconds |
| RetCode: 0 |
| Status: OK |
| CheckDir: PRONE.Rcheck |
| Warnings: 0 |
##############################################################################
##############################################################################
###
### Running command:
###
### /Library/Frameworks/R.framework/Resources/bin/R CMD check --install=check:PRONE.install-out.txt --library=/Library/Frameworks/R.framework/Resources/library --no-vignettes --timings PRONE_1.4.0.tar.gz
###
##############################################################################
##############################################################################
* using log directory ‘/Users/biocbuild/bbs-3.22-bioc/meat/PRONE.Rcheck’
* using R version 4.5.2 Patched (2025-11-05 r88990)
* using platform: x86_64-apple-darwin20
* R was compiled by
Apple clang version 14.0.0 (clang-1400.0.29.202)
GNU Fortran (GCC) 14.2.0
* running under: macOS Monterey 12.7.6
* using session charset: UTF-8
* using option ‘--no-vignettes’
* checking for file ‘PRONE/DESCRIPTION’ ... OK
* checking extension type ... Package
* this is package ‘PRONE’ version ‘1.4.0’
* package encoding: UTF-8
* checking package namespace information ... OK
* checking package dependencies ... INFO
Imports includes 34 non-default packages.
Importing from so many packages makes the package vulnerable to any of
them becoming unavailable. Move as many as possible to Suggests and
use conditionally.
* checking if this is a source package ... OK
* checking if there is a namespace ... OK
* checking for hidden files and directories ... OK
* checking for portable file names ... OK
* checking for sufficient/correct file permissions ... OK
* checking whether package ‘PRONE’ can be installed ... OK
* checking installed package size ... OK
* checking package directory ... OK
* checking ‘build’ directory ... OK
* checking DESCRIPTION meta-information ... OK
* checking top-level files ... OK
* checking for left-over files ... OK
* checking index information ... OK
* checking package subdirectories ... OK
* checking code files for non-ASCII characters ... OK
* checking R files for syntax errors ... OK
* checking whether the package can be loaded ... OK
* checking whether the package can be loaded with stated dependencies ... OK
* checking whether the package can be unloaded cleanly ... OK
* checking whether the namespace can be loaded with stated dependencies ... OK
* checking whether the namespace can be unloaded cleanly ... OK
* checking dependencies in R code ... NOTE
Unexported objects imported by ':::' calls:
‘NormalyzerDE:::calculateAvgMadMem’
‘NormalyzerDE:::calculateAvgReplicateVariation’
‘NormalyzerDE:::calculatePercentageAvgDiffInMat’
‘NormalyzerDE:::calculateReplicateCV’
‘NormalyzerDE:::calculateSummarizedCorrelationVector’
See the note in ?`:::` about the use of this operator.
* checking S3 generic/method consistency ... OK
* checking replacement functions ... OK
* checking foreign function calls ... OK
* checking R code for possible problems ... NOTE
plot_upset_DE: no visible global function definition for
‘packageVersion’
Undefined global functions or variables:
packageVersion
Consider adding
importFrom("utils", "packageVersion")
to your NAMESPACE file.
* checking Rd files ... OK
* checking Rd metadata ... OK
* checking Rd cross-references ... OK
* checking for missing documentation entries ... OK
* checking for code/documentation mismatches ... OK
* checking Rd \usage sections ... OK
* checking Rd contents ... OK
* checking for unstated dependencies in examples ... OK
* checking contents of ‘data’ directory ... OK
* checking data for non-ASCII characters ... OK
* checking data for ASCII and uncompressed saves ... OK
* checking files in ‘vignettes’ ... OK
* checking examples ... OK
Examples with CPU (user + system) or elapsed time > 5s
user system elapsed
normalize_se_single 11.455 0.132 12.110
plot_boxplots 11.391 0.145 11.738
normalize_se 11.288 0.209 12.093
normalize_se_combination 10.755 0.130 11.376
plot_volcano_DE 10.388 0.068 11.151
plot_heatmap 10.329 0.063 10.878
normicsNorm 10.035 0.074 10.187
plot_densities 6.682 0.060 6.871
run_DE 5.855 0.036 6.334
* checking for unstated dependencies in vignettes ... OK
* checking package vignettes ... OK
* checking running R code from vignettes ... SKIPPED
* checking re-building of vignette outputs ... SKIPPED
* checking PDF version of manual ... OK
* DONE
Status: 2 NOTEs
See
‘/Users/biocbuild/bbs-3.22-bioc/meat/PRONE.Rcheck/00check.log’
for details.
PRONE.Rcheck/00install.out
############################################################################## ############################################################################## ### ### Running command: ### ### /Library/Frameworks/R.framework/Resources/bin/R CMD INSTALL PRONE ### ############################################################################## ############################################################################## * installing to library ‘/Library/Frameworks/R.framework/Versions/4.5-x86_64/Resources/library’ * installing *source* package ‘PRONE’ ... ** this is package ‘PRONE’ version ‘1.4.0’ ** using staged installation ** R ** data ** inst ** byte-compile and prepare package for lazy loading ** help *** installing help indices *** copying figures ** building package indices ** installing vignettes ** testing if installed package can be loaded from temporary location ** testing if installed package can be loaded from final location ** testing if installed package keeps a record of temporary installation path * DONE (PRONE)
PRONE.Rcheck/PRONE-Ex.timings
| name | user | system | elapsed | |
| apply_thresholds | 0.055 | 0.008 | 0.066 | |
| detect_outliers_POMA | 3.478 | 0.193 | 4.010 | |
| eigenMSNorm | 1.592 | 0.147 | 1.755 | |
| export_data | 0.034 | 0.007 | 0.042 | |
| extract_consensus_DE_candidates | 0.157 | 0.010 | 0.168 | |
| filter_out_NA_proteins_by_threshold | 0.452 | 0.010 | 0.464 | |
| filter_out_complete_NA_proteins | 0.089 | 0.009 | 0.098 | |
| filter_out_proteins_by_ID | 0.366 | 0.011 | 0.378 | |
| filter_out_proteins_by_value | 0.376 | 0.010 | 0.387 | |
| get_NA_overview | 0.054 | 0.009 | 0.064 | |
| get_normalization_methods | 0.000 | 0.001 | 0.001 | |
| get_overview_DE | 0.074 | 0.010 | 0.085 | |
| get_proteins_by_value | 0.394 | 0.012 | 0.410 | |
| get_spiked_stats_DE | 0.132 | 0.015 | 0.154 | |
| globalIntNorm | 0.381 | 0.008 | 0.391 | |
| globalMeanNorm | 0.383 | 0.009 | 0.393 | |
| globalMedianNorm | 0.394 | 0.010 | 0.404 | |
| impute_se | 1.603 | 0.025 | 1.667 | |
| irsNorm | 0.105 | 0.008 | 0.116 | |
| limmaNorm | 0.149 | 0.008 | 0.164 | |
| load_data | 0.107 | 0.005 | 0.120 | |
| load_spike_data | 0.083 | 0.004 | 0.092 | |
| loessCycNorm | 0.289 | 0.022 | 0.328 | |
| loessFNorm | 0.148 | 0.008 | 0.162 | |
| meanNorm | 0.071 | 0.007 | 0.085 | |
| medianAbsDevNorm | 0.202 | 0.010 | 0.218 | |
| medianNorm | 0.107 | 0.007 | 0.119 | |
| normalize_se | 11.288 | 0.209 | 12.093 | |
| normalize_se_combination | 10.755 | 0.130 | 11.376 | |
| normalize_se_single | 11.455 | 0.132 | 12.110 | |
| normicsNorm | 10.035 | 0.074 | 10.187 | |
| plot_NA_density | 0.927 | 0.018 | 0.951 | |
| plot_NA_frequency | 0.502 | 0.014 | 0.519 | |
| plot_NA_heatmap | 3.392 | 0.116 | 3.525 | |
| plot_PCA | 3.382 | 0.019 | 3.421 | |
| plot_ROC_AUC_spiked | 2.846 | 0.038 | 2.917 | |
| plot_TP_FP_spiked_bar | 0.756 | 0.020 | 0.818 | |
| plot_TP_FP_spiked_box | 0.978 | 0.016 | 1.010 | |
| plot_TP_FP_spiked_scatter | 1.052 | 0.021 | 1.154 | |
| plot_boxplots | 11.391 | 0.145 | 11.738 | |
| plot_condition_overview | 0.614 | 0.014 | 0.641 | |
| plot_densities | 6.682 | 0.060 | 6.871 | |
| plot_fold_changes_spiked | 1.301 | 0.024 | 1.392 | |
| plot_heatmap | 10.329 | 0.063 | 10.878 | |
| plot_heatmap_DE | 2.879 | 0.038 | 3.007 | |
| plot_histogram_spiked | 0.961 | 0.017 | 1.036 | |
| plot_identified_spiked_proteins | 1.107 | 0.017 | 1.173 | |
| plot_intersection_enrichment | 1.971 | 0.064 | 3.306 | |
| plot_intragroup_PCV | 1.622 | 0.016 | 1.727 | |
| plot_intragroup_PEV | 1.070 | 0.012 | 1.139 | |
| plot_intragroup_PMAD | 1.107 | 0.013 | 1.180 | |
| plot_intragroup_correlation | 1.032 | 0.012 | 1.089 | |
| plot_jaccard_heatmap | 0.738 | 0.012 | 0.786 | |
| plot_logFC_thresholds_spiked | 1.680 | 0.023 | 1.789 | |
| plot_markers_boxplots | 2.086 | 0.016 | 2.254 | |
| plot_nr_prot_samples | 0.780 | 0.027 | 0.869 | |
| plot_overview_DE_bar | 1.099 | 0.014 | 1.232 | |
| plot_overview_DE_tile | 0.592 | 0.011 | 0.660 | |
| plot_profiles_spiked | 2.048 | 0.041 | 2.246 | |
| plot_pvalues_spiked | 1.212 | 0.023 | 1.312 | |
| plot_stats_spiked_heatmap | 0.927 | 0.020 | 1.003 | |
| plot_tot_int_samples | 0.667 | 0.010 | 0.712 | |
| plot_upset | 2.018 | 0.023 | 2.164 | |
| plot_upset_DE | 0.053 | 0.009 | 0.067 | |
| plot_volcano_DE | 10.388 | 0.068 | 11.151 | |
| quantileNorm | 0.072 | 0.009 | 0.086 | |
| readPRONE_example | 0.002 | 0.001 | 0.004 | |
| remove_POMA_outliers | 1.534 | 0.013 | 1.620 | |
| remove_assays_from_SE | 0.077 | 0.008 | 0.087 | |
| remove_reference_samples | 0.068 | 0.007 | 0.080 | |
| remove_samples_manually | 0.064 | 0.008 | 0.078 | |
| rlrMACycNorm | 1.617 | 0.013 | 1.714 | |
| rlrMANorm | 0.215 | 0.008 | 0.237 | |
| rlrNorm | 0.173 | 0.008 | 0.191 | |
| robnormNorm | 0.185 | 0.009 | 0.204 | |
| run_DE | 5.855 | 0.036 | 6.334 | |
| specify_comparisons | 0.038 | 0.008 | 0.055 | |
| subset_SE_by_norm | 0.166 | 0.008 | 0.193 | |
| tmmNorm | 0.284 | 0.017 | 0.329 | |
| vsnNorm | 0.129 | 0.008 | 0.167 | |