Back to Multiple platform build/check report for BioC 3.22:   simplified   long
ABCDEFGHIJKL[M]NOPQRSTUVWXYZ

This page was generated on 2025-11-20 12:05 -0500 (Thu, 20 Nov 2025).

HostnameOSArch (*)R versionInstalled pkgs
nebbiolo2Linux (Ubuntu 24.04.3 LTS)x86_644.5.2 (2025-10-31) -- "[Not] Part in a Rumble" 4615
merida1macOS 12.7.6 Montereyx86_644.5.2 Patched (2025-11-05 r88990) -- "[Not] Part in a Rumble" 4610
kjohnson1macOS 13.7.5 Venturaarm644.5.2 Patched (2025-11-04 r88984) -- "[Not] Part in a Rumble" 4598
taishanLinux (openEuler 24.03 LTS)aarch644.5.0 (2025-04-11) -- "How About a Twenty-Six" 4668
Click on any hostname to see more info about the system (e.g. compilers)      (*) as reported by 'uname -p', except on Windows and Mac OS X

Package 1318/2361HostnameOS / ArchINSTALLBUILDCHECKBUILD BIN
MIRit 1.6.0  (landing page)
Jacopo Ronchi
Snapshot Date: 2025-11-17 13:45 -0500 (Mon, 17 Nov 2025)
git_url: https://git.bioconductor.org/packages/MIRit
git_branch: RELEASE_3_22
git_last_commit: 2274523
git_last_commit_date: 2025-10-29 11:27:39 -0500 (Wed, 29 Oct 2025)
nebbiolo2Linux (Ubuntu 24.04.3 LTS) / x86_64  OK    OK    ERROR  
merida1macOS 12.7.6 Monterey / x86_64  OK    OK    ERROR    OK  
kjohnson1macOS 13.7.5 Ventura / arm64  OK    OK    ERROR    OK  
taishanLinux (openEuler 24.03 LTS) / aarch64  OK    OK    ERROR  


CHECK results for MIRit on merida1

To the developers/maintainers of the MIRit package:
- Allow up to 24 hours (and sometimes 48 hours) for your latest push to git@git.bioconductor.org:packages/MIRit.git to reflect on this report. See Troubleshooting Build Report for more information.
- Use the following Renviron settings to reproduce errors and warnings.
- If 'R CMD check' started to fail recently on the Linux builder(s) over a missing dependency, add the missing dependency to 'Suggests:' in your DESCRIPTION file. See Renviron.bioc for more information.

raw results


Summary

Package: MIRit
Version: 1.6.0
Command: /Library/Frameworks/R.framework/Resources/bin/R CMD check --install=check:MIRit.install-out.txt --library=/Library/Frameworks/R.framework/Resources/library --no-vignettes --timings MIRit_1.6.0.tar.gz
StartedAt: 2025-11-18 10:24:58 -0500 (Tue, 18 Nov 2025)
EndedAt: 2025-11-18 10:38:03 -0500 (Tue, 18 Nov 2025)
EllapsedTime: 785.4 seconds
RetCode: 1
Status:   ERROR  
CheckDir: MIRit.Rcheck
Warnings: NA

Command output

##############################################################################
##############################################################################
###
### Running command:
###
###   /Library/Frameworks/R.framework/Resources/bin/R CMD check --install=check:MIRit.install-out.txt --library=/Library/Frameworks/R.framework/Resources/library --no-vignettes --timings MIRit_1.6.0.tar.gz
###
##############################################################################
##############################################################################


* using log directory ‘/Users/biocbuild/bbs-3.22-bioc/meat/MIRit.Rcheck’
* using R version 4.5.2 Patched (2025-11-05 r88990)
* using platform: x86_64-apple-darwin20
* R was compiled by
    Apple clang version 14.0.0 (clang-1400.0.29.202)
    GNU Fortran (GCC) 14.2.0
* running under: macOS Monterey 12.7.6
* using session charset: UTF-8
* using option ‘--no-vignettes’
* checking for file ‘MIRit/DESCRIPTION’ ... OK
* this is package ‘MIRit’ version ‘1.6.0’
* package encoding: UTF-8
* checking package namespace information ... OK
* checking package dependencies ... OK
* checking if this is a source package ... OK
* checking if there is a namespace ... OK
* checking for hidden files and directories ... OK
* checking for portable file names ... OK
* checking for sufficient/correct file permissions ... OK
* checking whether package ‘MIRit’ can be installed ... OK
* used C++ compiler: ‘Apple clang version 14.0.0 (clang-1400.0.29.202)’
* used SDK: ‘MacOSX11.3.1.sdk’
* checking installed package size ... OK
* checking package directory ... OK
* checking ‘build’ directory ... OK
* checking DESCRIPTION meta-information ... OK
* checking top-level files ... OK
* checking for left-over files ... OK
* checking index information ... OK
* checking package subdirectories ... OK
* checking code files for non-ASCII characters ... OK
* checking R files for syntax errors ... OK
* checking whether the package can be loaded ... OK
* checking whether the package can be loaded with stated dependencies ... OK
* checking whether the package can be unloaded cleanly ... OK
* checking whether the namespace can be loaded with stated dependencies ... OK
* checking whether the namespace can be unloaded cleanly ... OK
* checking dependencies in R code ... NOTE
Unexported objects imported by ':::' calls:
  'graphite:::convertEdges' 'graphite:::selectDb'
  See the note in ?`:::` about the use of this operator.
* checking S3 generic/method consistency ... OK
* checking replacement functions ... OK
* checking foreign function calls ... OK
* checking R code for possible problems ... OK
* checking Rd files ... OK
* checking Rd metadata ... OK
* checking Rd cross-references ... NOTE
Non-topic package-anchored link(s) in Rd file 'deAnalysis.Rd':
  ‘[limma:ebayes]{limma::eBayes()}’
  ‘[limma:dupcor]{limma::duplicateCorrelation()}’

See section 'Cross-references' in the 'Writing R Extensions' manual.

Found the following Rd file(s) with Rd \link{} targets missing package
anchors:
  MirnaExperiment-class.Rd: DataFrame
  gseaPlot.Rd: ggplot2
Please provide package anchors for all Rd \link{} targets not in the
package itself and the base packages.
* checking for missing documentation entries ... OK
* checking for code/documentation mismatches ... OK
* checking Rd \usage sections ... OK
* checking Rd contents ... OK
* checking for unstated dependencies in examples ... OK
* checking contents of ‘data’ directory ... OK
* checking data for non-ASCII characters ... OK
* checking data for ASCII and uncompressed saves ... OK
* checking R/sysdata.rda ... OK
* checking line endings in C/C++/Fortran sources/headers ... OK
* checking compiled code ... NOTE
Note: information on .o files is not available
* checking files in ‘vignettes’ ... OK
* checking examples ... OK
Examples with CPU (user + system) or elapsed time > 5s
                   user system elapsed
enrichTargets    71.783  2.549  77.910
mirnaIntegration  5.872  0.990   6.230
listPathways      0.582  0.069   7.337
* checking for unstated dependencies in ‘tests’ ... OK
* checking tests ...
  Running ‘testthat.R’
 ERROR
Running the tests in ‘tests/testthat.R’ failed.
Last 13 lines of output:
    'test-targets.R:21:5'
  • On CRAN (1): 'test-utils.R:1:1'
  
  ══ Failed tests ════════════════════════════════════════════════════════════════
  ── Error ('test-topological-integration.R:23:5'): miRNA augmented pathways are created properly ──
  Error: unable to find an inherited method for function 'nodes' for signature 'object = "NULL"'
  Backtrace:
      ▆
   1. └─graph::nodes(ths)
   2.   └─methods (local) `<fn>`(`<list>`, `<stndrdGn>`, `<env>`)
  
  [ FAIL 1 | WARN 0 | SKIP 5 | PASS 31 ]
  Error:
  ! Test failures.
  Execution halted
* checking for unstated dependencies in vignettes ... OK
* checking package vignettes ... OK
* checking running R code from vignettes ... SKIPPED
* checking re-building of vignette outputs ... SKIPPED
* checking PDF version of manual ... OK
* DONE

Status: 1 ERROR, 3 NOTEs
See
  ‘/Users/biocbuild/bbs-3.22-bioc/meat/MIRit.Rcheck/00check.log’
for details.


Installation output

MIRit.Rcheck/00install.out

##############################################################################
##############################################################################
###
### Running command:
###
###   /Library/Frameworks/R.framework/Resources/bin/R CMD INSTALL MIRit
###
##############################################################################
##############################################################################


* installing to library ‘/Library/Frameworks/R.framework/Versions/4.5-x86_64/Resources/library’
* installing *source* package ‘MIRit’ ...
** this is package ‘MIRit’ version ‘1.6.0’
** using staged installation
** libs
using C++ compiler: ‘Apple clang version 14.0.0 (clang-1400.0.29.202)’
using SDK: ‘MacOSX11.3.1.sdk’
clang++ -arch x86_64 -std=gnu++17 -I"/Library/Frameworks/R.framework/Resources/include" -DNDEBUG  -I'/Library/Frameworks/R.framework/Versions/4.5-x86_64/Resources/library/Rcpp/include' -I/opt/R/x86_64/include    -fPIC  -falign-functions=64 -Wall -g -O2   -c RcppExports.cpp -o RcppExports.o
clang++ -arch x86_64 -std=gnu++17 -I"/Library/Frameworks/R.framework/Resources/include" -DNDEBUG  -I'/Library/Frameworks/R.framework/Versions/4.5-x86_64/Resources/library/Rcpp/include' -I/opt/R/x86_64/include    -fPIC  -falign-functions=64 -Wall -g -O2   -c pathwayScore.cpp -o pathwayScore.o
clang++ -arch x86_64 -std=gnu++17 -dynamiclib -Wl,-headerpad_max_install_names -undefined dynamic_lookup -L/Library/Frameworks/R.framework/Resources/lib -L/opt/R/x86_64/lib -o MIRit.so RcppExports.o pathwayScore.o -F/Library/Frameworks/R.framework/.. -framework R
installing to /Library/Frameworks/R.framework/Versions/4.5-x86_64/Resources/library/00LOCK-MIRit/00new/MIRit/libs
** R
** data
** inst
** byte-compile and prepare package for lazy loading
** help
*** installing help indices
*** copying figures
** building package indices
** installing vignettes
** testing if installed package can be loaded from temporary location
** checking absolute paths in shared objects and dynamic libraries
** testing if installed package can be loaded from final location
** testing if installed package keeps a record of temporary installation path
* DONE (MIRit)

Tests output

MIRit.Rcheck/tests/testthat.Rout.fail


R version 4.5.2 Patched (2025-11-05 r88990) -- "[Not] Part in a Rumble"
Copyright (C) 2025 The R Foundation for Statistical Computing
Platform: x86_64-apple-darwin20

R is free software and comes with ABSOLUTELY NO WARRANTY.
You are welcome to redistribute it under certain conditions.
Type 'license()' or 'licence()' for distribution details.

R is a collaborative project with many contributors.
Type 'contributors()' for more information and
'citation()' on how to cite R or R packages in publications.

Type 'demo()' for some demos, 'help()' for on-line help, or
'help.start()' for an HTML browser interface to help.
Type 'q()' to quit R.

> # This file is part of the standard setup for testthat.
> # It is recommended that you do not modify it.
> #
> # Where should you do additional test configuration?
> # Learn more about the roles of various files in:
> # * https://r-pkgs.org/tests.html
> # * https://testthat.r-lib.org/reference/test_package.html#special-files
> 
> library(testthat)
> library(MIRit)
Loading required package: MultiAssayExperiment
Loading required package: SummarizedExperiment
Loading required package: MatrixGenerics
Loading required package: matrixStats

Attaching package: 'MatrixGenerics'

The following objects are masked from 'package:matrixStats':

    colAlls, colAnyNAs, colAnys, colAvgsPerRowSet, colCollapse,
    colCounts, colCummaxs, colCummins, colCumprods, colCumsums,
    colDiffs, colIQRDiffs, colIQRs, colLogSumExps, colMadDiffs,
    colMads, colMaxs, colMeans2, colMedians, colMins, colOrderStats,
    colProds, colQuantiles, colRanges, colRanks, colSdDiffs, colSds,
    colSums2, colTabulates, colVarDiffs, colVars, colWeightedMads,
    colWeightedMeans, colWeightedMedians, colWeightedSds,
    colWeightedVars, rowAlls, rowAnyNAs, rowAnys, rowAvgsPerColSet,
    rowCollapse, rowCounts, rowCummaxs, rowCummins, rowCumprods,
    rowCumsums, rowDiffs, rowIQRDiffs, rowIQRs, rowLogSumExps,
    rowMadDiffs, rowMads, rowMaxs, rowMeans2, rowMedians, rowMins,
    rowOrderStats, rowProds, rowQuantiles, rowRanges, rowRanks,
    rowSdDiffs, rowSds, rowSums2, rowTabulates, rowVarDiffs, rowVars,
    rowWeightedMads, rowWeightedMeans, rowWeightedMedians,
    rowWeightedSds, rowWeightedVars

Loading required package: GenomicRanges
Loading required package: stats4
Loading required package: BiocGenerics
Loading required package: generics

Attaching package: 'generics'

The following objects are masked from 'package:base':

    as.difftime, as.factor, as.ordered, intersect, is.element, setdiff,
    setequal, union


Attaching package: 'BiocGenerics'

The following objects are masked from 'package:stats':

    IQR, mad, sd, var, xtabs

The following objects are masked from 'package:base':

    Filter, Find, Map, Position, Reduce, anyDuplicated, aperm, append,
    as.data.frame, basename, cbind, colnames, dirname, do.call,
    duplicated, eval, evalq, get, grep, grepl, is.unsorted, lapply,
    mapply, match, mget, order, paste, pmax, pmax.int, pmin, pmin.int,
    rank, rbind, rownames, sapply, saveRDS, table, tapply, unique,
    unsplit, which.max, which.min

Loading required package: S4Vectors

Attaching package: 'S4Vectors'

The following object is masked from 'package:utils':

    findMatches

The following objects are masked from 'package:base':

    I, expand.grid, unname

Loading required package: IRanges
Loading required package: Seqinfo
Loading required package: Biobase
Welcome to Bioconductor

    Vignettes contain introductory material; view with
    'browseVignettes()'. To cite Bioconductor, see
    'citation("Biobase")', and for packages 'citation("pkgname")'.


Attaching package: 'Biobase'

The following object is masked from 'package:MatrixGenerics':

    rowMedians

The following objects are masked from 'package:matrixStats':

    anyMissing, rowMedians

> 
> test_check("MIRit")
Performing differential expression analysis with limma...
Differential expression analysis reported 17 significant miRNAs with p < 0.05 (correction: fdr). You can use the 'mirnaDE()' function to access results.
Performing differential expression analysis with edgeR...
Differential expression analysis reported 5 significant miRNAs with p < 0.05 (correction: fdr). You can use the 'mirnaDE()' function to access results.
Performing differential expression analysis with voom...
Differential expression analysis reported 8 significant miRNAs with p < 0.05 (correction: fdr). You can use the 'mirnaDE()' function to access results.
Performing differential expression analysis with limma...
Differential expression analysis reported 3 significant miRNAs with p < 0.05 (correction: fdr). You can use the 'mirnaDE()' function to access results.
Performing the enrichment of upregulated genes...
Performing the enrichment of downregulated genes...
The enrichment of genes reported 1 significantly enriched terms for downregulated genes and 0 for upregulated genes.
Ranking genes based on signed.pval...
Performing gene-set enrichment analysis (GSEA)...
GSEA reported 10 significantly enriched terms.
Performing Correlation Adjusted MEan RAnk gene set test (CAMERA)...
CAMERA reported 2 significantly enriched terms.
As specified by the user, a correlation will be used.
Performing Spearman's correlation analysis...
A statistically significant correlation between 3 miRNA-target pairs was found!
As specified by the user, a association will be used.
Performing One-sided Fisher's exact test...
A statistically significant association between 5 DE-miRNAs and 6 genes was found!
As specified by the user, a association will be used.
Performing One-sided Fisher's exact test with Lancaster's mid-p correction...
A statistically significant association between 5 DE-miRNAs and 6 genes was found!
As specified by the user, a association will be used.
Performing One-sided Boschloo's exact test...
A statistically significant association between 2 DE-miRNAs and 1 genes was found!
As specified by the user, a fry will be used.
Performing miRNA-gene integrative analysis using 'fry' method...
A statistically significant association between 2 DE-miRNAs and 4 genes was found!
As specified by the user, a correlation will be used.
Performing Spearman's correlation analysis...
A statistically significant correlation between 169 miRNA-target pairs was found!
Downloading pathways from KEGG database...
Converting identifiers to gene symbols...
Adding miRNA-gene interactions to biological pathways...
Performing topological sorting of pathway nodes...
Saving _problems/test-topological-integration-23.R
Calculating pathway scores...
Generating random permutations...
Calculating p-values with 100 permutations...
Correcting p-values through the max-T procedure...
The topologically-aware integrative pathway analysis reported 3 significantly altered pathways!
As specified by the user, a association will be used.
Performing One-sided Fisher's exact test...
A statistically significant association between 3 DE-miRNAs and 5 genes was found!
As specified by the user, a fry will be used.
Performing miRNA-gene integrative analysis using 'fry' method...
A statistically significant association between 2 DE-miRNAs and 4 genes was found!
[ FAIL 1 | WARN 0 | SKIP 5 | PASS 31 ]

══ Skipped tests (5) ═══════════════════════════════════════════════════════════
• On Bioconductor (4): 'test-association.R:13:5',
  'test-differential-expression.R:17:5', 'test-targets.R:3:5',
  'test-targets.R:21:5'
• On CRAN (1): 'test-utils.R:1:1'

══ Failed tests ════════════════════════════════════════════════════════════════
── Error ('test-topological-integration.R:23:5'): miRNA augmented pathways are created properly ──
Error: unable to find an inherited method for function 'nodes' for signature 'object = "NULL"'
Backtrace:
    ▆
 1. └─graph::nodes(ths)
 2.   └─methods (local) `<fn>`(`<list>`, `<stndrdGn>`, `<env>`)

[ FAIL 1 | WARN 0 | SKIP 5 | PASS 31 ]
Error:
! Test failures.
Execution halted

Example timings

MIRit.Rcheck/MIRit-Ex.timings

nameusersystemelapsed
MirnaExperiment0.9380.0230.966
addDifferentialExpression1.0060.0241.041
augmentedPathways0.0660.0020.069
batchCorrection0.6830.0130.698
deAccessors0.0010.0010.002
deAnalysis0.0010.0000.001
enrichGenes0.0000.0000.001
enrichTargets71.783 2.54977.910
enrichedFeatures0.0180.0010.020
enrichmentBarplot0.8990.0160.920
enrichmentDatabase0.0000.0010.000
enrichmentDotplot1.2760.0151.300
enrichmentMethod0.0000.0000.001
enrichmentMetric0.0000.0000.001
enrichmentResults0.0010.0010.000
findMirnaSNPs0.0000.0010.001
geneSet0.0000.0000.001
getEvidence000
getTargets0.0000.0000.001
gseaPlot0.7580.0500.812
gseaRidgeplot0.8970.0270.934
integratedPathways0.0000.0000.001
integration0.0200.0240.044
integrationDatabase0.0010.0000.001
integrationDotplot0.9340.0060.949
listPathways0.5820.0697.337
loadExamples0.0000.0000.001
mirVariantPlot000
mirnaIntegration5.8720.9906.230
mirnaTargets0.0010.0010.001
pairedSamples0.0000.0000.001
plotCorrelation1.5880.2641.924
plotDE1.3740.1601.544
plotDimensions0.7760.0900.868
plotVolcano0.7710.0830.862
preparePathways000
searchDisease0.0010.0010.002
significantAccessors0.0000.0000.001
supportedOrganisms0.0030.0050.008
topologicalAnalysis000
visualizeNetwork0.5240.0540.600