Back to Multiple platform build/check report for BioC 3.22: simplified long |
|
This page was generated on 2025-10-20 12:03 -0400 (Mon, 20 Oct 2025).
Hostname | OS | Arch (*) | R version | Installed pkgs |
---|---|---|---|---|
nebbiolo2 | Linux (Ubuntu 24.04.3 LTS) | x86_64 | 4.5.1 Patched (2025-08-23 r88802) -- "Great Square Root" | 4887 |
lconway | macOS 12.7.6 Monterey | x86_64 | 4.5.1 Patched (2025-09-10 r88807) -- "Great Square Root" | 4677 |
kjohnson3 | macOS 13.7.7 Ventura | arm64 | 4.5.1 Patched (2025-09-10 r88807) -- "Great Square Root" | 4622 |
taishan | Linux (openEuler 24.03 LTS) | aarch64 | 4.5.0 (2025-04-11) -- "How About a Twenty-Six" | 4632 |
Click on any hostname to see more info about the system (e.g. compilers) (*) as reported by 'uname -p', except on Windows and Mac OS X |
Package 916/2353 | Hostname | OS / Arch | INSTALL | BUILD | CHECK | BUILD BIN | ||||||||
GRaNIE 1.13.0 (landing page) Christian Arnold
| nebbiolo2 | Linux (Ubuntu 24.04.3 LTS) / x86_64 | OK | OK | OK | ![]() | ||||||||
lconway | macOS 12.7.6 Monterey / x86_64 | OK | OK | OK | OK | ![]() | ||||||||
kjohnson3 | macOS 13.7.7 Ventura / arm64 | OK | OK | OK | OK | ![]() | ||||||||
taishan | Linux (openEuler 24.03 LTS) / aarch64 | OK | OK | ERROR | ||||||||||
To the developers/maintainers of the GRaNIE package: - Allow up to 24 hours (and sometimes 48 hours) for your latest push to git@git.bioconductor.org:packages/GRaNIE.git to reflect on this report. See Troubleshooting Build Report for more information. - Use the following Renviron settings to reproduce errors and warnings. - If 'R CMD check' started to fail recently on the Linux builder(s) over a missing dependency, add the missing dependency to 'Suggests:' in your DESCRIPTION file. See Renviron.bioc for more information. |
Package: GRaNIE |
Version: 1.13.0 |
Command: /home/biocbuild/bbs-3.22-bioc/R/bin/R CMD check --install=check:GRaNIE.install-out.txt --library=/home/biocbuild/bbs-3.22-bioc/R/site-library --timings GRaNIE_1.13.0.tar.gz |
StartedAt: 2025-10-20 00:33:58 -0400 (Mon, 20 Oct 2025) |
EndedAt: 2025-10-20 00:44:20 -0400 (Mon, 20 Oct 2025) |
EllapsedTime: 622.7 seconds |
RetCode: 0 |
Status: OK |
CheckDir: GRaNIE.Rcheck |
Warnings: 0 |
############################################################################## ############################################################################## ### ### Running command: ### ### /home/biocbuild/bbs-3.22-bioc/R/bin/R CMD check --install=check:GRaNIE.install-out.txt --library=/home/biocbuild/bbs-3.22-bioc/R/site-library --timings GRaNIE_1.13.0.tar.gz ### ############################################################################## ############################################################################## * using log directory ‘/home/biocbuild/bbs-3.22-bioc/meat/GRaNIE.Rcheck’ * using R version 4.5.1 Patched (2025-08-23 r88802) * using platform: x86_64-pc-linux-gnu * R was compiled by gcc (Ubuntu 13.3.0-6ubuntu2~24.04) 13.3.0 GNU Fortran (Ubuntu 13.3.0-6ubuntu2~24.04) 13.3.0 * running under: Ubuntu 24.04.3 LTS * using session charset: UTF-8 * checking for file ‘GRaNIE/DESCRIPTION’ ... OK * this is package ‘GRaNIE’ version ‘1.13.0’ * package encoding: UTF-8 * checking package namespace information ... OK * checking package dependencies ... INFO Imports includes 37 non-default packages. Importing from so many packages makes the package vulnerable to any of them becoming unavailable. Move as many as possible to Suggests and use conditionally. * checking if this is a source package ... OK * checking if there is a namespace ... OK * checking for hidden files and directories ... OK * checking for portable file names ... OK * checking for sufficient/correct file permissions ... OK * checking whether package ‘GRaNIE’ can be installed ... OK * checking installed package size ... OK * checking package directory ... OK * checking ‘build’ directory ... OK * checking DESCRIPTION meta-information ... OK * checking top-level files ... OK * checking for left-over files ... OK * checking index information ... OK * checking package subdirectories ... OK * checking code files for non-ASCII characters ... OK * checking R files for syntax errors ... OK * checking whether the package can be loaded ... OK * checking whether the package can be loaded with stated dependencies ... OK * checking whether the package can be unloaded cleanly ... OK * checking whether the namespace can be loaded with stated dependencies ... OK * checking whether the namespace can be unloaded cleanly ... OK * checking loading without being on the library search path ... OK * checking whether startup messages can be suppressed ... OK * checking dependencies in R code ... OK * checking S3 generic/method consistency ... OK * checking replacement functions ... OK * checking foreign function calls ... OK * checking R code for possible problems ... NOTE .performIHW: no visible binding for global variable 'adj_pvalue' Undefined global functions or variables: adj_pvalue * checking Rd files ... OK * checking Rd metadata ... OK * checking Rd cross-references ... OK * checking for missing documentation entries ... OK * checking for code/documentation mismatches ... OK * checking Rd \usage sections ... OK * checking Rd contents ... OK * checking for unstated dependencies in examples ... OK * checking files in ‘vignettes’ ... OK * checking examples ... OK Examples with CPU (user + system) or elapsed time > 5s user system elapsed generateStatsSummary 7.426 0.391 8.267 plotGeneralGraphStats 6.945 0.563 9.092 plotPCA_all 6.014 0.611 7.201 plotDiagnosticPlots_peakGene 5.470 0.545 6.443 addSNPData 4.919 0.598 6.940 visualizeGRN 4.856 0.423 6.451 plotGeneralEnrichment 4.593 0.600 6.143 getCounts 4.299 0.376 5.615 plot_stats_connectionSummary 3.774 0.240 5.137 addConnections_TF_peak 3.163 0.617 6.388 * checking for unstated dependencies in vignettes ... OK * checking package vignettes ... OK * checking re-building of vignette outputs ... OK * checking PDF version of manual ... OK * DONE Status: 1 NOTE See ‘/home/biocbuild/bbs-3.22-bioc/meat/GRaNIE.Rcheck/00check.log’ for details.
GRaNIE.Rcheck/00install.out
############################################################################## ############################################################################## ### ### Running command: ### ### /home/biocbuild/bbs-3.22-bioc/R/bin/R CMD INSTALL GRaNIE ### ############################################################################## ############################################################################## * installing to library ‘/home/biocbuild/bbs-3.22-bioc/R/site-library’ * installing *source* package ‘GRaNIE’ ... ** this is package ‘GRaNIE’ version ‘1.13.0’ ** using staged installation ** R ** byte-compile and prepare package for lazy loading ** help *** installing help indices *** copying figures ** building package indices ** installing vignettes ** testing if installed package can be loaded from temporary location ** testing if installed package can be loaded from final location ** testing if installed package keeps a record of temporary installation path * DONE (GRaNIE)
GRaNIE.Rcheck/GRaNIE-Ex.timings
name | user | system | elapsed | |
AR_classification_wrapper | 0 | 0 | 0 | |
addConnections_TF_peak | 3.163 | 0.617 | 6.388 | |
addConnections_peak_gene | 2.651 | 0.266 | 3.313 | |
addData | 0.000 | 0.001 | 0.000 | |
addSNPData | 4.919 | 0.598 | 6.940 | |
addTFBS | 0.001 | 0.000 | 0.000 | |
add_TF_gene_correlation | 1.730 | 0.069 | 2.201 | |
add_featureVariation | 0 | 0 | 0 | |
build_eGRN_graph | 1.753 | 0.096 | 2.263 | |
calculateCommunitiesEnrichment | 3.356 | 0.282 | 4.047 | |
calculateCommunitiesStats | 1.707 | 0.068 | 2.174 | |
calculateGeneralEnrichment | 2.864 | 0.088 | 3.367 | |
calculateTFEnrichment | 3.426 | 0.133 | 4.656 | |
changeOutputDirectory | 1.797 | 0.082 | 2.271 | |
deleteIntermediateData | 2.891 | 0.144 | 4.157 | |
filterConnectionsForPlotting | 1.665 | 0.043 | 2.095 | |
filterData | 2.984 | 0.048 | 3.426 | |
filterGRNAndConnectGenes | 3.236 | 0.201 | 3.958 | |
generateStatsSummary | 7.426 | 0.391 | 8.267 | |
getCounts | 4.299 | 0.376 | 5.615 | |
getGRNConnections | 1.726 | 0.061 | 2.220 | |
getGRNSummary | 2.343 | 0.183 | 2.922 | |
getParameters | 1.726 | 0.068 | 2.198 | |
getTopNodes | 3.649 | 0.409 | 4.497 | |
initializeGRN | 0.018 | 0.002 | 0.020 | |
loadExampleObject | 1.885 | 0.094 | 2.388 | |
nGenes | 1.710 | 0.074 | 2.293 | |
nPeaks | 1.786 | 0.118 | 2.326 | |
nTFs | 1.641 | 0.071 | 2.117 | |
overlapPeaksAndTFBS | 1.711 | 0.079 | 2.187 | |
performAllNetworkAnalyses | 0 | 0 | 0 | |
plotCommunitiesEnrichment | 3.169 | 0.163 | 3.758 | |
plotCommunitiesStats | 4.201 | 0.207 | 4.822 | |
plotCorrelations | 2.242 | 0.139 | 2.780 | |
plotDiagnosticPlots_TFPeaks | 3.574 | 0.287 | 4.272 | |
plotDiagnosticPlots_peakGene | 5.470 | 0.545 | 6.443 | |
plotGeneralEnrichment | 4.593 | 0.600 | 6.143 | |
plotGeneralGraphStats | 6.945 | 0.563 | 9.092 | |
plotPCA_all | 6.014 | 0.611 | 7.201 | |
plotTFEnrichment | 3.518 | 0.253 | 4.345 | |
plot_stats_connectionSummary | 3.774 | 0.240 | 5.137 | |
visualizeGRN | 4.856 | 0.423 | 6.451 | |