| Back to Multiple platform build/check report for BioC 3.22: simplified long |
|
This page was generated on 2025-11-20 12:04 -0500 (Thu, 20 Nov 2025).
| Hostname | OS | Arch (*) | R version | Installed pkgs |
|---|---|---|---|---|
| nebbiolo2 | Linux (Ubuntu 24.04.3 LTS) | x86_64 | 4.5.2 (2025-10-31) -- "[Not] Part in a Rumble" | 4615 |
| merida1 | macOS 12.7.6 Monterey | x86_64 | 4.5.2 Patched (2025-11-05 r88990) -- "[Not] Part in a Rumble" | 4610 |
| kjohnson1 | macOS 13.7.5 Ventura | arm64 | 4.5.2 Patched (2025-11-04 r88984) -- "[Not] Part in a Rumble" | 4598 |
| taishan | Linux (openEuler 24.03 LTS) | aarch64 | 4.5.0 (2025-04-11) -- "How About a Twenty-Six" | 4668 |
| Click on any hostname to see more info about the system (e.g. compilers) (*) as reported by 'uname -p', except on Windows and Mac OS X | ||||
| Package 920/2361 | Hostname | OS / Arch | INSTALL | BUILD | CHECK | BUILD BIN | ||||||||
| GRaNIE 1.14.0 (landing page) Christian Arnold
| nebbiolo2 | Linux (Ubuntu 24.04.3 LTS) / x86_64 | OK | OK | OK | |||||||||
| merida1 | macOS 12.7.6 Monterey / x86_64 | OK | OK | OK | OK | |||||||||
| kjohnson1 | macOS 13.7.5 Ventura / arm64 | OK | OK | OK | OK | |||||||||
| taishan | Linux (openEuler 24.03 LTS) / aarch64 | OK | OK | OK | ||||||||||
|
To the developers/maintainers of the GRaNIE package: - Allow up to 24 hours (and sometimes 48 hours) for your latest push to git@git.bioconductor.org:packages/GRaNIE.git to reflect on this report. See Troubleshooting Build Report for more information. - Use the following Renviron settings to reproduce errors and warnings. - If 'R CMD check' started to fail recently on the Linux builder(s) over a missing dependency, add the missing dependency to 'Suggests:' in your DESCRIPTION file. See Renviron.bioc for more information. |
| Package: GRaNIE |
| Version: 1.14.0 |
| Command: /Library/Frameworks/R.framework/Resources/bin/R CMD check --install=check:GRaNIE.install-out.txt --library=/Library/Frameworks/R.framework/Resources/library --no-vignettes --timings GRaNIE_1.14.0.tar.gz |
| StartedAt: 2025-11-18 08:30:37 -0500 (Tue, 18 Nov 2025) |
| EndedAt: 2025-11-18 08:47:08 -0500 (Tue, 18 Nov 2025) |
| EllapsedTime: 991.7 seconds |
| RetCode: 0 |
| Status: OK |
| CheckDir: GRaNIE.Rcheck |
| Warnings: 0 |
##############################################################################
##############################################################################
###
### Running command:
###
### /Library/Frameworks/R.framework/Resources/bin/R CMD check --install=check:GRaNIE.install-out.txt --library=/Library/Frameworks/R.framework/Resources/library --no-vignettes --timings GRaNIE_1.14.0.tar.gz
###
##############################################################################
##############################################################################
* using log directory ‘/Users/biocbuild/bbs-3.22-bioc/meat/GRaNIE.Rcheck’
* using R version 4.5.2 Patched (2025-11-05 r88990)
* using platform: x86_64-apple-darwin20
* R was compiled by
Apple clang version 14.0.0 (clang-1400.0.29.202)
GNU Fortran (GCC) 14.2.0
* running under: macOS Monterey 12.7.6
* using session charset: UTF-8
* using option ‘--no-vignettes’
* checking for file ‘GRaNIE/DESCRIPTION’ ... OK
* this is package ‘GRaNIE’ version ‘1.14.0’
* package encoding: UTF-8
* checking package namespace information ... OK
* checking package dependencies ... INFO
Imports includes 37 non-default packages.
Importing from so many packages makes the package vulnerable to any of
them becoming unavailable. Move as many as possible to Suggests and
use conditionally.
* checking if this is a source package ... OK
* checking if there is a namespace ... OK
* checking for hidden files and directories ... OK
* checking for portable file names ... OK
* checking for sufficient/correct file permissions ... OK
* checking whether package ‘GRaNIE’ can be installed ... OK
* checking installed package size ... OK
* checking package directory ... OK
* checking ‘build’ directory ... OK
* checking DESCRIPTION meta-information ... OK
* checking top-level files ... OK
* checking for left-over files ... OK
* checking index information ... OK
* checking package subdirectories ... OK
* checking code files for non-ASCII characters ... OK
* checking R files for syntax errors ... OK
* checking whether the package can be loaded ... OK
* checking whether the package can be loaded with stated dependencies ... OK
* checking whether the package can be unloaded cleanly ... OK
* checking whether the namespace can be loaded with stated dependencies ... OK
* checking whether the namespace can be unloaded cleanly ... OK
* checking whether startup messages can be suppressed ... OK
* checking dependencies in R code ... NOTE
* checking S3 generic/method consistency ... OK
* checking replacement functions ... OK
* checking foreign function calls ... OK
* checking R code for possible problems ... NOTE
.performIHW: no visible binding for global variable 'adj_pvalue'
Undefined global functions or variables:
adj_pvalue
* checking Rd files ... OK
* checking Rd metadata ... OK
* checking Rd cross-references ... OK
* checking for missing documentation entries ... OK
* checking for code/documentation mismatches ... OK
* checking Rd \usage sections ... OK
* checking Rd contents ... OK
* checking for unstated dependencies in examples ... OK
* checking files in ‘vignettes’ ... OK
* checking examples ... OK
Examples with CPU (user + system) or elapsed time > 5s
user system elapsed
generateStatsSummary 12.331 0.189 16.591
addConnections_TF_peak 8.393 1.325 18.433
plotDiagnosticPlots_peakGene 8.655 0.131 9.641
addSNPData 7.900 0.581 47.768
plotCommunitiesStats 7.858 0.106 8.831
plotCommunitiesEnrichment 7.454 0.189 8.485
plotDiagnosticPlots_TFPeaks 7.177 0.122 8.261
plotGeneralGraphStats 6.391 0.345 7.561
plotPCA_all 6.037 0.181 7.037
visualizeGRN 6.001 0.166 7.112
plotGeneralEnrichment 5.150 0.110 6.009
plotTFEnrichment 4.928 0.147 5.736
calculateCommunitiesEnrichment 4.761 0.202 5.643
calculateGeneralEnrichment 4.666 0.085 5.394
plot_stats_connectionSummary 4.413 0.146 5.209
getGRNSummary 4.317 0.112 5.364
getCounts 4.299 0.090 6.185
filterGRNAndConnectGenes 4.219 0.099 5.976
addConnections_peak_gene 4.094 0.115 5.113
filterData 3.775 0.084 5.138
* checking for unstated dependencies in vignettes ... OK
* checking package vignettes ... OK
* checking running R code from vignettes ... SKIPPED
* checking re-building of vignette outputs ... SKIPPED
* checking PDF version of manual ... OK
* DONE
Status: 2 NOTEs
See
‘/Users/biocbuild/bbs-3.22-bioc/meat/GRaNIE.Rcheck/00check.log’
for details.
GRaNIE.Rcheck/00install.out
############################################################################## ############################################################################## ### ### Running command: ### ### /Library/Frameworks/R.framework/Resources/bin/R CMD INSTALL GRaNIE ### ############################################################################## ############################################################################## * installing to library ‘/Library/Frameworks/R.framework/Versions/4.5-x86_64/Resources/library’ * installing *source* package ‘GRaNIE’ ... ** this is package ‘GRaNIE’ version ‘1.14.0’ ** using staged installation ** R ** byte-compile and prepare package for lazy loading ** help *** installing help indices *** copying figures ** building package indices ** installing vignettes ** testing if installed package can be loaded from temporary location ** testing if installed package can be loaded from final location ** testing if installed package keeps a record of temporary installation path * DONE (GRaNIE)
GRaNIE.Rcheck/GRaNIE-Ex.timings
| name | user | system | elapsed | |
| AR_classification_wrapper | 0.000 | 0.001 | 0.001 | |
| addConnections_TF_peak | 8.393 | 1.325 | 18.433 | |
| addConnections_peak_gene | 4.094 | 0.115 | 5.113 | |
| addData | 0.000 | 0.001 | 0.002 | |
| addSNPData | 7.900 | 0.581 | 47.768 | |
| addTFBS | 0 | 0 | 0 | |
| add_TF_gene_correlation | 4.052 | 0.087 | 4.730 | |
| add_featureVariation | 0.000 | 0.001 | 0.000 | |
| build_eGRN_graph | 2.887 | 0.076 | 3.539 | |
| calculateCommunitiesEnrichment | 4.761 | 0.202 | 5.643 | |
| calculateCommunitiesStats | 3.106 | 0.089 | 3.851 | |
| calculateGeneralEnrichment | 4.666 | 0.085 | 5.394 | |
| calculateTFEnrichment | 3.635 | 0.081 | 4.827 | |
| changeOutputDirectory | 3.019 | 0.082 | 4.058 | |
| deleteIntermediateData | 3.059 | 0.080 | 4.117 | |
| filterConnectionsForPlotting | 2.976 | 0.066 | 4.182 | |
| filterData | 3.775 | 0.084 | 5.138 | |
| filterGRNAndConnectGenes | 4.219 | 0.099 | 5.976 | |
| generateStatsSummary | 12.331 | 0.189 | 16.591 | |
| getCounts | 4.299 | 0.090 | 6.185 | |
| getGRNConnections | 2.911 | 0.071 | 4.146 | |
| getGRNSummary | 4.317 | 0.112 | 5.364 | |
| getParameters | 2.971 | 0.080 | 3.876 | |
| getTopNodes | 3.433 | 0.078 | 4.247 | |
| initializeGRN | 0.037 | 0.004 | 0.040 | |
| loadExampleObject | 4.069 | 0.080 | 4.756 | |
| nGenes | 2.922 | 0.066 | 3.552 | |
| nPeaks | 2.919 | 0.077 | 3.560 | |
| nTFs | 3.021 | 0.079 | 3.703 | |
| overlapPeaksAndTFBS | 2.898 | 0.072 | 3.588 | |
| performAllNetworkAnalyses | 0.000 | 0.001 | 0.001 | |
| plotCommunitiesEnrichment | 7.454 | 0.189 | 8.485 | |
| plotCommunitiesStats | 7.858 | 0.106 | 8.831 | |
| plotCorrelations | 3.811 | 0.089 | 4.493 | |
| plotDiagnosticPlots_TFPeaks | 7.177 | 0.122 | 8.261 | |
| plotDiagnosticPlots_peakGene | 8.655 | 0.131 | 9.641 | |
| plotGeneralEnrichment | 5.150 | 0.110 | 6.009 | |
| plotGeneralGraphStats | 6.391 | 0.345 | 7.561 | |
| plotPCA_all | 6.037 | 0.181 | 7.037 | |
| plotTFEnrichment | 4.928 | 0.147 | 5.736 | |
| plot_stats_connectionSummary | 4.413 | 0.146 | 5.209 | |
| visualizeGRN | 6.001 | 0.166 | 7.112 | |