Back to Multiple platform build/check report for BioC 3.22:   simplified   long
ABCDEFGHIJKLMNO[P]QRSTUVWXYZ

This page was generated on 2025-11-07 12:00 -0500 (Fri, 07 Nov 2025).

HostnameOSArch (*)R versionInstalled pkgs
nebbiolo2Linux (Ubuntu 24.04.3 LTS)x86_644.5.1 Patched (2025-08-23 r88802) -- "Great Square Root" 4902
kjohnson3macOS 13.7.7 Venturaarm644.5.1 Patched (2025-09-10 r88807) -- "Great Square Root" 4638
Click on any hostname to see more info about the system (e.g. compilers)      (*) as reported by 'uname -p', except on Windows and Mac OS X

All results for package ProtGenerics


To the developers/maintainers of the ProtGenerics package:
- Allow up to 24 hours (and sometimes 48 hours) for your latest push to git@git.bioconductor.org:packages/ProtGenerics.git to reflect on this report. See Troubleshooting Build Report for more information.
- Use the following Renviron settings to reproduce errors and warnings.
- If 'R CMD check' started to fail recently on the Linux builder(s) over a missing dependency, add the missing dependency to 'Suggests:' in your DESCRIPTION file. See Renviron.bioc for more information.

raw results

Package 1661/2361HostnameOS / ArchINSTALLBUILDCHECKBUILD BIN
ProtGenerics 1.42.0  (landing page)
Laurent Gatto
Snapshot Date: 2025-11-06 13:45 -0500 (Thu, 06 Nov 2025)
git_url: https://git.bioconductor.org/packages/ProtGenerics
git_branch: RELEASE_3_22
git_last_commit: 672cf15
git_last_commit_date: 2025-10-29 10:24:04 -0500 (Wed, 29 Oct 2025)
nebbiolo2Linux (Ubuntu 24.04.3 LTS) / x86_64  OK    OK    OK  UNNEEDED, same version is already published
kjohnson3macOS 13.7.7 Ventura / arm64  OK    OK    OK    OK  UNNEEDED, same version is already published



Results for Bioconductor software packages that depend directly on package ProtGenerics

QUICK STATSOS / ArchINSTALLBUILDCHECKBUILD BIN
nebbiolo2Linux (Ubuntu 24.04.3 LTS) / x86_64
0026
0026
00125
kjohnson3macOS 13.7.7 Ventura / arm64
0125
0125
02023
0025
Package 1/26HostnameOS / ArchINSTALLBUILDCHECKBUILD BIN
Cardinal 3.12.0  (landing page)
Kylie Ariel Bemis
git_last_commit: 859d28b
git_last_commit_date: 2025-10-29 10:23:51 -0500
nebbiolo2Linux (Ubuntu 24.04.3 LTS) / x86_64  OK    OK    OK  UNNEEDED, same version is already published
kjohnson3macOS 13.7.7 Ventura / arm64  OK    OK    OK    OK  UNNEEDED, same version is already published
Package 2/26HostnameOS / ArchINSTALLBUILDCHECKBUILD BIN
Chromatograms 1.0.0  (landing page)
Philippine Louail
git_last_commit: 74743d6
git_last_commit_date: 2025-10-29 11:37:38 -0500
nebbiolo2Linux (Ubuntu 24.04.3 LTS) / x86_64  OK    OK    OK  UNNEEDED, same version is already published
kjohnson3macOS 13.7.7 Ventura / arm64  OK    OK    OK    OK  UNNEEDED, same version is already published
Package 3/26HostnameOS / ArchINSTALLBUILDCHECKBUILD BIN
CompoundDb 1.14.0  (landing page)
Johannes Rainer
git_last_commit: 287093d
git_last_commit_date: 2025-10-29 11:14:42 -0500
nebbiolo2Linux (Ubuntu 24.04.3 LTS) / x86_64  OK    OK    OK  UNNEEDED, same version is already published
kjohnson3macOS 13.7.7 Ventura / arm64  OK    OK    OK    OK  UNNEEDED, same version is already published
Package 4/26HostnameOS / ArchINSTALLBUILDCHECKBUILD BIN
ensembldb 2.34.0  (landing page)
Johannes Rainer
git_last_commit: a13967b
git_last_commit_date: 2025-10-29 10:24:50 -0500
nebbiolo2Linux (Ubuntu 24.04.3 LTS) / x86_64  OK    OK    OK  UNNEEDED, same version is already published
kjohnson3macOS 13.7.7 Ventura / arm64  OK    OK    OK    OK  UNNEEDED, same version is already published
Package 5/26HostnameOS / ArchINSTALLBUILDCHECKBUILD BIN
matter 2.12.0  (landing page)
Kylie A. Bemis
git_last_commit: 42b13d8
git_last_commit_date: 2025-10-29 10:34:59 -0500
nebbiolo2Linux (Ubuntu 24.04.3 LTS) / x86_64  OK    OK    OK  UNNEEDED, same version is already published
kjohnson3macOS 13.7.7 Ventura / arm64  OK    OK    OK    OK  UNNEEDED, same version is already published
Package 6/26HostnameOS / ArchINSTALLBUILDCHECKBUILD BIN
MetaboAnnotation 1.14.0  (landing page)
Johannes Rainer
git_last_commit: 790d88f
git_last_commit_date: 2025-10-29 11:14:44 -0500
nebbiolo2Linux (Ubuntu 24.04.3 LTS) / x86_64  OK    OK    OK  UNNEEDED, same version is already published
kjohnson3macOS 13.7.7 Ventura / arm64  OK    OK    OK    OK  UNNEEDED, same version is already published
Package 7/26HostnameOS / ArchINSTALLBUILDCHECKBUILD BIN
MsBackendMassbank 1.18.0  (landing page)
RforMassSpectrometry Package Maintainer
git_last_commit: 1be9f71
git_last_commit_date: 2025-10-29 11:06:30 -0500
nebbiolo2Linux (Ubuntu 24.04.3 LTS) / x86_64  OK    OK    OK  UNNEEDED, same version is already published
kjohnson3macOS 13.7.7 Ventura / arm64  OK    OK    OK    OK  UNNEEDED, same version is already published
Package 8/26HostnameOS / ArchINSTALLBUILDCHECKBUILD BIN
MsBackendMetaboLights 1.4.2  (landing page)
Johannes Rainer
git_last_commit: a44eba8
git_last_commit_date: 2025-11-04 02:51:05 -0500
nebbiolo2Linux (Ubuntu 24.04.3 LTS) / x86_64  OK    OK    OK  UNNEEDED, same version is already published
kjohnson3macOS 13.7.7 Ventura / arm64  OK    OK    OK    OK  UNNEEDED, same version is already published
Package 9/26HostnameOS / ArchINSTALLBUILDCHECKBUILD BIN
MsBackendMgf 1.18.0  (landing page)
RforMassSpectrometry Package Maintainer
git_last_commit: 6656145
git_last_commit_date: 2025-10-29 11:06:57 -0500
nebbiolo2Linux (Ubuntu 24.04.3 LTS) / x86_64  OK    OK    OK  UNNEEDED, same version is already published
kjohnson3macOS 13.7.7 Ventura / arm64  OK    OK    OK    OK  UNNEEDED, same version is already published
Package 10/26HostnameOS / ArchINSTALLBUILDCHECKBUILD BIN
MsBackendMsp 1.14.0  (landing page)
Johannes Rainer
git_last_commit: 58e9f8b
git_last_commit_date: 2025-10-29 11:15:06 -0500
nebbiolo2Linux (Ubuntu 24.04.3 LTS) / x86_64  OK    OK    OK  UNNEEDED, same version is already published
kjohnson3macOS 13.7.7 Ventura / arm64  OK    OK    OK    OK  UNNEEDED, same version is already published
Package 11/26HostnameOS / ArchINSTALLBUILDCHECKBUILD BIN
MsBackendRawFileReader 1.16.0  (landing page)
Christian Panse
git_last_commit: 53064fe
git_last_commit_date: 2025-10-29 11:12:57 -0500
nebbiolo2Linux (Ubuntu 24.04.3 LTS) / x86_64  OK    OK    OK  UNNEEDED, same version is already published
kjohnson3macOS 13.7.7 Ventura / arm64  OK    OK    OK    OK  UNNEEDED, same version is already published
Package 12/26HostnameOS / ArchINSTALLBUILDCHECKBUILD BIN
MsBackendSql 1.10.1  (landing page)
Johannes Rainer
git_last_commit: 9e4eb7a
git_last_commit_date: 2025-11-03 05:50:01 -0500
nebbiolo2Linux (Ubuntu 24.04.3 LTS) / x86_64  OK    OK    OK  UNNEEDED, same version is already published
kjohnson3macOS 13.7.7 Ventura / arm64  OK    OK    OK    OK  UNNEEDED, same version is already published
Package 13/26HostnameOS / ArchINSTALLBUILDCHECKBUILD BIN
MsExperiment 1.12.0  (landing page)
Laurent Gatto
git_last_commit: 85369cf
git_last_commit_date: 2025-10-29 11:18:48 -0500
nebbiolo2Linux (Ubuntu 24.04.3 LTS) / x86_64  OK    OK    OK  UNNEEDED, same version is already published
kjohnson3macOS 13.7.7 Ventura / arm64  OK    OK    OK    OK  UNNEEDED, same version is already published
Package 14/26HostnameOS / ArchINSTALLBUILDCHECKBUILD BIN
MsFeatures 1.18.0  (landing page)
Johannes Rainer
git_last_commit: ac1808c
git_last_commit_date: 2025-10-29 11:06:00 -0500
nebbiolo2Linux (Ubuntu 24.04.3 LTS) / x86_64  OK    OK    OK  UNNEEDED, same version is already published
kjohnson3macOS 13.7.7 Ventura / arm64  OK    OK    OK    OK  UNNEEDED, same version is already published
Package 15/26HostnameOS / ArchINSTALLBUILDCHECKBUILD BIN
MSnbase 2.36.0  (landing page)
Laurent Gatto
git_last_commit: 5d00871
git_last_commit_date: 2025-10-29 10:06:57 -0500
nebbiolo2Linux (Ubuntu 24.04.3 LTS) / x86_64  OK    OK    OK  UNNEEDED, same version is already published
kjohnson3macOS 13.7.7 Ventura / arm64  OK    OK    OK    OK  UNNEEDED, same version is already published
Package 16/26HostnameOS / ArchINSTALLBUILDCHECKBUILD BIN
MSnID 1.44.0  (landing page)
Vlad Petyuk
git_last_commit: 80a4b14
git_last_commit_date: 2025-10-29 10:21:36 -0500
nebbiolo2Linux (Ubuntu 24.04.3 LTS) / x86_64  OK    OK    OK  UNNEEDED, same version is already published
kjohnson3macOS 13.7.7 Ventura / arm64  OK    OK    ERROR    OK  
Package 17/26HostnameOS / ArchINSTALLBUILDCHECKBUILD BIN
MsQuality 1.10.0  (landing page)
Thomas Naake
git_last_commit: 04fa814
git_last_commit_date: 2025-10-29 11:20:21 -0500
nebbiolo2Linux (Ubuntu 24.04.3 LTS) / x86_64  OK    OK    OK  UNNEEDED, same version is already published
kjohnson3macOS 13.7.7 Ventura / arm64  OK    OK    OK    OK  UNNEEDED, same version is already published
Package 18/26HostnameOS / ArchINSTALLBUILDCHECKBUILD BIN
mzID 1.48.0  (landing page)
Laurent Gatto
git_last_commit: 96e9485
git_last_commit_date: 2025-10-29 10:16:21 -0500
nebbiolo2Linux (Ubuntu 24.04.3 LTS) / x86_64  OK    OK    OK  UNNEEDED, same version is already published
kjohnson3macOS 13.7.7 Ventura / arm64  OK    OK    OK    OK  UNNEEDED, same version is already published
Package 19/26HostnameOS / ArchINSTALLBUILDCHECKBUILD BIN
mzR 2.44.0  (landing page)
Steffen Neumann
git_last_commit: 2637134
git_last_commit_date: 2025-10-29 10:08:33 -0500
nebbiolo2Linux (Ubuntu 24.04.3 LTS) / x86_64  OK    OK    WARNINGS  UNNEEDED, same version is already published
kjohnson3macOS 13.7.7 Ventura / arm64  OK    OK    ERROR    OK  
Package 20/26HostnameOS / ArchINSTALLBUILDCHECKBUILD BIN
PSMatch 1.14.0  (landing page)
Laurent Gatto
git_last_commit: eedaf3a
git_last_commit_date: 2025-10-29 11:15:29 -0500
nebbiolo2Linux (Ubuntu 24.04.3 LTS) / x86_64  OK    OK    OK  UNNEEDED, same version is already published
kjohnson3macOS 13.7.7 Ventura / arm64  OK    OK    OK    OK  UNNEEDED, same version is already published
Package 21/26HostnameOS / ArchINSTALLBUILDCHECKBUILD BIN
QFeatures 1.20.0  (landing page)
Laurent Gatto
git_last_commit: bde5b54
git_last_commit_date: 2025-10-29 11:01:30 -0500
nebbiolo2Linux (Ubuntu 24.04.3 LTS) / x86_64  OK    OK    OK  UNNEEDED, same version is already published
kjohnson3macOS 13.7.7 Ventura / arm64  OK    OK    OK    OK  UNNEEDED, same version is already published
Package 22/26HostnameOS / ArchINSTALLBUILDCHECKBUILD BIN
Spectra 1.20.0  (landing page)
RforMassSpectrometry Package Maintainer
git_last_commit: 60c9646
git_last_commit_date: 2025-10-29 11:01:49 -0500
nebbiolo2Linux (Ubuntu 24.04.3 LTS) / x86_64  OK    OK    OK  UNNEEDED, same version is already published
kjohnson3macOS 13.7.7 Ventura / arm64  OK    OK    OK    OK  UNNEEDED, same version is already published
Package 23/26HostnameOS / ArchINSTALLBUILDCHECKBUILD BIN
SpectraQL 1.4.0  (landing page)
Johannes Rainer
git_last_commit: 9390ac1
git_last_commit_date: 2025-10-29 11:31:53 -0500
nebbiolo2Linux (Ubuntu 24.04.3 LTS) / x86_64  OK    OK    OK  UNNEEDED, same version is already published
kjohnson3macOS 13.7.7 Ventura / arm64  OK    OK    OK    OK  UNNEEDED, same version is already published
Package 24/26HostnameOS / ArchINSTALLBUILDCHECKBUILD BIN
SpectriPy 1.0.0  (landing page)
Johannes Rainer
git_last_commit: 017658a
git_last_commit_date: 2025-10-29 11:36:52 -0500
nebbiolo2Linux (Ubuntu 24.04.3 LTS) / x86_64  OK    OK    OK  UNNEEDED, same version is already published
kjohnson3macOS 13.7.7 Ventura / arm64  ERROR    ERROR  skippedskipped
Package 25/26HostnameOS / ArchINSTALLBUILDCHECKBUILD BIN
topdownr 1.32.0  (landing page)
Sebastian Gibb
git_last_commit: 7bbdc4a
git_last_commit_date: 2025-10-29 10:41:42 -0500
nebbiolo2Linux (Ubuntu 24.04.3 LTS) / x86_64  OK    OK    OK  UNNEEDED, same version is already published
kjohnson3macOS 13.7.7 Ventura / arm64  OK    OK    OK    OK  UNNEEDED, same version is already published
Package 26/26HostnameOS / ArchINSTALLBUILDCHECKBUILD BIN
xcms 4.8.0  (landing page)
Steffen Neumann
git_last_commit: 8c7e9cf
git_last_commit_date: 2025-10-29 09:56:19 -0500
nebbiolo2Linux (Ubuntu 24.04.3 LTS) / x86_64  OK    OK    OK  UNNEEDED, same version is already published
kjohnson3macOS 13.7.7 Ventura / arm64  OK    OK    OK    OK  UNNEEDED, same version is already published