Back to Multiple platform build/check report for BioC 3.22:   simplified   long
ABCDEFGHIJKL[M]NOPQRSTUVWXYZ

This page was generated on 2025-11-07 12:00 -0500 (Fri, 07 Nov 2025).

HostnameOSArch (*)R versionInstalled pkgs
nebbiolo2Linux (Ubuntu 24.04.3 LTS)x86_644.5.1 Patched (2025-08-23 r88802) -- "Great Square Root" 4902
kjohnson3macOS 13.7.7 Venturaarm644.5.1 Patched (2025-09-10 r88807) -- "Great Square Root" 4638
Click on any hostname to see more info about the system (e.g. compilers)      (*) as reported by 'uname -p', except on Windows and Mac OS X

Package 1378/2361HostnameOS / ArchINSTALLBUILDCHECKBUILD BIN
MsBackendRawFileReader 1.16.0  (landing page)
Christian Panse
Snapshot Date: 2025-11-06 13:45 -0500 (Thu, 06 Nov 2025)
git_url: https://git.bioconductor.org/packages/MsBackendRawFileReader
git_branch: RELEASE_3_22
git_last_commit: 53064fe
git_last_commit_date: 2025-10-29 11:12:57 -0500 (Wed, 29 Oct 2025)
nebbiolo2Linux (Ubuntu 24.04.3 LTS) / x86_64  OK    OK    OK  UNNEEDED, same version is already published
kjohnson3macOS 13.7.7 Ventura / arm64  OK    OK    OK    OK  UNNEEDED, same version is already published


CHECK results for MsBackendRawFileReader on nebbiolo2

To the developers/maintainers of the MsBackendRawFileReader package:
- Allow up to 24 hours (and sometimes 48 hours) for your latest push to git@git.bioconductor.org:packages/MsBackendRawFileReader.git to reflect on this report. See Troubleshooting Build Report for more information.
- Use the following Renviron settings to reproduce errors and warnings.
- If 'R CMD check' started to fail recently on the Linux builder(s) over a missing dependency, add the missing dependency to 'Suggests:' in your DESCRIPTION file. See Renviron.bioc for more information.

raw results


Summary

Package: MsBackendRawFileReader
Version: 1.16.0
Command: /home/biocbuild/bbs-3.22-bioc/R/bin/R CMD check --install=check:MsBackendRawFileReader.install-out.txt --library=/home/biocbuild/bbs-3.22-bioc/R/site-library --timings MsBackendRawFileReader_1.16.0.tar.gz
StartedAt: 2025-11-07 01:46:16 -0500 (Fri, 07 Nov 2025)
EndedAt: 2025-11-07 01:51:01 -0500 (Fri, 07 Nov 2025)
EllapsedTime: 284.2 seconds
RetCode: 0
Status:   OK  
CheckDir: MsBackendRawFileReader.Rcheck
Warnings: 0

Command output

##############################################################################
##############################################################################
###
### Running command:
###
###   /home/biocbuild/bbs-3.22-bioc/R/bin/R CMD check --install=check:MsBackendRawFileReader.install-out.txt --library=/home/biocbuild/bbs-3.22-bioc/R/site-library --timings MsBackendRawFileReader_1.16.0.tar.gz
###
##############################################################################
##############################################################################


* using log directory ‘/home/biocbuild/bbs-3.22-bioc/meat/MsBackendRawFileReader.Rcheck’
* using R version 4.5.1 Patched (2025-08-23 r88802)
* using platform: x86_64-pc-linux-gnu
* R was compiled by
    gcc (Ubuntu 13.3.0-6ubuntu2~24.04) 13.3.0
    GNU Fortran (Ubuntu 13.3.0-6ubuntu2~24.04) 13.3.0
* running under: Ubuntu 24.04.3 LTS
* using session charset: UTF-8
* checking for file ‘MsBackendRawFileReader/DESCRIPTION’ ... OK
* checking extension type ... Package
* this is package ‘MsBackendRawFileReader’ version ‘1.16.0’
* package encoding: UTF-8
* checking package namespace information ... OK
* checking package dependencies ... OK
* checking if this is a source package ... OK
* checking if there is a namespace ... OK
* checking for hidden files and directories ... OK
* checking for portable file names ... OK
* checking for sufficient/correct file permissions ... OK
* checking whether package ‘MsBackendRawFileReader’ can be installed ... OK
* checking installed package size ... OK
* checking package directory ... OK
* checking ‘build’ directory ... OK
* checking DESCRIPTION meta-information ... OK
* checking top-level files ... OK
* checking for left-over files ... OK
* checking index information ... OK
* checking package subdirectories ... OK
* checking code files for non-ASCII characters ... OK
* checking R files for syntax errors ... OK
* checking whether the package can be loaded ... OK
* checking whether the package can be loaded with stated dependencies ... OK
* checking whether the package can be unloaded cleanly ... OK
* checking whether the namespace can be loaded with stated dependencies ... OK
* checking whether the namespace can be unloaded cleanly ... OK
* checking loading without being on the library search path ... OK
* checking whether startup messages can be suppressed ... OK
* checking dependencies in R code ... OK
* checking S3 generic/method consistency ... OK
* checking replacement functions ... OK
* checking foreign function calls ... OK
* checking R code for possible problems ... OK
* checking Rd files ... OK
* checking Rd metadata ... OK
* checking Rd cross-references ... OK
* checking for missing documentation entries ... OK
* checking for code/documentation mismatches ... OK
* checking Rd \usage sections ... OK
* checking Rd contents ... OK
* checking for unstated dependencies in examples ... OK
* checking files in ‘vignettes’ ... OK
* checking examples ... OK
Examples with CPU (user + system) or elapsed time > 5s
                         user system elapsed
ioBenchmark            31.977  6.289  12.197
MsBackendRawFileReader  6.489  2.134   9.154
* checking for unstated dependencies in ‘tests’ ... OK
* checking tests ...
  Running ‘testthat.R’
 OK
* checking for unstated dependencies in vignettes ... OK
* checking package vignettes ... OK
* checking re-building of vignette outputs ... OK
* checking PDF version of manual ... OK
* DONE

Status: OK


Installation output

MsBackendRawFileReader.Rcheck/00install.out

##############################################################################
##############################################################################
###
### Running command:
###
###   /home/biocbuild/bbs-3.22-bioc/R/bin/R CMD INSTALL MsBackendRawFileReader
###
##############################################################################
##############################################################################


* installing to library ‘/home/biocbuild/bbs-3.22-bioc/R/site-library’
* installing *source* package ‘MsBackendRawFileReader’ ...
** this is package ‘MsBackendRawFileReader’ version ‘1.16.0’
** using staged installation
** R
** inst
** byte-compile and prepare package for lazy loading
** help
*** installing help indices
** building package indices
** installing vignettes
** testing if installed package can be loaded from temporary location
** testing if installed package can be loaded from final location
** testing if installed package keeps a record of temporary installation path
* DONE (MsBackendRawFileReader)

Tests output

MsBackendRawFileReader.Rcheck/tests/testthat.Rout


R version 4.5.1 Patched (2025-08-23 r88802) -- "Great Square Root"
Copyright (C) 2025 The R Foundation for Statistical Computing
Platform: x86_64-pc-linux-gnu

R is free software and comes with ABSOLUTELY NO WARRANTY.
You are welcome to redistribute it under certain conditions.
Type 'license()' or 'licence()' for distribution details.

R is a collaborative project with many contributors.
Type 'contributors()' for more information and
'citation()' on how to cite R or R packages in publications.

Type 'demo()' for some demos, 'help()' for on-line help, or
'help.start()' for an HTML browser interface to help.
Type 'q()' to quit R.

> library("testthat")
> library("MsBackendRawFileReader")
Loading required package: Spectra
Loading required package: S4Vectors
Loading required package: stats4
Loading required package: BiocGenerics
Loading required package: generics

Attaching package: 'generics'

The following objects are masked from 'package:base':

    as.difftime, as.factor, as.ordered, intersect, is.element, setdiff,
    setequal, union


Attaching package: 'BiocGenerics'

The following objects are masked from 'package:stats':

    IQR, mad, sd, var, xtabs

The following objects are masked from 'package:base':

    Filter, Find, Map, Position, Reduce, anyDuplicated, aperm, append,
    as.data.frame, basename, cbind, colnames, dirname, do.call,
    duplicated, eval, evalq, get, grep, grepl, is.unsorted, lapply,
    mapply, match, mget, order, paste, pmax, pmax.int, pmin, pmin.int,
    rank, rbind, rownames, sapply, saveRDS, table, tapply, unique,
    unsplit, which.max, which.min


Attaching package: 'S4Vectors'

The following object is masked from 'package:utils':

    findMatches

The following objects are masked from 'package:base':

    I, expand.grid, unname

Loading required package: BiocParallel
> library("Spectra")
> 
> 
> sample_raw_file <- file.path(system.file(package = "rawrr"),
+                                 'extdata', 'sample.raw')
> 
> sample_mzXML_file <- file.path(path.package(package = 'MsBackendRawFileReader'),
+                                 'extdata', 'sample.mzXML')
> 
> 
> sample_raw <-  backendInitialize(MsBackendRawFileReader::MsBackendRawFileReader(), files = sample_raw_file)
> 
> 
> #sample_mzr <-  backendInitialize(MsBackendMzR(), files = sample_mzXML_file)
> 
> 
> mgf_file <- file.path(system.file(package = "MsBackendRawFileReader"),
+                              'extdata', '3159619b11ed_4590_9594.mgf')
> 
> 
> rv <- lapply(1:2, function(x){
+   file.copy(from = sample_raw_file, to = tempfile(fileext='.raw'))})
> 
> 
> register(SnowParam(workers = 1, type = "SOCK") , default = TRUE); 
> sample_raw_2 <- backendInitialize(MsBackendRawFileReader(),
+     files = file.path(tempdir(),
+          list.files(path = tempdir(), pattern = 'raw$')))
> 
> 
> test_check("MsBackendRawFileReader")
[ FAIL 0 | WARN 1 | SKIP 2 | PASS 21 ]

══ Skipped tests (2) ═══════════════════════════════════════════════════════════
• isFALSE(file.exists(sample_mzXML_file)) is TRUE (1):
  'test_MsBackendMzR_MsBackendRawFileReader.R:1:1'
• isFALSE(require(MsBackendRawMgf)) is TRUE (1): 'test_top_n_mgf.R:1:1'

[ FAIL 0 | WARN 1 | SKIP 2 | PASS 21 ]
> 
> 
> be <- Spectra::backendInitialize(MsBackendRawFileReader::MsBackendRawFileReader(),
+                                  files = c(sample_raw_file))
> 
> ## Run the MsBackend spectra variable test suite
> 
> test_suite <- system.file("test_backends", "test_MsBackend",
+                           package = "Spectra")
> 
> #res <- test_file(paste0(test_suite, "/test_spectra_variables.R"),
> #                 reporter = check_reporter(), stop_on_failure = TRUE)
> 
> 
> ## Run the whole suite.
> res <- test_dir(test_suite, stop_on_failure = TRUE)
✔ | F W  S  OK | Context

⠏ |          0 | peaks_variables                                                
⠙ |          2 | peaks_variables                                                
⠸ |          4 | peaks_variables                                                
✔ |          4 | peaks_variables [3.9s]

⠏ |          0 | spectra_subsetting                                             
⠋ |          1 | spectra_subsetting                                             
⠴ |         16 | spectra_subsetting                                             
⠧ |         28 | spectra_subsetting                                             
⠏ |         40 | spectra_subsetting                                             
⠹ |         53 | spectra_subsetting                                             
⠙ |         62 | spectra_subsetting                                             
⠴ |         76 | spectra_subsetting                                             
⠋ |         91 | spectra_subsetting                                             
⠼ |        105 | spectra_subsetting                                             
⠋ |        121 | spectra_subsetting                                             
⠴ |        136 | spectra_subsetting                                             
⠋ |        151 | spectra_subsetting                                             
⠴ |        166 | spectra_subsetting                                             
⠏ |        180 | spectra_subsetting                                             
⠼ |        195 | spectra_subsetting                                             
⠧ |        208 | spectra_subsetting                                             
⠹ |        223 | spectra_subsetting                                             
⠧ |        238 | spectra_subsetting                                             
⠏ |        250 | spectra_subsetting                                             
⠼ |        265 | spectra_subsetting                                             
⠏ |        280 | spectra_subsetting                                             
⠹ |        293 | spectra_subsetting                                             
⠦ |        307 | spectra_subsetting                                             
⠙ |        322 | spectra_subsetting                                             
⠦ |        337 | spectra_subsetting                                             
⠙ |        352 | spectra_subsetting                                             
⠸ |        364 | spectra_subsetting                                             
⠇ |        379 | spectra_subsetting                                             
⠹ |        393 | spectra_subsetting                                             
⠴ |        406 | spectra_subsetting                                             
⠋ |        421 | spectra_subsetting                                             
⠴ |        436 | spectra_subsetting                                             
⠙ |        452 | spectra_subsetting                                             
⠴ |        466 | spectra_subsetting                                             
⠋ |        481 | spectra_subsetting                                             
⠴ |        496 | spectra_subsetting                                             
⠇ |        509 | spectra_subsetting                                             
⠹ |        523 | spectra_subsetting                                             
⠧ |        538 | spectra_subsetting                                             
⠹ |        553 | spectra_subsetting                                             
⠧ |        568 | spectra_subsetting                                             
⠹ |        583 | spectra_subsetting                                             
⠧ |        598 | spectra_subsetting                                             
⠹ |        613 | spectra_subsetting                                             
⠧ |        628 | spectra_subsetting                                             
⠹ |        643 | spectra_subsetting                                             
⠧ |        658 | spectra_subsetting                                             
⠹ |        673 | spectra_subsetting                                             
⠧ |        688 | spectra_subsetting                                             
⠹ |        703 | spectra_subsetting                                             
⠧ |        718 | spectra_subsetting                                             
⠹ |        733 | spectra_subsetting                                             
⠇ |        749 | spectra_subsetting                                             
⠹ |        763 | spectra_subsetting                                             
⠧ |        778 | spectra_subsetting                                             
⠹ |        793 | spectra_subsetting                                             
⠴ |        806 | spectra_subsetting                                             
⠙ |        822 | spectra_subsetting                                             
⠼ |        835 | spectra_subsetting                                             
⠏ |        850 | spectra_subsetting                                             
⠼ |        865 | spectra_subsetting                                             
⠧ |        878 | spectra_subsetting                                             
⠹ |        893 | spectra_subsetting                                             
⠦ |        907 | spectra_subsetting                                             
⠙ |        922 | spectra_subsetting                                             
⠦ |        937 | spectra_subsetting                                             
⠋ |        951 | spectra_subsetting                                             
⠼ |        965 | spectra_subsetting                                             
⠧ |        978 | spectra_subsetting                                             
⠼ |        985 | spectra_subsetting                                             
⠇ |        999 | spectra_subsetting                                             
⠙ |        1012 | spectra_subsetting                                            
⠸ |        1024 | spectra_subsetting                                            
⠇ |        1039 | spectra_subsetting                                            
⠸ |        1054 | spectra_subsetting                                            
⠇ |        1069 | spectra_subsetting                                            
⠸ |        1084 | spectra_subsetting                                            
⠧ |        1098 | spectra_subsetting                                            
⠹ |        1113 | spectra_subsetting                                            
⠴ |        1126 | spectra_subsetting                                            
⠋ |        1141 | spectra_subsetting                                            
⠴ |        1156 | spectra_subsetting                                            
⠋ |        1171 | spectra_subsetting                                            
⠴ |        1186 | spectra_subsetting                                            
⠋ |        1201 | spectra_subsetting                                            
⠴ |        1216 | spectra_subsetting                                            
⠋ |        1231 | spectra_subsetting                                            
⠸ |        1244 | spectra_subsetting                                            
⠋ |        1261 | spectra_subsetting                                            
⠴ |        1276 | spectra_subsetting                                            
⠋ |        1291 | spectra_subsetting                                            
⠴ |        1306 | spectra_subsetting                                            
⠋ |        1321 | spectra_subsetting                                            
⠴ |        1336 | spectra_subsetting                                            
⠋ |        1351 | spectra_subsetting                                            
⠴ |        1366 | spectra_subsetting                                            
⠋ |        1381 | spectra_subsetting                                            
⠴ |        1396 | spectra_subsetting                                            
⠋ |        1411 | spectra_subsetting                                            
⠸ |        1424 | spectra_subsetting                                            
⠇ |        1439 | spectra_subsetting                                            
⠹ |        1453 | spectra_subsetting                                            
⠧ |        1468 | spectra_subsetting                                            
⠹ |        1483 | spectra_subsetting                                            
⠴ |        1496 | spectra_subsetting                                            
⠋ |        1511 | spectra_subsetting                                            
⠼ |        1525 | spectra_subsetting                                            
⠏ |        1540 | spectra_subsetting                                            
⠼ |        1555 | spectra_subsetting                                            
⠧ |        1568 | spectra_subsetting                                            
⠙ |        1582 | spectra_subsetting                                            
⠸ |        1594 | spectra_subsetting                                            
⠹ |        1603 | spectra_subsetting                                            
⠧ |        1618 | spectra_subsetting                                            
⠹ |        1633 | spectra_subsetting                                            
⠧ |        1648 | spectra_subsetting                                            
⠹ |        1663 | spectra_subsetting                                            
⠧ |        1678 | spectra_subsetting                                            
⠹ |        1693 | spectra_subsetting                                            
⠧ |        1708 | spectra_subsetting                                            
⠹ |        1723 | spectra_subsetting                                            
⠧ |        1728 | spectra_subsetting                                            
⠏ |        1730 | spectra_subsetting                                            
⠹ |        1733 | spectra_subsetting                                            
⠴ |        1736 | spectra_subsetting                                            
⠧ |        1738 | spectra_subsetting                                            
⠋ |        1741 | spectra_subsetting                                            
⠹ |        1743 | spectra_subsetting                                            
⠴ |        1746 | spectra_subsetting                                            
⠇ |        1749 | spectra_subsetting                                            
⠋ |        1751 | spectra_subsetting                                            
⠸ |        1754 | spectra_subsetting                                            
⠴ |        1756 | spectra_subsetting                                            
⠇ |        1759 | spectra_subsetting                                            
⠙ |        1762 | spectra_subsetting                                            
⠸ |        1764 | spectra_subsetting                                            
⠦ |        1767 | spectra_subsetting                                            
⠇ |        1769 | spectra_subsetting                                            
⠙ |        1772 | spectra_subsetting                                            
⠸ |        1774 | spectra_subsetting                                            
⠦ |        1777 | spectra_subsetting                                            
⠏ |        1780 | spectra_subsetting                                            
⠙ |        1782 | spectra_subsetting                                            
⠼ |        1785 | spectra_subsetting                                            
⠦ |        1787 | spectra_subsetting                                            
⠏ |        1790 | spectra_subsetting                                            
⠹ |        1793 | spectra_subsetting                                            
⠼ |        1795 | spectra_subsetting                                            
⠧ |        1798 | spectra_subsetting                                            
⠏ |        1800 | spectra_subsetting                                            
⠹ |        1803 | spectra_subsetting                                            
⠼ |        1805 | spectra_subsetting                                            
⠧ |        1808 | spectra_subsetting                                            
⠋ |        1811 | spectra_subsetting                                            
⠹ |        1813 | spectra_subsetting                                            
⠴ |        1816 | spectra_subsetting                                            
⠧ |        1818 | spectra_subsetting                                            
⠏ |        1820 | spectra_subsetting                                            
⠙ |        1822 | spectra_subsetting                                            
⠸ |        1824 | spectra_subsetting                                            
⠴ |        1826 | spectra_subsetting                                            
⠇ |        1829 | spectra_subsetting                                            
⠋ |        1831 | spectra_subsetting                                            
⠸ |        1834 | spectra_subsetting                                            
⠦ |        1837 | spectra_subsetting                                            
⠇ |        1839 | spectra_subsetting                                            
⠙ |        1842 | spectra_subsetting                                            
⠸ |        1844 | spectra_subsetting                                            
⠦ |        1847 | spectra_subsetting                                            
⠇ |        1849 | spectra_subsetting                                            
⠙ |        1852 | spectra_subsetting                                            
⠼ |        1855 | spectra_subsetting                                            
⠦ |        1857 | spectra_subsetting                                            
⠏ |        1860 | spectra_subsetting                                            
⠙ |        1862 | spectra_subsetting                                            
⠼ |        1865 | spectra_subsetting                                            
⠧ |        1868 | spectra_subsetting                                            
⠏ |        1870 | spectra_subsetting                                            
⠹ |        1873 | spectra_subsetting                                            
⠼ |        1875 | spectra_subsetting                                            
⠧ |        1878 | spectra_subsetting                                            
⠏ |        1880 | spectra_subsetting                                            
⠹ |        1883 | spectra_subsetting                                            
⠴ |        1886 | spectra_subsetting                                            
⠧ |        1888 | spectra_subsetting                                            
⠋ |        1891 | spectra_subsetting                                            
⠹ |        1893 | spectra_subsetting                                            
⠴ |        1896 | spectra_subsetting                                            
⠇ |        1899 | spectra_subsetting                                            
⠙ |        1902 | spectra_subsetting                                            
⠼ |        1905 | spectra_subsetting                                            
⠧ |        1908 | spectra_subsetting                                            
⠋ |        1911 | spectra_subsetting                                            
⠸ |        1914 | spectra_subsetting                                            
⠦ |        1917 | spectra_subsetting                                            
⠏ |        1920 | spectra_subsetting                                            
⠹ |        1923 | spectra_subsetting                                            
⠴ |        1926 | spectra_subsetting                                            
⠇ |        1929 | spectra_subsetting                                            
⠙ |        1932 | spectra_subsetting                                            
⠼ |        1935 | spectra_subsetting                                            
⠧ |        1938 | spectra_subsetting                                            
⠋ |        1941 | spectra_subsetting                                            
⠸ |        1944 | spectra_subsetting                                            
⠦ |        1947 | spectra_subsetting                                            
⠏ |        1950 | spectra_subsetting                                            
⠹ |        1953 | spectra_subsetting                                            
⠴ |        1956 | spectra_subsetting                                            
⠇ |        1959 | spectra_subsetting                                            
⠙ |        1962 | spectra_subsetting                                            
⠼ |        1965 | spectra_subsetting                                            
⠧ |        1968 | spectra_subsetting                                            
⠋ |        1971 | spectra_subsetting                                            
⠸ |        1974 | spectra_subsetting                                            
⠦ |        1977 | spectra_subsetting                                            
⠏ |        1980 | spectra_subsetting                                            
⠹ |        1983 | spectra_subsetting                                            
⠴ |        1986 | spectra_subsetting                                            
⠇ |        1989 | spectra_subsetting                                            
⠙ |        1992 | spectra_subsetting                                            
⠼ |        1995 | spectra_subsetting                                            
⠧ |        1998 | spectra_subsetting                                            
⠋ |        2001 | spectra_subsetting                                            
⠸ |        2004 | spectra_subsetting                                            
⠦ |        2007 | spectra_subsetting                                            
⠏ |        2010 | spectra_subsetting                                            
⠹ |        2013 | spectra_subsetting                                            
⠴ |        2016 | spectra_subsetting                                            
⠇ |        2019 | spectra_subsetting                                            
⠙ |        2022 | spectra_subsetting                                            
⠼ |        2025 | spectra_subsetting                                            
⠧ |        2028 | spectra_subsetting                                            
⠋ |        2031 | spectra_subsetting                                            
⠸ |        2034 | spectra_subsetting                                            
⠦ |        2037 | spectra_subsetting                                            
⠏ |        2040 | spectra_subsetting                                            
⠹ |        2043 | spectra_subsetting                                            
⠴ |        2046 | spectra_subsetting                                            
⠇ |        2049 | spectra_subsetting                                            
⠙ |        2052 | spectra_subsetting                                            
⠼ |        2055 | spectra_subsetting                                            
⠧ |        2058 | spectra_subsetting                                            
⠋ |        2061 | spectra_subsetting                                            
⠸ |        2064 | spectra_subsetting                                            
⠦ |        2067 | spectra_subsetting                                            
⠏ |        2070 | spectra_subsetting                                            
⠹ |        2073 | spectra_subsetting                                            
⠼ |        2075 | spectra_subsetting                                            
⠦ |        2077 | spectra_subsetting                                            
⠇ |        2079 | spectra_subsetting                                            
⠙ |        2082 | spectra_subsetting                                            
⠼ |        2085 | spectra_subsetting                                            
⠧ |        2088 | spectra_subsetting                                            
⠋ |        2091 | spectra_subsetting                                            
⠸ |        2094 | spectra_subsetting                                            
⠦ |        2097 | spectra_subsetting                                            
⠏ |        2100 | spectra_subsetting                                            
⠹ |        2103 | spectra_subsetting                                            
⠴ |        2106 | spectra_subsetting                                            
⠇ |        2109 | spectra_subsetting                                            
⠙ |        2112 | spectra_subsetting                                            
⠼ |        2115 | spectra_subsetting                                            
⠧ |        2118 | spectra_subsetting                                            
⠋ |        2121 | spectra_subsetting                                            
⠹ |        2123 | spectra_subsetting                                            
⠴ |        2126 | spectra_subsetting                                            
⠇ |        2129 | spectra_subsetting                                            
⠙ |        2132 | spectra_subsetting                                            
⠼ |        2135 | spectra_subsetting                                            
⠧ |        2138 | spectra_subsetting                                            
⠋ |        2141 | spectra_subsetting                                            
⠸ |        2144 | spectra_subsetting                                            
⠦ |        2147 | spectra_subsetting                                            
⠏ |        2150 | spectra_subsetting                                            
⠹ |        2153 | spectra_subsetting                                            
⠴ |        2156 | spectra_subsetting                                            
⠇ |        2159 | spectra_subsetting                                            
⠙ |        2162 | spectra_subsetting                                            
⠼ |        2165 | spectra_subsetting                                            
⠧ |        2168 | spectra_subsetting                                            
⠋ |        2171 | spectra_subsetting                                            
⠸ |        2174 | spectra_subsetting                                            
⠦ |        2177 | spectra_subsetting                                            
⠏ |        2180 | spectra_subsetting                                            
⠙ |        2182 | spectra_subsetting                                            
⠼ |        2185 | spectra_subsetting                                            
⠧ |        2188 | spectra_subsetting                                            
⠋ |        2191 | spectra_subsetting                                            
⠸ |        2194 | spectra_subsetting                                            
⠦ |        2197 | spectra_subsetting                                            
⠏ |        2200 | spectra_subsetting                                            
⠹ |        2203 | spectra_subsetting                                            
⠴ |        2206 | spectra_subsetting                                            
⠇ |        2209 | spectra_subsetting                                            
⠙ |        2212 | spectra_subsetting                                            
⠼ |        2215 | spectra_subsetting                                            
⠧ |        2218 | spectra_subsetting                                            
⠋ |        2221 | spectra_subsetting                                            
⠸ |        2224 | spectra_subsetting                                            
⠦ |        2227 | spectra_subsetting                                            
⠏ |        2230 | spectra_subsetting                                            
⠹ |        2233 | spectra_subsetting                                            
⠴ |        2236 | spectra_subsetting                                            
⠇ |        2239 | spectra_subsetting                                            
⠙ |        2242 | spectra_subsetting                                            
⠼ |        2245 | spectra_subsetting                                            
⠧ |        2248 | spectra_subsetting                                            
⠋ |        2251 | spectra_subsetting                                            
⠸ |        2254 | spectra_subsetting                                            
⠦ |        2257 | spectra_subsetting                                            
⠏ |        2260 | spectra_subsetting                                            
⠹ |        2263 | spectra_subsetting                                            
⠴ |        2266 | spectra_subsetting                                            
⠇ |        2269 | spectra_subsetting                                            
⠙ |        2272 | spectra_subsetting                                            
⠼ |        2275 | spectra_subsetting                                            
⠧ |        2278 | spectra_subsetting                                            
⠋ |        2281 | spectra_subsetting                                            
⠹ |        2283 | spectra_subsetting                                            
⠼ |        2285 | spectra_subsetting                                            
⠦ |        2287 | spectra_subsetting                                            
⠏ |        2290 | spectra_subsetting                                            
⠹ |        2293 | spectra_subsetting                                            
⠴ |        2296 | spectra_subsetting                                            
⠇ |        2299 | spectra_subsetting                                            
⠹ |        2303 | spectra_subsetting                                            
⠋ |        2311 | spectra_subsetting                                            
⠧ |        2318 | spectra_subsetting                                            
⠦ |        2327 | spectra_subsetting                                            
⠸ |        2334 | spectra_subsetting                                            
✔ |        2342 | spectra_subsetting [41.7s]

⠏ |          0 | spectra_variables                                              
⠙ |         12 | spectra_variables                                              
⠸ |         14 | spectra_variables                                              
⠴ |         16 | spectra_variables                                              
⠦ |         27 | spectra_variables                                              
⠇ |         29 | spectra_variables                                              
⠋ |         31 | spectra_variables                                              
⠹ |         43 | spectra_variables                                              
⠇ |      1  58 | spectra_variables                                              
✔ |      1  62 | spectra_variables [14.2s]

══ Results ═════════════════════════════════════════════════════════════════════
Duration: 59.8 s

── Skipped tests (1) ───────────────────────────────────────────────────────────
• empty test (1): 'test_spectra_variables.R:262:1'

[ FAIL 0 | WARN 0 | SKIP 1 | PASS 2408 ]
> 
> proc.time()
   user  system elapsed 
 81.226   8.458  92.232 

Example timings

MsBackendRawFileReader.Rcheck/MsBackendRawFileReader-Ex.timings

nameusersystemelapsed
MsBackendRawFileReader-class3.3920.8064.563
MsBackendRawFileReader6.4892.1349.154
hidden_aliases2.1840.7273.076
ioBenchmark31.977 6.28912.197