| Back to Multiple platform build/check report for BioC 3.21: simplified long |
|
This page was generated on 2025-10-16 11:38 -0400 (Thu, 16 Oct 2025).
| Hostname | OS | Arch (*) | R version | Installed pkgs |
|---|---|---|---|---|
| nebbiolo1 | Linux (Ubuntu 24.04.3 LTS) | x86_64 | 4.5.1 (2025-06-13) -- "Great Square Root" | 4833 |
| merida1 | macOS 12.7.6 Monterey | x86_64 | 4.5.1 RC (2025-06-05 r88288) -- "Great Square Root" | 4614 |
| kjohnson1 | macOS 13.7.5 Ventura | arm64 | 4.5.1 Patched (2025-06-14 r88325) -- "Great Square Root" | 4555 |
| kunpeng2 | Linux (openEuler 24.03 LTS) | aarch64 | R Under development (unstable) (2025-02-19 r87757) -- "Unsuffered Consequences" | 4586 |
| Click on any hostname to see more info about the system (e.g. compilers) (*) as reported by 'uname -p', except on Windows and Mac OS X | ||||
| Package 426/2341 | Hostname | OS / Arch | INSTALL | BUILD | CHECK | BUILD BIN | ||||||||
| CompoundDb 1.12.1 (landing page) Johannes Rainer
| nebbiolo1 | Linux (Ubuntu 24.04.3 LTS) / x86_64 | OK | OK | OK | |||||||||
| merida1 | macOS 12.7.6 Monterey / x86_64 | OK | OK | OK | OK | |||||||||
| kjohnson1 | macOS 13.7.5 Ventura / arm64 | OK | OK | OK | OK | |||||||||
| kunpeng2 | Linux (openEuler 24.03 LTS) / aarch64 | OK | OK | OK | ||||||||||
|
To the developers/maintainers of the CompoundDb package: - Allow up to 24 hours (and sometimes 48 hours) for your latest push to git@git.bioconductor.org:packages/CompoundDb.git to reflect on this report. See Troubleshooting Build Report for more information. - Use the following Renviron settings to reproduce errors and warnings. - If 'R CMD check' started to fail recently on the Linux builder(s) over a missing dependency, add the missing dependency to 'Suggests:' in your DESCRIPTION file. See Renviron.bioc for more information. |
| Package: CompoundDb |
| Version: 1.12.1 |
| Command: /Library/Frameworks/R.framework/Resources/bin/R CMD check --install=check:CompoundDb.install-out.txt --library=/Library/Frameworks/R.framework/Resources/library --no-vignettes --timings CompoundDb_1.12.1.tar.gz |
| StartedAt: 2025-10-14 01:52:12 -0400 (Tue, 14 Oct 2025) |
| EndedAt: 2025-10-14 01:57:55 -0400 (Tue, 14 Oct 2025) |
| EllapsedTime: 342.7 seconds |
| RetCode: 0 |
| Status: OK |
| CheckDir: CompoundDb.Rcheck |
| Warnings: 0 |
##############################################################################
##############################################################################
###
### Running command:
###
### /Library/Frameworks/R.framework/Resources/bin/R CMD check --install=check:CompoundDb.install-out.txt --library=/Library/Frameworks/R.framework/Resources/library --no-vignettes --timings CompoundDb_1.12.1.tar.gz
###
##############################################################################
##############################################################################
* using log directory ‘/Users/biocbuild/bbs-3.21-bioc/meat/CompoundDb.Rcheck’
* using R version 4.5.1 RC (2025-06-05 r88288)
* using platform: x86_64-apple-darwin20
* R was compiled by
Apple clang version 14.0.0 (clang-1400.0.29.202)
GNU Fortran (GCC) 14.2.0
* running under: macOS Monterey 12.7.6
* using session charset: UTF-8
* using option ‘--no-vignettes’
* checking for file ‘CompoundDb/DESCRIPTION’ ... OK
* checking extension type ... Package
* this is package ‘CompoundDb’ version ‘1.12.1’
* package encoding: UTF-8
* checking package namespace information ... OK
* checking package dependencies ... OK
* checking if this is a source package ... OK
* checking if there is a namespace ... OK
* checking for hidden files and directories ... OK
* checking for portable file names ... OK
* checking for sufficient/correct file permissions ... OK
* checking whether package ‘CompoundDb’ can be installed ... OK
* checking installed package size ... OK
* checking package directory ... OK
* checking ‘build’ directory ... OK
* checking DESCRIPTION meta-information ... OK
* checking top-level files ... OK
* checking for left-over files ... OK
* checking index information ... OK
* checking package subdirectories ... OK
* checking code files for non-ASCII characters ... OK
* checking R files for syntax errors ... OK
* checking whether the package can be loaded ... OK
* checking whether the package can be loaded with stated dependencies ... OK
* checking whether the package can be unloaded cleanly ... OK
* checking whether the namespace can be loaded with stated dependencies ... OK
* checking whether the namespace can be unloaded cleanly ... OK
* checking dependencies in R code ... OK
* checking S3 generic/method consistency ... OK
* checking replacement functions ... OK
* checking foreign function calls ... OK
* checking R code for possible problems ... OK
* checking Rd files ... OK
* checking Rd metadata ... OK
* checking Rd cross-references ... OK
* checking for missing documentation entries ... OK
* checking for code/documentation mismatches ... OK
* checking Rd \usage sections ... OK
* checking Rd contents ... OK
* checking for unstated dependencies in examples ... OK
* checking files in ‘vignettes’ ... OK
* checking examples ... OK
* checking for unstated dependencies in ‘tests’ ... OK
* checking tests ...
Running ‘testthat.R’
OK
* checking for unstated dependencies in vignettes ... OK
* checking package vignettes ... OK
* checking running R code from vignettes ... SKIPPED
* checking re-building of vignette outputs ... SKIPPED
* checking PDF version of manual ... OK
* DONE
Status: OK
CompoundDb.Rcheck/00install.out
############################################################################## ############################################################################## ### ### Running command: ### ### /Library/Frameworks/R.framework/Resources/bin/R CMD INSTALL CompoundDb ### ############################################################################## ############################################################################## * installing to library ‘/Library/Frameworks/R.framework/Versions/4.5-x86_64/Resources/library’ * installing *source* package ‘CompoundDb’ ... ** this is package ‘CompoundDb’ version ‘1.12.1’ ** using staged installation ** R ** inst ** byte-compile and prepare package for lazy loading Creating a new generic function for ‘mass2mz’ in package ‘CompoundDb’ ** help *** installing help indices *** copying figures ** building package indices ** installing vignettes ** testing if installed package can be loaded from temporary location ** testing if installed package can be loaded from final location ** testing if installed package keeps a record of temporary installation path * DONE (CompoundDb)
CompoundDb.Rcheck/tests/testthat.Rout
R version 4.5.1 RC (2025-06-05 r88288) -- "Great Square Root"
Copyright (C) 2025 The R Foundation for Statistical Computing
Platform: x86_64-apple-darwin20
R is free software and comes with ABSOLUTELY NO WARRANTY.
You are welcome to redistribute it under certain conditions.
Type 'license()' or 'licence()' for distribution details.
R is a collaborative project with many contributors.
Type 'contributors()' for more information and
'citation()' on how to cite R or R packages in publications.
Type 'demo()' for some demos, 'help()' for on-line help, or
'help.start()' for an HTML browser interface to help.
Type 'q()' to quit R.
> library("testthat")
> library("CompoundDb")
Loading required package: AnnotationFilter
Attaching package: 'AnnotationFilter'
The following object is masked from 'package:testthat':
not
Loading required package: S4Vectors
Loading required package: stats4
Loading required package: BiocGenerics
Loading required package: generics
Attaching package: 'generics'
The following objects are masked from 'package:base':
as.difftime, as.factor, as.ordered, intersect, is.element, setdiff,
setequal, union
Attaching package: 'BiocGenerics'
The following objects are masked from 'package:stats':
IQR, mad, sd, var, xtabs
The following objects are masked from 'package:base':
Filter, Find, Map, Position, Reduce, anyDuplicated, aperm, append,
as.data.frame, basename, cbind, colnames, dirname, do.call,
duplicated, eval, evalq, get, grep, grepl, is.unsorted, lapply,
mapply, match, mget, order, paste, pmax, pmax.int, pmin, pmin.int,
rank, rbind, rownames, sapply, saveRDS, table, tapply, unique,
unsplit, which.max, which.min
Attaching package: 'S4Vectors'
The following object is masked from 'package:utils':
findMatches
The following objects are masked from 'package:base':
I, expand.grid, unname
> library(RSQLite)
>
> hmdb <- system.file("sdf/HMDB_sub.sdf.gz", package = "CompoundDb")
> cmps <- compound_tbl_sdf(hmdb)
> metad <- data.frame(name = c("source", "url", "source_version",
+ "source_date", "organism"),
+ value = c("HMDB_test", "http://www.hmdb.ca",
+ "v4", "2017-08-27", "Hsapiens"))
> db_file <- createCompDb(cmps, metadata = metad, path = tempdir())
> cmp_db <- CompDb(db_file)
>
> dr <- system.file("xml/", package = "CompoundDb")
> msms_spctra <- msms_spectra_hmdb(dr)
Going to process 4 xml files.
Postprocessing data ... OK
> ## spl_ <- as(msms_spctra, "Spectra")
>
> metad2 <- data.frame(name = c("source", "url", "source_version",
+ "source_date", "organism"),
+ value = c("HMDB_spctra", "http://www.hmdb.ca",
+ "v4", "2017-08-27", "Hsapiens"))
> db_spctra_file <- createCompDb(cmps, metadata = metad2, path = tempdir(),
+ msms_spectra = msms_spctra)
> cmp_spctra_db <- CompDb(db_spctra_file)
>
> cdb <- CompDb(system.file("sql/CompDb.MassBank.sql", package = "CompoundDb"))
>
> ions <- data.frame(compound_id = paste0("HMDB000000",
+ c("1", "1", "2", "2", "5")),
+ ion_adduct = c("A", "B", "B", "C", "D"),
+ ion_mz = c(100, 110, 150, 170, 200),
+ ion_rt = c(50, 60, 100, 110, 90))
> ion_db <- IonDb(paste0(tempdir(), "/ion_db.db"), cmp_db, ions)
>
> ion_spctra_db <- IonDb(paste0(tempdir(), "/ion_spctra_db.db"),
+ cmp_spctra_db, ions)
>
> test_check("CompoundDb")
Creating package in /tmp/Rtmpn7F1dl/CompDb.Hsapiens.ChEBI.unknown
[ FAIL 0 | WARN 6 | SKIP 0 | PASS 784 ]
[ FAIL 0 | WARN 6 | SKIP 0 | PASS 784 ]
Warning message:
call dbDisconnect() when finished working with a connection
>
> library(Spectra)
Loading required package: BiocParallel
> be <- backendInitialize(MsBackendCompDb(), cmp_spctra_db)
> test_suite <- system.file("test_backends", "test_MsBackend",
+ package = "Spectra")
> test_dir(test_suite, stop_on_failure = TRUE)
✔ | F W S OK | Context
⠏ | 0 | peaks_variables
⠋ | 1 | peaks_variables
✔ | 4 | peaks_variables
⠏ | 0 | spectra_subsetting
⠏ | 10 | spectra_subsetting
⠦ | 17 | spectra_subsetting
⠧ | 18 | spectra_subsetting
⠇ | 19 | spectra_subsetting
⠏ | 20 | spectra_subsetting
⠹ | 23 | spectra_subsetting
⠸ | 24 | spectra_subsetting
⠼ | 25 | spectra_subsetting
⠙ | 32 | spectra_subsetting
⠹ | 33 | spectra_subsetting
⠇ | 39 | spectra_subsetting
⠼ | 45 | spectra_subsetting
⠦ | 47 | spectra_subsetting
⠙ | 52 | spectra_subsetting
⠴ | 1 55 | spectra_subsetting
⠇ | 1 58 | spectra_subsetting
✔ | 1 61 | spectra_subsetting [2.7s]
⠏ | 0 | spectra_variables
⠴ | 6 | spectra_variables
⠸ | 14 | spectra_variables
⠋ | 21 | spectra_variables
⠦ | 27 | spectra_variables
⠙ | 32 | spectra_variables
⠋ | 41 | spectra_variables
⠏ | 50 | spectra_variables
⠸ | 54 | spectra_variables
⠸ | 64 | spectra_variables
✔ | 64 | spectra_variables [1.1s]
══ Results ═════════════════════════════════════════════════════════════════════
Duration: 3.9 s
── Skipped tests (1) ───────────────────────────────────────────────────────────
• empty test (1): 'test_spectra_subsetting.R:131:1'
[ FAIL 0 | WARN 0 | SKIP 1 | PASS 129 ]
>
> proc.time()
user system elapsed
47.745 6.453 52.939
CompoundDb.Rcheck/CompoundDb-Ex.timings
| name | user | system | elapsed | |
| CompDb | 2.223 | 0.183 | 2.467 | |
| Filter-classes | 0.029 | 0.006 | 0.034 | |
| IonDb | 0.609 | 0.113 | 0.735 | |
| MsBackendCompDb | 0.267 | 0.039 | 0.308 | |
| compound_tbl_lipidblast | 2.282 | 0.265 | 2.431 | |
| compound_tbl_sdf | 0.255 | 0.040 | 0.305 | |
| createCompDb | 0.725 | 0.142 | 0.877 | |
| expandMzIntensity | 0.046 | 0.019 | 0.067 | |
| import_mona_sdf | 0.047 | 0.005 | 0.053 | |
| msms_spectra_hmdb | 0.066 | 0.022 | 0.089 | |
| msms_spectra_mona | 0.109 | 0.050 | 0.162 | |