Back to Multiple platform build/check report for BioC 3.21:   simplified   long
ABCDEFGHIJKL[M]NOPQRSTUVWXYZ

This page was generated on 2025-10-16 11:39 -0400 (Thu, 16 Oct 2025).

HostnameOSArch (*)R versionInstalled pkgs
nebbiolo1Linux (Ubuntu 24.04.3 LTS)x86_644.5.1 (2025-06-13) -- "Great Square Root" 4833
merida1macOS 12.7.6 Montereyx86_644.5.1 RC (2025-06-05 r88288) -- "Great Square Root" 4614
kjohnson1macOS 13.7.5 Venturaarm644.5.1 Patched (2025-06-14 r88325) -- "Great Square Root" 4555
kunpeng2Linux (openEuler 24.03 LTS)aarch64R Under development (unstable) (2025-02-19 r87757) -- "Unsuffered Consequences" 4586
Click on any hostname to see more info about the system (e.g. compilers)      (*) as reported by 'uname -p', except on Windows and Mac OS X

Package 1373/2341HostnameOS / ArchINSTALLBUILDCHECKBUILD BIN
MSnID 1.42.0  (landing page)
Vlad Petyuk
Snapshot Date: 2025-10-13 13:40 -0400 (Mon, 13 Oct 2025)
git_url: https://git.bioconductor.org/packages/MSnID
git_branch: RELEASE_3_21
git_last_commit: 6adbfff
git_last_commit_date: 2025-04-15 10:34:15 -0400 (Tue, 15 Apr 2025)
nebbiolo1Linux (Ubuntu 24.04.3 LTS) / x86_64  OK    OK    OK  UNNEEDED, same version is already published
merida1macOS 12.7.6 Monterey / x86_64  OK    OK    OK    OK  UNNEEDED, same version is already published
kjohnson1macOS 13.7.5 Ventura / arm64  OK    OK    ERROR    OK  
kunpeng2Linux (openEuler 24.03 LTS) / aarch64  OK    OK    ERROR  


CHECK results for MSnID on merida1

To the developers/maintainers of the MSnID package:
- Allow up to 24 hours (and sometimes 48 hours) for your latest push to git@git.bioconductor.org:packages/MSnID.git to reflect on this report. See Troubleshooting Build Report for more information.
- Use the following Renviron settings to reproduce errors and warnings.
- If 'R CMD check' started to fail recently on the Linux builder(s) over a missing dependency, add the missing dependency to 'Suggests:' in your DESCRIPTION file. See Renviron.bioc for more information.

raw results


Summary

Package: MSnID
Version: 1.42.0
Command: /Library/Frameworks/R.framework/Resources/bin/R CMD check --install=check:MSnID.install-out.txt --library=/Library/Frameworks/R.framework/Resources/library --no-vignettes --timings MSnID_1.42.0.tar.gz
StartedAt: 2025-10-14 07:06:21 -0400 (Tue, 14 Oct 2025)
EndedAt: 2025-10-14 07:21:08 -0400 (Tue, 14 Oct 2025)
EllapsedTime: 887.3 seconds
RetCode: 0
Status:   OK  
CheckDir: MSnID.Rcheck
Warnings: 0

Command output

##############################################################################
##############################################################################
###
### Running command:
###
###   /Library/Frameworks/R.framework/Resources/bin/R CMD check --install=check:MSnID.install-out.txt --library=/Library/Frameworks/R.framework/Resources/library --no-vignettes --timings MSnID_1.42.0.tar.gz
###
##############################################################################
##############################################################################


* using log directory ‘/Users/biocbuild/bbs-3.21-bioc/meat/MSnID.Rcheck’
* using R version 4.5.1 RC (2025-06-05 r88288)
* using platform: x86_64-apple-darwin20
* R was compiled by
    Apple clang version 14.0.0 (clang-1400.0.29.202)
    GNU Fortran (GCC) 14.2.0
* running under: macOS Monterey 12.7.6
* using session charset: UTF-8
* using option ‘--no-vignettes’
* checking for file ‘MSnID/DESCRIPTION’ ... OK
* checking extension type ... Package
* this is package ‘MSnID’ version ‘1.42.0’
* checking package namespace information ... OK
* checking package dependencies ... INFO
Imports includes 25 non-default packages.
Importing from so many packages makes the package vulnerable to any of
them becoming unavailable.  Move as many as possible to Suggests and
use conditionally.
* checking if this is a source package ... OK
* checking if there is a namespace ... OK
* checking for hidden files and directories ... OK
* checking for portable file names ... OK
* checking for sufficient/correct file permissions ... OK
* checking whether package ‘MSnID’ can be installed ... OK
* checking installed package size ... OK
* checking package directory ... OK
* checking ‘build’ directory ... OK
* checking DESCRIPTION meta-information ... OK
* checking top-level files ... OK
* checking for left-over files ... OK
* checking index information ... OK
* checking package subdirectories ... OK
* checking code files for non-ASCII characters ... OK
* checking R files for syntax errors ... OK
* checking whether the package can be loaded ... OK
* checking whether the package can be loaded with stated dependencies ... OK
* checking whether the package can be unloaded cleanly ... OK
* checking whether the namespace can be loaded with stated dependencies ... OK
* checking whether the namespace can be unloaded cleanly ... OK
* checking dependencies in R code ... NOTE
Namespaces in Imports field not imported from:
  ‘BiocGenerics’ ‘BiocStyle’ ‘RUnit’ ‘ggplot2’ ‘msmsTests’ ‘xtable’
  All declared Imports should be used.
* checking S3 generic/method consistency ... OK
* checking replacement functions ... OK
* checking foreign function calls ... OK
* checking R code for possible problems ... NOTE
.read_mzIDs.mzR.engine.single.file: no visible binding for global
  variable ‘peptideRef’
Undefined global functions or variables:
  peptideRef
* checking Rd files ... OK
* checking Rd metadata ... OK
* checking Rd cross-references ... NOTE
Found the following Rd file(s) with Rd \link{} targets missing package
anchors:
  MSnID-class.Rd: MSnSet
  MSnID-package.Rd: mzID
Please provide package anchors for all Rd \link{} targets not in the
package itself and the base packages.
* checking for missing documentation entries ... OK
* checking for code/documentation mismatches ... OK
* checking Rd \usage sections ... OK
* checking Rd contents ... OK
* checking for unstated dependencies in examples ... OK
* checking contents of ‘data’ directory ... OK
* checking data for non-ASCII characters ... OK
* checking LazyData ... OK
* checking data for ASCII and uncompressed saves ... OK
* checking sizes of PDF files under ‘inst/doc’ ... OK
* checking files in ‘vignettes’ ... OK
* checking examples ... OK
Examples with CPU (user + system) or elapsed time > 5s
                          user system elapsed
fetch_conversion_table  21.102  2.338  24.603
remap_accessions-method 12.802  0.913  14.063
remap_fasta_entry_names 12.016  0.880  13.365
optimize_filter          4.458  0.189  38.082
* checking for unstated dependencies in ‘tests’ ... OK
* checking tests ...
  Running ‘runTests.R’
 OK
* checking for unstated dependencies in vignettes ... OK
* checking package vignettes ... OK
* checking running R code from vignettes ... SKIPPED
* checking re-building of vignette outputs ... SKIPPED
* checking PDF version of manual ... OK
* DONE

Status: 3 NOTEs
See
  ‘/Users/biocbuild/bbs-3.21-bioc/meat/MSnID.Rcheck/00check.log’
for details.


Installation output

MSnID.Rcheck/00install.out

##############################################################################
##############################################################################
###
### Running command:
###
###   /Library/Frameworks/R.framework/Resources/bin/R CMD INSTALL MSnID
###
##############################################################################
##############################################################################


* installing to library ‘/Library/Frameworks/R.framework/Versions/4.5-x86_64/Resources/library’
* installing *source* package ‘MSnID’ ...
** this is package ‘MSnID’ version ‘1.42.0’
** using staged installation
** R
** data
*** moving datasets to lazyload DB
** demo
** inst
** byte-compile and prepare package for lazy loading
** help
*** installing help indices
** building package indices
** installing vignettes
** testing if installed package can be loaded from temporary location
** testing if installed package can be loaded from final location
** testing if installed package keeps a record of temporary installation path
* DONE (MSnID)

Tests output

MSnID.Rcheck/tests/runTests.Rout


R version 4.5.1 RC (2025-06-05 r88288) -- "Great Square Root"
Copyright (C) 2025 The R Foundation for Statistical Computing
Platform: x86_64-apple-darwin20

R is free software and comes with ABSOLUTELY NO WARRANTY.
You are welcome to redistribute it under certain conditions.
Type 'license()' or 'licence()' for distribution details.

R is a collaborative project with many contributors.
Type 'contributors()' for more information and
'citation()' on how to cite R or R packages in publications.

Type 'demo()' for some demos, 'help()' for on-line help, or
'help.start()' for an HTML browser interface to help.
Type 'q()' to quit R.

> BiocGenerics:::testPackage("MSnID")
Note, the anticipated/suggested columns in the
peptide-to-spectrum matching results are:
-----------------------------------------------
accession
calculatedMassToCharge
chargeState
experimentalMassToCharge
isDecoy
peptide
spectrumFile
spectrumID
Reading from mzIdentMLs ...

reading c_elegans.mzid.gz... DONE!
Reading from mzIdentMLs ...



RUNIT TEST PROTOCOL -- Tue Oct 14 07:20:55 2025 
*********************************************** 
Number of test functions: 19 
Number of errors: 0 
Number of failures: 0 

 
1 Test Suite : 
MSnID RUnit Tests - 19 test functions, 0 errors, 0 failures
Number of test functions: 19 
Number of errors: 0 
Number of failures: 0 
There were 12 warnings (use warnings() to see them)
> 
> proc.time()
   user  system elapsed 
 90.332   3.148 129.835 

Example timings

MSnID.Rcheck/MSnID-Ex.timings

nameusersystemelapsed
MSnID-class0.0010.0020.002
MSnIDFilter-class1.2040.0221.231
accessions0.0950.0090.104
add_mod_symbol1.7860.0321.873
apply_filter0.3390.0140.360
assess_missed_cleavages0.2280.0110.261
assess_termini0.3020.0210.376
correct_peak_selection0.1290.0050.146
data0.1070.0060.124
evaluate_filter0.3140.0080.322
fetch_conversion_table21.102 2.33824.603
id_quality0.1170.0050.121
infer_parsimonious_accessions3.1840.0633.253
map_mod_sites2.2650.0452.316
mass_measurement_error0.0940.0050.099
optimize_filter 4.458 0.18938.082
peptides0.0860.0040.092
psms0.1020.0100.121
read_mzIDs0.0000.0000.001
recalibrate0.1070.0090.118
remap_accessions-method12.802 0.91314.063
remap_fasta_entry_names12.016 0.88013.365
report_mods1.9820.1492.151