| Back to Multiple platform build/check report for BioC 3.21: simplified long |
|
This page was generated on 2025-10-16 11:41 -0400 (Thu, 16 Oct 2025).
| Hostname | OS | Arch (*) | R version | Installed pkgs |
|---|---|---|---|---|
| nebbiolo1 | Linux (Ubuntu 24.04.3 LTS) | x86_64 | 4.5.1 (2025-06-13) -- "Great Square Root" | 4833 |
| merida1 | macOS 12.7.6 Monterey | x86_64 | 4.5.1 RC (2025-06-05 r88288) -- "Great Square Root" | 4614 |
| kjohnson1 | macOS 13.7.5 Ventura | arm64 | 4.5.1 Patched (2025-06-14 r88325) -- "Great Square Root" | 4555 |
| kunpeng2 | Linux (openEuler 24.03 LTS) | aarch64 | R Under development (unstable) (2025-02-19 r87757) -- "Unsuffered Consequences" | 4586 |
| Click on any hostname to see more info about the system (e.g. compilers) (*) as reported by 'uname -p', except on Windows and Mac OS X | ||||
| Package 2322/2341 | Hostname | OS / Arch | INSTALL | BUILD | CHECK | BUILD BIN | ||||||||
| xcms 4.6.4 (landing page) Steffen Neumann
| nebbiolo1 | Linux (Ubuntu 24.04.3 LTS) / x86_64 | OK | OK | OK | |||||||||
| merida1 | macOS 12.7.6 Monterey / x86_64 | OK | OK | OK | OK | |||||||||
| kjohnson1 | macOS 13.7.5 Ventura / arm64 | OK | OK | OK | OK | |||||||||
| kunpeng2 | Linux (openEuler 24.03 LTS) / aarch64 | OK | OK | NA | ||||||||||
|
To the developers/maintainers of the xcms package: - Allow up to 24 hours (and sometimes 48 hours) for your latest push to git@git.bioconductor.org:packages/xcms.git to reflect on this report. See Troubleshooting Build Report for more information. - Use the following Renviron settings to reproduce errors and warnings. - If 'R CMD check' started to fail recently on the Linux builder(s) over a missing dependency, add the missing dependency to 'Suggests:' in your DESCRIPTION file. See Renviron.bioc for more information. |
| Package: xcms |
| Version: 4.6.4 |
| Command: rm -rf xcms.buildbin-libdir && mkdir xcms.buildbin-libdir && /Users/biocbuild/BBS/utils/build-universal.sh xcms_4.6.4.tar.gz /Library/Frameworks/R.framework/Resources/bin/R xcms.buildbin-libdir |
| StartedAt: 2025-10-15 21:02:20 -0400 (Wed, 15 Oct 2025) |
| EndedAt: 2025-10-15 21:04:25 -0400 (Wed, 15 Oct 2025) |
| EllapsedTime: 125.5 seconds |
| RetCode: 0 |
| Status: OK |
| PackageFile: xcms_4.6.4.tgz |
| PackageFileSize: 12.19 MiB |
##############################################################################
##############################################################################
###
### Running command:
###
### rm -rf xcms.buildbin-libdir && mkdir xcms.buildbin-libdir && /Users/biocbuild/BBS/utils/build-universal.sh xcms_4.6.4.tar.gz /Library/Frameworks/R.framework/Resources/bin/R xcms.buildbin-libdir
###
##############################################################################
##############################################################################
>>>>>>>
>>>>>>> INSTALLATION WITH 'R CMD INSTALL --preclean --no-multiarch --library=xcms.buildbin-libdir xcms_4.6.4.tar.gz'
>>>>>>>
* installing *source* package ‘xcms’ ...
** this is package ‘xcms’ version ‘4.6.4’
** using staged installation
** libs
using C compiler: ‘Apple clang version 15.0.0 (clang-1500.0.40.1)’
using C++ compiler: ‘Apple clang version 15.0.0 (clang-1500.0.40.1)’
using SDK: ‘MacOSX11.3.sdk’
rm -f massifquant/xcms_massifquant.o massifquant/TrMgr.o massifquant/Tracker.o massifquant/SegProc.o massifquant/DataKeeper.o massifquant/OpOverload.o obiwarp/mat.o obiwarp/vec.o obiwarp/xcms_dynprog.o obiwarp/xcms_lmat.o xcms_obiwarp.o fastMatch.o mzClust_hclust.o mzROI.o util.o xcms.o binners.o
clang++ -arch arm64 -std=gnu++17 -I"/Library/Frameworks/R.framework/Resources/include" -DNDEBUG -I/opt/R/arm64/include -fPIC -falign-functions=64 -Wall -g -O2 -c massifquant/xcms_massifquant.cpp -o massifquant/xcms_massifquant.o
clang++ -arch arm64 -std=gnu++17 -I"/Library/Frameworks/R.framework/Resources/include" -DNDEBUG -I/opt/R/arm64/include -fPIC -falign-functions=64 -Wall -g -O2 -c massifquant/TrMgr.cpp -o massifquant/TrMgr.o
clang++ -arch arm64 -std=gnu++17 -I"/Library/Frameworks/R.framework/Resources/include" -DNDEBUG -I/opt/R/arm64/include -fPIC -falign-functions=64 -Wall -g -O2 -c massifquant/Tracker.cpp -o massifquant/Tracker.o
In file included from massifquant/Tracker.cpp:8:
massifquant/Tracker.h:49:16: warning: private field 'r_val_i' is not used [-Wunused-private-field]
double r_val_i;
^
massifquant/Tracker.h:50:16: warning: private field 'p_val_i' is not used [-Wunused-private-field]
double p_val_i;
^
massifquant/Tracker.h:53:16: warning: private field 'r_val_m' is not used [-Wunused-private-field]
double r_val_m;
^
massifquant/Tracker.h:54:16: warning: private field 'p_val_m' is not used [-Wunused-private-field]
double p_val_m;
^
4 warnings generated.
clang++ -arch arm64 -std=gnu++17 -I"/Library/Frameworks/R.framework/Resources/include" -DNDEBUG -I/opt/R/arm64/include -fPIC -falign-functions=64 -Wall -g -O2 -c massifquant/SegProc.cpp -o massifquant/SegProc.o
clang++ -arch arm64 -std=gnu++17 -I"/Library/Frameworks/R.framework/Resources/include" -DNDEBUG -I/opt/R/arm64/include -fPIC -falign-functions=64 -Wall -g -O2 -c massifquant/DataKeeper.cpp -o massifquant/DataKeeper.o
In file included from massifquant/DataKeeper.cpp:4:
massifquant/DataKeeper.h:36:26: warning: private field 'scbuf' is not used [-Wunused-private-field]
struct scanBuf * scbuf;
^
1 warning generated.
clang++ -arch arm64 -std=gnu++17 -I"/Library/Frameworks/R.framework/Resources/include" -DNDEBUG -I/opt/R/arm64/include -fPIC -falign-functions=64 -Wall -g -O2 -c massifquant/OpOverload.cpp -o massifquant/OpOverload.o
clang++ -arch arm64 -std=gnu++17 -I"/Library/Frameworks/R.framework/Resources/include" -DNDEBUG -I/opt/R/arm64/include -fPIC -falign-functions=64 -Wall -g -O2 -c obiwarp/mat.cpp -o obiwarp/mat.o
obiwarp/mat.cpp:137:9: warning: variable 'linelength' set but not used [-Wunused-but-set-variable]
int linelength = 0;
^
obiwarp/mat.cpp:545:9: warning: variable 'linelength' set but not used [-Wunused-but-set-variable]
int linelength = 0;
^
obiwarp/mat.cpp:953:9: warning: variable 'linelength' set but not used [-Wunused-but-set-variable]
int linelength = 0;
^
3 warnings generated.
clang++ -arch arm64 -std=gnu++17 -I"/Library/Frameworks/R.framework/Resources/include" -DNDEBUG -I/opt/R/arm64/include -fPIC -falign-functions=64 -Wall -g -O2 -c obiwarp/vec.cpp -o obiwarp/vec.o
clang++ -arch arm64 -std=gnu++17 -I"/Library/Frameworks/R.framework/Resources/include" -DNDEBUG -I/opt/R/arm64/include -fPIC -falign-functions=64 -Wall -g -O2 -c obiwarp/xcms_dynprog.cpp -o obiwarp/xcms_dynprog.o
obiwarp/xcms_dynprog.cpp:1113:9: warning: variable 'bestscore' set but not used [-Wunused-but-set-variable]
float bestscore;
^
1 warning generated.
clang++ -arch arm64 -std=gnu++17 -I"/Library/Frameworks/R.framework/Resources/include" -DNDEBUG -I/opt/R/arm64/include -fPIC -falign-functions=64 -Wall -g -O2 -c obiwarp/xcms_lmat.cpp -o obiwarp/xcms_lmat.o
clang++ -arch arm64 -std=gnu++17 -I"/Library/Frameworks/R.framework/Resources/include" -DNDEBUG -I/opt/R/arm64/include -fPIC -falign-functions=64 -Wall -g -O2 -c xcms_obiwarp.cpp -o xcms_obiwarp.o
clang -arch arm64 -std=gnu2x -I"/Library/Frameworks/R.framework/Resources/include" -DNDEBUG -I/opt/R/arm64/include -fPIC -falign-functions=64 -Wall -g -O2 -c fastMatch.c -o fastMatch.o
clang -arch arm64 -std=gnu2x -I"/Library/Frameworks/R.framework/Resources/include" -DNDEBUG -I/opt/R/arm64/include -fPIC -falign-functions=64 -Wall -g -O2 -c mzClust_hclust.c -o mzClust_hclust.o
clang -arch arm64 -std=gnu2x -I"/Library/Frameworks/R.framework/Resources/include" -DNDEBUG -I/opt/R/arm64/include -fPIC -falign-functions=64 -Wall -g -O2 -c mzROI.c -o mzROI.o
clang -arch arm64 -std=gnu2x -I"/Library/Frameworks/R.framework/Resources/include" -DNDEBUG -I/opt/R/arm64/include -fPIC -falign-functions=64 -Wall -g -O2 -c util.c -o util.o
clang -arch arm64 -std=gnu2x -I"/Library/Frameworks/R.framework/Resources/include" -DNDEBUG -I/opt/R/arm64/include -fPIC -falign-functions=64 -Wall -g -O2 -c xcms.c -o xcms.o
clang -arch arm64 -std=gnu2x -I"/Library/Frameworks/R.framework/Resources/include" -DNDEBUG -I/opt/R/arm64/include -fPIC -falign-functions=64 -Wall -g -O2 -c binners.c -o binners.o
binners.c:357:7: warning: unused variable 'idx' [-Wunused-variable]
int idx = 0;
^
1 warning generated.
clang++ -arch arm64 -std=gnu++17 -dynamiclib -Wl,-headerpad_max_install_names -undefined dynamic_lookup -L/Library/Frameworks/R.framework/Resources/lib -L/opt/R/arm64/lib -o xcms.so massifquant/xcms_massifquant.o massifquant/TrMgr.o massifquant/Tracker.o massifquant/SegProc.o massifquant/DataKeeper.o massifquant/OpOverload.o obiwarp/mat.o obiwarp/vec.o obiwarp/xcms_dynprog.o obiwarp/xcms_lmat.o xcms_obiwarp.o fastMatch.o mzClust_hclust.o mzROI.o util.o xcms.o binners.o -F/Library/Frameworks/R.framework/.. -framework R
installing to /Users/biocbuild/bbs-3.21-bioc/meat/xcms.buildbin-libdir/00LOCK-xcms/00new/xcms/libs
** R
** data
** inst
** byte-compile and prepare package for lazy loading
Creating a new generic function for ‘group’ in package ‘xcms’
Creating a new generic function for ‘sigma’ in package ‘xcms’
** help
*** installing help indices
*** copying figures
** building package indices
** installing vignettes
** testing if installed package can be loaded from temporary location
** checking absolute paths in shared objects and dynamic libraries
** testing if installed package can be loaded from final location
** testing if installed package keeps a record of temporary installation path
* DONE (xcms)
>>>>>>>
>>>>>>> FIXING PATHS TO DYNAMIC LIBRARIES FOR xcms.buildbin-libdir/xcms/libs/xcms.so
>>>>>>>
>>>>>>> Paths before fix:
xcms.buildbin-libdir/xcms/libs/xcms.so:
xcms.so (compatibility version 0.0.0, current version 0.0.0)
/Library/Frameworks/R.framework/Versions/4.5-arm64/Resources/lib/libR.dylib (compatibility version 4.5.0, current version 4.5.1)
/usr/lib/libc++.1.dylib (compatibility version 1.0.0, current version 905.6.0)
/usr/lib/libSystem.B.dylib (compatibility version 1.0.0, current version 1292.100.5)
>>>>>>> Fix with install_name_tool:
install_name_tool -change "/usr/local/lib/libgcc_s.1.1.dylib" "/Library/Frameworks/R.framework/Versions/4.5-arm64/Resources/lib/libgcc_s.1.1.dylib" "xcms.buildbin-libdir/xcms/libs/xcms.so"
install_name_tool -change "/usr/local/lib/libgfortran.5.dylib" "/Library/Frameworks/R.framework/Versions/4.5-arm64/Resources/lib/libgfortran.5.dylib" "xcms.buildbin-libdir/xcms/libs/xcms.so"
install_name_tool -change "/usr/local/lib/libquadmath.0.dylib" "/Library/Frameworks/R.framework/Versions/4.5-arm64/Resources/lib/libquadmath.0.dylib" "xcms.buildbin-libdir/xcms/libs/xcms.so"
>>>>>>> Paths after fix:
xcms.buildbin-libdir/xcms/libs/xcms.so:
xcms.so (compatibility version 0.0.0, current version 0.0.0)
/Library/Frameworks/R.framework/Versions/4.5-arm64/Resources/lib/libR.dylib (compatibility version 4.5.0, current version 4.5.1)
/usr/lib/libc++.1.dylib (compatibility version 1.0.0, current version 905.6.0)
/usr/lib/libSystem.B.dylib (compatibility version 1.0.0, current version 1292.100.5)