| Back to Multiple platform build/check report for BioC 3.9 |
|
This page was generated on 2019-04-08 11:26:22 -0400 (Mon, 08 Apr 2019).
| Package 123/1703 | Hostname | OS / Arch | INSTALL | BUILD | CHECK | BUILD BIN | ||||||
| BEclear 1.99.1 David Rasp
| malbec2 | Linux (Ubuntu 18.04.2 LTS) / x86_64 | OK | OK | [ OK ] | |||||||
| tokay2 | Windows Server 2012 R2 Standard / x64 | OK | OK | OK | OK | |||||||
| celaya2 | OS X 10.11.6 El Capitan / x86_64 | OK | OK | OK | OK | |||||||
| merida2 | OS X 10.11.6 El Capitan / x86_64 | OK | OK | OK | OK |
| Package: BEclear |
| Version: 1.99.1 |
| Command: /home/biocbuild/bbs-3.9-bioc/R/bin/R CMD check --install=check:BEclear.install-out.txt --library=/home/biocbuild/bbs-3.9-bioc/R/library --no-vignettes --timings BEclear_1.99.1.tar.gz |
| StartedAt: 2019-04-07 23:06:36 -0400 (Sun, 07 Apr 2019) |
| EndedAt: 2019-04-07 23:07:46 -0400 (Sun, 07 Apr 2019) |
| EllapsedTime: 70.6 seconds |
| RetCode: 0 |
| Status: OK |
| CheckDir: BEclear.Rcheck |
| Warnings: 0 |
##############################################################################
##############################################################################
###
### Running command:
###
### /home/biocbuild/bbs-3.9-bioc/R/bin/R CMD check --install=check:BEclear.install-out.txt --library=/home/biocbuild/bbs-3.9-bioc/R/library --no-vignettes --timings BEclear_1.99.1.tar.gz
###
##############################################################################
##############################################################################
* using log directory ‘/home/biocbuild/bbs-3.9-bioc/meat/BEclear.Rcheck’
* using R Under development (unstable) (2019-03-18 r76245)
* using platform: x86_64-pc-linux-gnu (64-bit)
* using session charset: UTF-8
* using option ‘--no-vignettes’
* checking for file ‘BEclear/DESCRIPTION’ ... OK
* checking extension type ... Package
* this is package ‘BEclear’ version ‘1.99.1’
* package encoding: UTF-8
* checking package namespace information ... OK
* checking package dependencies ... OK
* checking if this is a source package ... OK
* checking if there is a namespace ... OK
* checking for hidden files and directories ... NOTE
Found the following hidden files and directories:
.travis.yml
.github
These were most likely included in error. See section ‘Package
structure’ in the ‘Writing R Extensions’ manual.
* checking for portable file names ... OK
* checking for sufficient/correct file permissions ... OK
* checking whether package ‘BEclear’ can be installed ... OK
* checking installed package size ... OK
* checking package directory ... OK
* checking ‘build’ directory ... OK
* checking DESCRIPTION meta-information ... OK
* checking top-level files ... NOTE
File
LICENSE
is not mentioned in the DESCRIPTION file.
* checking for left-over files ... OK
* checking index information ... OK
* checking package subdirectories ... OK
* checking R files for non-ASCII characters ... OK
* checking R files for syntax errors ... OK
* checking whether the package can be loaded ... OK
* checking whether the package can be loaded with stated dependencies ... OK
* checking whether the package can be unloaded cleanly ... OK
* checking whether the namespace can be loaded with stated dependencies ... OK
* checking whether the namespace can be unloaded cleanly ... OK
* checking dependencies in R code ... OK
* checking S3 generic/method consistency ... OK
* checking replacement functions ... OK
* checking foreign function calls ... OK
* checking R code for possible problems ... OK
* checking Rd files ... OK
* checking Rd metadata ... OK
* checking Rd cross-references ... OK
* checking for missing documentation entries ... OK
* checking for code/documentation mismatches ... OK
* checking Rd \usage sections ... OK
* checking Rd contents ... OK
* checking for unstated dependencies in examples ... OK
* checking contents of ‘data’ directory ... OK
* checking data for non-ASCII characters ... OK
* checking data for ASCII and uncompressed saves ... OK
* checking line endings in C/C++/Fortran sources/headers ... OK
* checking compiled code ... NOTE
Note: information on .o files is not available
* checking files in ‘vignettes’ ... OK
* checking examples ... OK
Examples with CPU or elapsed time > 5s
user system elapsed
BEclear-package 11.842 0.06 2.876
* checking for unstated dependencies in ‘tests’ ... OK
* checking tests ...
Running ‘testthat.R’
OK
* checking for unstated dependencies in vignettes ... OK
* checking package vignettes in ‘inst/doc’ ... OK
* checking running R code from vignettes ... SKIPPED
* checking re-building of vignette outputs ... SKIPPED
* checking PDF version of manual ... OK
* DONE
Status: 3 NOTEs
See
‘/home/biocbuild/bbs-3.9-bioc/meat/BEclear.Rcheck/00check.log’
for details.
BEclear.Rcheck/00install.out
############################################################################## ############################################################################## ### ### Running command: ### ### /home/biocbuild/bbs-3.9-bioc/R/bin/R CMD INSTALL BEclear ### ############################################################################## ############################################################################## * installing to library ‘/home/biocbuild/bbs-3.9-bioc/R/library’ * installing *source* package ‘BEclear’ ... ** using staged installation ** libs g++ -std=gnu++11 -I"/home/biocbuild/bbs-3.9-bioc/R/include" -DNDEBUG -I"/home/biocbuild/bbs-3.9-bioc/R/library/Rcpp/include" -I/usr/local/include -fpic -g -O2 -Wall -c RcppExports.cpp -o RcppExports.o g++ -std=gnu++11 -I"/home/biocbuild/bbs-3.9-bioc/R/include" -DNDEBUG -I"/home/biocbuild/bbs-3.9-bioc/R/library/Rcpp/include" -I/usr/local/include -fpic -g -O2 -Wall -c localLoss.cpp -o localLoss.o g++ -std=gnu++11 -shared -L/home/biocbuild/bbs-3.9-bioc/R/lib -L/usr/local/lib -o BEclear.so RcppExports.o localLoss.o -L/home/biocbuild/bbs-3.9-bioc/R/lib -lR installing to /home/biocbuild/bbs-3.9-bioc/R/library/00LOCK-BEclear/00new/BEclear/libs ** R ** data ** inst ** byte-compile and prepare package for lazy loading ** help Loading required namespace: BEclear *** installing help indices ** building package indices ** installing vignettes ** testing if installed package can be loaded from temporary location ** checking absolute paths in shared objects and dynamic libraries ** testing if installed package can be loaded from final location ** testing if installed package keeps a record of temporary installation path * DONE (BEclear)
BEclear.Rcheck/tests/testthat.Rout
R Under development (unstable) (2019-03-18 r76245) -- "Unsuffered Consequences"
Copyright (C) 2019 The R Foundation for Statistical Computing
Platform: x86_64-pc-linux-gnu (64-bit)
R is free software and comes with ABSOLUTELY NO WARRANTY.
You are welcome to redistribute it under certain conditions.
Type 'license()' or 'licence()' for distribution details.
R is a collaborative project with many contributors.
Type 'contributors()' for more information and
'citation()' on how to cite R or R packages in publications.
Type 'demo()' for some demos, 'help()' for on-line help, or
'help.start()' for an HTML browser interface to help.
Type 'q()' to quit R.
> library(testthat)
> library(BEclear)
Loading required package: BiocParallel
>
> test_check("BEclear")
INFO [2019-04-07 23:07:36] Calculate the batch effects for 2 batches
INFO [2019-04-07 23:07:37] Calculate the batch effects for 3 batches
INFO [2019-04-07 23:07:38] Calculate the batch effects for 3 batches
INFO [2019-04-07 23:07:38] Adjusting p-values
INFO [2019-04-07 23:07:40] Transforming matrix to data.table
INFO [2019-04-07 23:07:40] Calculate the batch effects for 4 batches
INFO [2019-04-07 23:07:40] Adjusting p-values
INFO [2019-04-07 23:07:40] Generating a summary table
INFO [2019-04-07 23:07:40] Calculating the scores for 4 batches
INFO [2019-04-07 23:07:40] Generating a summary table
INFO [2019-04-07 23:07:40] Generating a summary table
INFO [2019-04-07 23:07:41] Transforming matrix to data.table
INFO [2019-04-07 23:07:41] Calculate the batch effects for 3 batches
INFO [2019-04-07 23:07:41] Adjusting p-values
INFO [2019-04-07 23:07:41] Generating a summary table
INFO [2019-04-07 23:07:41] Calculating the scores for 3 batches
INFO [2019-04-07 23:07:41] Removing values with batch effect:
INFO [2019-04-07 23:07:41] 4 values ( 26.6666666666667 % of the data) set to NA
INFO [2019-04-07 23:07:41] Starting the imputation of missing values.
INFO [2019-04-07 23:07:41] This might take a while.
INFO [2019-04-07 23:07:41] BEclear imputation is started:
INFO [2019-04-07 23:07:41] block size: 60 x 60
INFO [2019-04-07 23:07:41] Impute missing data for block 1 of 1
INFO [2019-04-07 23:07:41] Replacing values below 0 or above 1:
INFO [2019-04-07 23:07:41] 0 values replaced
WARN [2019-04-07 23:07:41] 3 values are above 1 or below 0. Check your data
WARN [2019-04-07 23:07:41] Replacing them with missing values
INFO [2019-04-07 23:07:41] Transforming matrix to data.table
INFO [2019-04-07 23:07:41] Calculate the batch effects for 3 batches
INFO [2019-04-07 23:07:42] Adjusting p-values
INFO [2019-04-07 23:07:42] Generating a summary table
INFO [2019-04-07 23:07:42] Calculating the scores for 3 batches
INFO [2019-04-07 23:07:42] Removing values with batch effect:
INFO [2019-04-07 23:07:42] 3 values ( 20 % of the data) set to NA
INFO [2019-04-07 23:07:42] Starting the imputation of missing values.
INFO [2019-04-07 23:07:42] This might take a while.
INFO [2019-04-07 23:07:42] BEclear imputation is started:
INFO [2019-04-07 23:07:42] block size: 60 x 60
INFO [2019-04-07 23:07:42] Impute missing data for block 1 of 1
INFO [2019-04-07 23:07:42] Replacing values below 0 or above 1:
INFO [2019-04-07 23:07:42] 0 values replaced
WARN [2019-04-07 23:07:42] 2 values are above 1 or below 0. Check your data
WARN [2019-04-07 23:07:42] Replacing them with missing values
WARN [2019-04-07 23:07:42] The following samples are annotated in the sample matrix,
WARN [2019-04-07 23:07:42] Dropping those samples now
WARN [2019-04-07 23:07:42] Sample names aren't unique
WARN [2019-04-07 23:07:42] Transforming them to unique IDs. List with annotations will be added to the results
INFO [2019-04-07 23:07:42] Transforming matrix to data.table
INFO [2019-04-07 23:07:42] Calculate the batch effects for 2 batches
INFO [2019-04-07 23:07:42] Adjusting p-values
INFO [2019-04-07 23:07:42] Generating a summary table
INFO [2019-04-07 23:07:42] There were no batch effects detected
INFO [2019-04-07 23:07:42] Starting the imputation of missing values.
INFO [2019-04-07 23:07:42] This might take a while.
INFO [2019-04-07 23:07:42] BEclear imputation is started:
INFO [2019-04-07 23:07:42] block size: 60 x 60
INFO [2019-04-07 23:07:42] Impute missing data for block 1 of 1
INFO [2019-04-07 23:07:42] Replacing values below 0 or above 1:
INFO [2019-04-07 23:07:42] 0 values replaced
INFO [2019-04-07 23:07:42] 3 values outside of the boundaries found
INFO [2019-04-07 23:07:42] Starting the imputation of missing values.
INFO [2019-04-07 23:07:42] This might take a while.
INFO [2019-04-07 23:07:42] BEclear imputation is started:
INFO [2019-04-07 23:07:42] block size: 10 x 10
INFO [2019-04-07 23:07:42] loading futile.logger package
INFO [2019-04-07 23:07:42] Impute missing data for block 1 of 25
INFO [2019-04-07 23:07:42] Impute missing data for block 2 of 25
INFO [2019-04-07 23:07:42] Impute missing data for block 3 of 25
INFO [2019-04-07 23:07:42] Impute missing data for block 4 of 25
INFO [2019-04-07 23:07:42] Impute missing data for block 5 of 25
INFO [2019-04-07 23:07:42] Impute missing data for block 6 of 25
INFO [2019-04-07 23:07:42] Impute missing data for block 7 of 25
INFO [2019-04-07 23:07:42] Impute missing data for block 8 of 25
INFO [2019-04-07 23:07:42] Impute missing data for block 9 of 25
INFO [2019-04-07 23:07:42] Impute missing data for block 10 of 25
INFO [2019-04-07 23:07:42] Impute missing data for block 11 of 25
INFO [2019-04-07 23:07:42] Impute missing data for block 12 of 25
INFO [2019-04-07 23:07:42] Impute missing data for block 13 of 25
INFO [2019-04-07 23:07:43] Impute missing data for block 14 of 25
INFO [2019-04-07 23:07:43] Impute missing data for block 15 of 25
INFO [2019-04-07 23:07:43] Impute missing data for block 16 of 25
INFO [2019-04-07 23:07:43] Impute missing data for block 17 of 25
INFO [2019-04-07 23:07:43] Impute missing data for block 18 of 25
INFO [2019-04-07 23:07:43] Impute missing data for block 19 of 25
INFO [2019-04-07 23:07:43] Impute missing data for block 20 of 25
INFO [2019-04-07 23:07:43] Impute missing data for block 21 of 25
INFO [2019-04-07 23:07:43] Impute missing data for block 22 of 25
INFO [2019-04-07 23:07:43] Impute missing data for block 23 of 25
INFO [2019-04-07 23:07:43] Impute missing data for block 24 of 25
INFO [2019-04-07 23:07:43] Impute missing data for block 25 of 25
INFO [2019-04-07 23:07:43] Starting the imputation of missing values.
INFO [2019-04-07 23:07:43] This might take a while.
INFO [2019-04-07 23:07:43] BEclear imputation is started:
INFO [2019-04-07 23:07:43] block size: 0 x 0
INFO [2019-04-07 23:07:43] loading futile.logger package
INFO [2019-04-07 23:07:43] Impute missing data for block 1 of 1
INFO [2019-04-07 23:07:43] Replacing values below 0 or above 1:
INFO [2019-04-07 23:07:43] 3 values replaced
══ testthat results ═══════════════════════════════════════════════════════════
OK: 83 SKIPPED: 0 FAILED: 0
>
> proc.time()
user system elapsed
32.099 0.282 8.877
BEclear.Rcheck/BEclear-Ex.timings
| name | user | system | elapsed | |
| BEclear-package | 11.842 | 0.060 | 2.876 | |
| calcBatchEffects | 3.701 | 0.019 | 0.734 | |
| calcScore | 4.215 | 0.004 | 1.004 | |
| calcSummary | 4.049 | 0.020 | 0.762 | |
| clearBEgenes | 4.370 | 0.009 | 0.713 | |
| correctBatchEffect | 4.083 | 0.020 | 1.026 | |
| countValuesToPredict | 3.712 | 0.019 | 0.619 | |
| findOutsideValues | 0.35 | 0.00 | 0.35 | |
| imputeMissingData | 4.686 | 0.016 | 0.813 | |
| makeBoxplot | 4.289 | 0.008 | 0.717 | |
| preprocessBEclear | 0.188 | 0.000 | 0.034 | |
| replaceOutsideValues | 0.033 | 0.000 | 0.016 | |