| Back to Multiple platform build/check report for BioC 3.9 |
|
This page was generated on 2019-04-08 11:55:20 -0400 (Mon, 08 Apr 2019).
| Package 123/1703 | Hostname | OS / Arch | INSTALL | BUILD | CHECK | BUILD BIN | ||||||
| BEclear 1.99.1 David Rasp
| malbec2 | Linux (Ubuntu 18.04.2 LTS) / x86_64 | OK | OK | OK | |||||||
| tokay2 | Windows Server 2012 R2 Standard / x64 | OK | OK | OK | OK | |||||||
| celaya2 | OS X 10.11.6 El Capitan / x86_64 | OK | OK | [ OK ] | OK | |||||||
| merida2 | OS X 10.11.6 El Capitan / x86_64 | OK | OK | OK | OK |
| Package: BEclear |
| Version: 1.99.1 |
| Command: /Library/Frameworks/R.framework/Versions/Current/Resources/bin/R CMD check --install=check:BEclear.install-out.txt --library=/Library/Frameworks/R.framework/Versions/Current/Resources/library --no-vignettes --timings BEclear_1.99.1.tar.gz |
| StartedAt: 2019-04-08 00:07:23 -0400 (Mon, 08 Apr 2019) |
| EndedAt: 2019-04-08 00:09:04 -0400 (Mon, 08 Apr 2019) |
| EllapsedTime: 100.7 seconds |
| RetCode: 0 |
| Status: OK |
| CheckDir: BEclear.Rcheck |
| Warnings: 0 |
##############################################################################
##############################################################################
###
### Running command:
###
### /Library/Frameworks/R.framework/Versions/Current/Resources/bin/R CMD check --install=check:BEclear.install-out.txt --library=/Library/Frameworks/R.framework/Versions/Current/Resources/library --no-vignettes --timings BEclear_1.99.1.tar.gz
###
##############################################################################
##############################################################################
* using log directory ‘/Users/biocbuild/bbs-3.9-bioc/meat/BEclear.Rcheck’
* using R Under development (unstable) (2019-03-18 r76245)
* using platform: x86_64-apple-darwin15.6.0 (64-bit)
* using session charset: UTF-8
* using option ‘--no-vignettes’
* checking for file ‘BEclear/DESCRIPTION’ ... OK
* checking extension type ... Package
* this is package ‘BEclear’ version ‘1.99.1’
* package encoding: UTF-8
* checking package namespace information ... OK
* checking package dependencies ... OK
* checking if this is a source package ... OK
* checking if there is a namespace ... OK
* checking for hidden files and directories ... NOTE
Found the following hidden files and directories:
.travis.yml
.github
These were most likely included in error. See section ‘Package
structure’ in the ‘Writing R Extensions’ manual.
* checking for portable file names ... OK
* checking for sufficient/correct file permissions ... OK
* checking whether package ‘BEclear’ can be installed ... OK
* checking installed package size ... OK
* checking package directory ... OK
* checking ‘build’ directory ... OK
* checking DESCRIPTION meta-information ... OK
* checking top-level files ... NOTE
File
LICENSE
is not mentioned in the DESCRIPTION file.
* checking for left-over files ... OK
* checking index information ... OK
* checking package subdirectories ... OK
* checking R files for non-ASCII characters ... OK
* checking R files for syntax errors ... OK
* checking whether the package can be loaded ... OK
* checking whether the package can be loaded with stated dependencies ... OK
* checking whether the package can be unloaded cleanly ... OK
* checking whether the namespace can be loaded with stated dependencies ... OK
* checking whether the namespace can be unloaded cleanly ... OK
* checking dependencies in R code ... OK
* checking S3 generic/method consistency ... OK
* checking replacement functions ... OK
* checking foreign function calls ... OK
* checking R code for possible problems ... OK
* checking Rd files ... OK
* checking Rd metadata ... OK
* checking Rd cross-references ... OK
* checking for missing documentation entries ... OK
* checking for code/documentation mismatches ... OK
* checking Rd \usage sections ... OK
* checking Rd contents ... OK
* checking for unstated dependencies in examples ... OK
* checking contents of ‘data’ directory ... OK
* checking data for non-ASCII characters ... OK
* checking data for ASCII and uncompressed saves ... OK
* checking line endings in C/C++/Fortran sources/headers ... OK
* checking compiled code ... NOTE
Note: information on .o files is not available
* checking files in ‘vignettes’ ... OK
* checking examples ... OK
Examples with CPU or elapsed time > 5s
user system elapsed
BEclear-package 9.542 5.751 2.895
* checking for unstated dependencies in ‘tests’ ... OK
* checking tests ...
Running ‘testthat.R’
OK
* checking for unstated dependencies in vignettes ... OK
* checking package vignettes in ‘inst/doc’ ... OK
* checking running R code from vignettes ... SKIPPED
* checking re-building of vignette outputs ... SKIPPED
* checking PDF version of manual ... OK
* DONE
Status: 3 NOTEs
See
‘/Users/biocbuild/bbs-3.9-bioc/meat/BEclear.Rcheck/00check.log’
for details.
BEclear.Rcheck/00install.out
############################################################################## ############################################################################## ### ### Running command: ### ### /Library/Frameworks/R.framework/Versions/Current/Resources/bin/R CMD INSTALL BEclear ### ############################################################################## ############################################################################## * installing to library ‘/Library/Frameworks/R.framework/Versions/3.6/Resources/library’ * installing *source* package ‘BEclear’ ... ** using staged installation ** libs clang++ -std=gnu++11 -I"/Library/Frameworks/R.framework/Resources/include" -DNDEBUG -I"/Library/Frameworks/R.framework/Versions/3.6/Resources/library/Rcpp/include" -I/usr/local/include -fPIC -Wall -g -O2 -c RcppExports.cpp -o RcppExports.o clang++ -std=gnu++11 -I"/Library/Frameworks/R.framework/Resources/include" -DNDEBUG -I"/Library/Frameworks/R.framework/Versions/3.6/Resources/library/Rcpp/include" -I/usr/local/include -fPIC -Wall -g -O2 -c localLoss.cpp -o localLoss.o clang++ -std=gnu++11 -dynamiclib -Wl,-headerpad_max_install_names -undefined dynamic_lookup -single_module -multiply_defined suppress -L/Library/Frameworks/R.framework/Resources/lib -L/usr/local/lib -o BEclear.so RcppExports.o localLoss.o -F/Library/Frameworks/R.framework/.. -framework R -Wl,-framework -Wl,CoreFoundation installing to /Library/Frameworks/R.framework/Versions/3.6/Resources/library/00LOCK-BEclear/00new/BEclear/libs ** R ** data ** inst ** byte-compile and prepare package for lazy loading ** help Loading required namespace: BEclear *** installing help indices ** building package indices ** installing vignettes ** testing if installed package can be loaded from temporary location ** checking absolute paths in shared objects and dynamic libraries ** testing if installed package can be loaded from final location ** testing if installed package keeps a record of temporary installation path * DONE (BEclear)
BEclear.Rcheck/tests/testthat.Rout
R Under development (unstable) (2019-03-18 r76245) -- "Unsuffered Consequences"
Copyright (C) 2019 The R Foundation for Statistical Computing
Platform: x86_64-apple-darwin15.6.0 (64-bit)
R is free software and comes with ABSOLUTELY NO WARRANTY.
You are welcome to redistribute it under certain conditions.
Type 'license()' or 'licence()' for distribution details.
R is a collaborative project with many contributors.
Type 'contributors()' for more information and
'citation()' on how to cite R or R packages in publications.
Type 'demo()' for some demos, 'help()' for on-line help, or
'help.start()' for an HTML browser interface to help.
Type 'q()' to quit R.
> library(testthat)
> library(BEclear)
Loading required package: BiocParallel
>
> test_check("BEclear")
INFO [2019-04-08 00:08:51] Calculate the batch effects for 2 batches
INFO [2019-04-08 00:08:51] Calculate the batch effects for 3 batches
INFO [2019-04-08 00:08:52] Calculate the batch effects for 3 batches
INFO [2019-04-08 00:08:52] Adjusting p-values
INFO [2019-04-08 00:08:52] Transforming matrix to data.table
INFO [2019-04-08 00:08:52] Calculate the batch effects for 4 batches
INFO [2019-04-08 00:08:53] Adjusting p-values
INFO [2019-04-08 00:08:53] Generating a summary table
INFO [2019-04-08 00:08:53] Calculating the scores for 4 batches
INFO [2019-04-08 00:08:53] Generating a summary table
INFO [2019-04-08 00:08:53] Generating a summary table
INFO [2019-04-08 00:08:53] Transforming matrix to data.table
INFO [2019-04-08 00:08:53] Calculate the batch effects for 3 batches
INFO [2019-04-08 00:08:53] Adjusting p-values
INFO [2019-04-08 00:08:53] Generating a summary table
INFO [2019-04-08 00:08:53] Calculating the scores for 3 batches
INFO [2019-04-08 00:08:53] Removing values with batch effect:
INFO [2019-04-08 00:08:53] 4 values ( 26.6666666666667 % of the data) set to NA
INFO [2019-04-08 00:08:53] Starting the imputation of missing values.
INFO [2019-04-08 00:08:53] This might take a while.
INFO [2019-04-08 00:08:53] BEclear imputation is started:
INFO [2019-04-08 00:08:53] block size: 60 x 60
INFO [2019-04-08 00:08:53] Impute missing data for block 1 of 1
INFO [2019-04-08 00:08:53] Replacing values below 0 or above 1:
INFO [2019-04-08 00:08:53] 0 values replaced
WARN [2019-04-08 00:08:53] 3 values are above 1 or below 0. Check your data
WARN [2019-04-08 00:08:53] Replacing them with missing values
INFO [2019-04-08 00:08:53] Transforming matrix to data.table
INFO [2019-04-08 00:08:53] Calculate the batch effects for 3 batches
INFO [2019-04-08 00:08:53] Adjusting p-values
INFO [2019-04-08 00:08:53] Generating a summary table
INFO [2019-04-08 00:08:53] Calculating the scores for 3 batches
INFO [2019-04-08 00:08:53] Removing values with batch effect:
INFO [2019-04-08 00:08:53] 3 values ( 20 % of the data) set to NA
INFO [2019-04-08 00:08:53] Starting the imputation of missing values.
INFO [2019-04-08 00:08:53] This might take a while.
INFO [2019-04-08 00:08:53] BEclear imputation is started:
INFO [2019-04-08 00:08:53] block size: 60 x 60
INFO [2019-04-08 00:08:53] Impute missing data for block 1 of 1
INFO [2019-04-08 00:08:53] Replacing values below 0 or above 1:
INFO [2019-04-08 00:08:53] 0 values replaced
WARN [2019-04-08 00:08:53] 2 values are above 1 or below 0. Check your data
WARN [2019-04-08 00:08:53] Replacing them with missing values
WARN [2019-04-08 00:08:53] The following samples are annotated in the sample matrix,
WARN [2019-04-08 00:08:53] Dropping those samples now
WARN [2019-04-08 00:08:53] Sample names aren't unique
WARN [2019-04-08 00:08:53] Transforming them to unique IDs. List with annotations will be added to the results
INFO [2019-04-08 00:08:53] Transforming matrix to data.table
INFO [2019-04-08 00:08:54] Calculate the batch effects for 2 batches
INFO [2019-04-08 00:08:54] Adjusting p-values
INFO [2019-04-08 00:08:54] Generating a summary table
INFO [2019-04-08 00:08:54] There were no batch effects detected
INFO [2019-04-08 00:08:54] Starting the imputation of missing values.
INFO [2019-04-08 00:08:54] This might take a while.
INFO [2019-04-08 00:08:54] BEclear imputation is started:
INFO [2019-04-08 00:08:54] block size: 60 x 60
INFO [2019-04-08 00:08:54] Impute missing data for block 1 of 1
INFO [2019-04-08 00:08:54] Replacing values below 0 or above 1:
INFO [2019-04-08 00:08:54] 0 values replaced
INFO [2019-04-08 00:08:54] 3 values outside of the boundaries found
INFO [2019-04-08 00:08:54] Starting the imputation of missing values.
INFO [2019-04-08 00:08:54] This might take a while.
INFO [2019-04-08 00:08:54] BEclear imputation is started:
INFO [2019-04-08 00:08:54] block size: 10 x 10
INFO [2019-04-08 00:08:54] loading futile.logger package
INFO [2019-04-08 00:08:54] Impute missing data for block 1 of 25
INFO [2019-04-08 00:08:54] Impute missing data for block 2 of 25
INFO [2019-04-08 00:08:54] Impute missing data for block 3 of 25
INFO [2019-04-08 00:08:54] Impute missing data for block 4 of 25
INFO [2019-04-08 00:08:54] Impute missing data for block 5 of 25
INFO [2019-04-08 00:08:54] Impute missing data for block 6 of 25
INFO [2019-04-08 00:08:54] Impute missing data for block 7 of 25
INFO [2019-04-08 00:08:54] Impute missing data for block 8 of 25
INFO [2019-04-08 00:08:54] Impute missing data for block 9 of 25
INFO [2019-04-08 00:08:54] Impute missing data for block 10 of 25
INFO [2019-04-08 00:08:54] Impute missing data for block 11 of 25
INFO [2019-04-08 00:08:54] Impute missing data for block 12 of 25
INFO [2019-04-08 00:08:54] Impute missing data for block 13 of 25
INFO [2019-04-08 00:08:54] Impute missing data for block 14 of 25
INFO [2019-04-08 00:08:54] Impute missing data for block 15 of 25
INFO [2019-04-08 00:08:54] Impute missing data for block 16 of 25
INFO [2019-04-08 00:08:54] Impute missing data for block 17 of 25
INFO [2019-04-08 00:08:54] Impute missing data for block 18 of 25
INFO [2019-04-08 00:08:54] Impute missing data for block 19 of 25
INFO [2019-04-08 00:08:54] Impute missing data for block 20 of 25
INFO [2019-04-08 00:08:54] Impute missing data for block 21 of 25
INFO [2019-04-08 00:08:54] Impute missing data for block 22 of 25
INFO [2019-04-08 00:08:54] Impute missing data for block 23 of 25
INFO [2019-04-08 00:08:54] Impute missing data for block 24 of 25
INFO [2019-04-08 00:08:54] Impute missing data for block 25 of 25
INFO [2019-04-08 00:08:54] Starting the imputation of missing values.
INFO [2019-04-08 00:08:54] This might take a while.
INFO [2019-04-08 00:08:54] BEclear imputation is started:
INFO [2019-04-08 00:08:54] block size: 0 x 0
INFO [2019-04-08 00:08:54] loading futile.logger package
INFO [2019-04-08 00:08:54] Impute missing data for block 1 of 1
INFO [2019-04-08 00:08:54] Replacing values below 0 or above 1:
INFO [2019-04-08 00:08:54] 3 values replaced
══ testthat results ═══════════════════════════════════════════════════════════
OK: 83 SKIPPED: 0 FAILED: 0
>
> proc.time()
user system elapsed
12.648 5.996 6.445
BEclear.Rcheck/BEclear-Ex.timings
| name | user | system | elapsed | |
| BEclear-package | 9.542 | 5.751 | 2.895 | |
| calcBatchEffects | 1.448 | 1.167 | 0.382 | |
| calcScore | 1.509 | 1.294 | 0.387 | |
| calcSummary | 1.277 | 1.023 | 0.364 | |
| clearBEgenes | 2.827 | 0.670 | 0.399 | |
| correctBatchEffect | 2.050 | 1.383 | 0.879 | |
| countValuesToPredict | 1.249 | 0.858 | 0.405 | |
| findOutsideValues | 0.752 | 0.117 | 0.693 | |
| imputeMissingData | 2.166 | 1.334 | 0.617 | |
| makeBoxplot | 1.475 | 1.252 | 0.430 | |
| preprocessBEclear | 0.044 | 0.042 | 0.012 | |
| replaceOutsideValues | 0.086 | 0.077 | 0.022 | |