| Back to Multiple platform build/check report for BioC 3.9 |
|
This page was generated on 2019-04-09 11:42:52 -0400 (Tue, 09 Apr 2019).
| Package 123/1703 | Hostname | OS / Arch | INSTALL | BUILD | CHECK | BUILD BIN | ||||||
| BEclear 1.99.2 David Rasp
| malbec2 | Linux (Ubuntu 18.04.2 LTS) / x86_64 | ERROR | [ ERROR ] | skipped | |||||||
| tokay2 | Windows Server 2012 R2 Standard / x64 | ERROR | ERROR | skipped | skipped | |||||||
| celaya2 | OS X 10.11.6 El Capitan / x86_64 | ERROR | ERROR | skipped | skipped | |||||||
| merida2 | OS X 10.11.6 El Capitan / x86_64 | ERROR | ERROR | skipped | skipped |
| Package: BEclear |
| Version: 1.99.2 |
| Command: /home/biocbuild/bbs-3.9-bioc/R/bin/R CMD build --keep-empty-dirs --no-resave-data BEclear |
| StartedAt: 2019-04-08 20:41:34 -0400 (Mon, 08 Apr 2019) |
| EndedAt: 2019-04-08 20:41:36 -0400 (Mon, 08 Apr 2019) |
| EllapsedTime: 2.0 seconds |
| RetCode: 1 |
| Status: ERROR |
| PackageFile: None |
| PackageFileSize: NA |
##############################################################################
##############################################################################
###
### Running command:
###
### /home/biocbuild/bbs-3.9-bioc/R/bin/R CMD build --keep-empty-dirs --no-resave-data BEclear
###
##############################################################################
##############################################################################
* checking for file ‘BEclear/DESCRIPTION’ ... OK
* preparing ‘BEclear’:
* checking DESCRIPTION meta-information ... OK
* cleaning src
* installing the package to process help pages
-----------------------------------
* installing *source* package ‘BEclear’ ...
** using staged installation
** libs
g++ -std=gnu++11 -I"/home/biocbuild/bbs-3.9-bioc/R/include" -DNDEBUG -I"/home/biocbuild/bbs-3.9-bioc/R/library/Rcpp/include" -I/usr/local/include -fpic -g -O2 -Wall -c RcppExports.cpp -o RcppExports.o
RcppExports.cpp:4:10: fatal error: RcppArmadillo.h: No such file or directory
#include <RcppArmadillo.h>
^˜˜˜˜˜˜˜˜˜˜˜˜˜˜˜˜
compilation terminated.
/home/biocbuild/bbs-3.9-bioc/R/etc/Makeconf:175: recipe for target 'RcppExports.o' failed
make: *** [RcppExports.o] Error 1
ERROR: compilation failed for package ‘BEclear’
* removing ‘/tmp/RtmpkoCLMS/Rinst669b37834e7e/BEclear’
-----------------------------------
ERROR: package installation failed