| Back to Multiple platform build/check report for BioC 3.9 |
|
This page was generated on 2019-04-09 12:24:05 -0400 (Tue, 09 Apr 2019).
| Package 123/1703 | Hostname | OS / Arch | INSTALL | BUILD | CHECK | BUILD BIN | ||||||
| BEclear 1.99.2 David Rasp
| malbec2 | Linux (Ubuntu 18.04.2 LTS) / x86_64 | ERROR | ERROR | skipped | |||||||
| tokay2 | Windows Server 2012 R2 Standard / x64 | [ ERROR ] | ERROR | skipped | skipped | |||||||
| celaya2 | OS X 10.11.6 El Capitan / x86_64 | ERROR | ERROR | skipped | skipped | |||||||
| merida2 | OS X 10.11.6 El Capitan / x86_64 | ERROR | ERROR | skipped | skipped |
| Package: BEclear |
| Version: 1.99.2 |
| Command: C:\cygwin\bin\curl.exe -O https://malbec2.bioconductor.org/BBS/3.9/bioc/src/contrib/BEclear_1.99.2.tar.gz && rm -rf BEclear.buildbin-libdir && mkdir BEclear.buildbin-libdir && C:\Users\biocbuild\bbs-3.9-bioc\R\bin\R.exe CMD INSTALL --merge-multiarch --build --library=BEclear.buildbin-libdir BEclear_1.99.2.tar.gz && C:\Users\biocbuild\bbs-3.9-bioc\R\bin\R.exe CMD INSTALL BEclear_1.99.2.zip && rm BEclear_1.99.2.tar.gz BEclear_1.99.2.zip |
| StartedAt: 2019-04-08 19:06:47 -0400 (Mon, 08 Apr 2019) |
| EndedAt: 2019-04-08 19:06:58 -0400 (Mon, 08 Apr 2019) |
| EllapsedTime: 11.3 seconds |
| RetCode: 1 |
| Status: ERROR |
##############################################################################
##############################################################################
###
### Running command:
###
### C:\cygwin\bin\curl.exe -O https://malbec2.bioconductor.org/BBS/3.9/bioc/src/contrib/BEclear_1.99.2.tar.gz && rm -rf BEclear.buildbin-libdir && mkdir BEclear.buildbin-libdir && C:\Users\biocbuild\bbs-3.9-bioc\R\bin\R.exe CMD INSTALL --merge-multiarch --build --library=BEclear.buildbin-libdir BEclear_1.99.2.tar.gz && C:\Users\biocbuild\bbs-3.9-bioc\R\bin\R.exe CMD INSTALL BEclear_1.99.2.zip && rm BEclear_1.99.2.tar.gz BEclear_1.99.2.zip
###
##############################################################################
##############################################################################
% Total % Received % Xferd Average Speed Time Time Time Current
Dload Upload Total Spent Left Speed
0 0 0 0 0 0 0 0 --:--:-- --:--:-- --:--:-- 0
100 206k 100 206k 0 0 3508k 0 --:--:-- --:--:-- --:--:-- 4039k
install for i386
* installing *source* package 'BEclear' ...
** libs
C:/Rtools/mingw_32/bin/g++ -std=gnu++11 -I"C:/Users/BIOCBU˜1/BBS-3˜1.9-B/R/include" -DNDEBUG -I"C:/Users/biocbuild/bbs-3.9-bioc/R/library/Rcpp/include" -I"C:/extsoft/include" -O2 -Wall -mtune=generic -c RcppExports.cpp -o RcppExports.o
RcppExports.cpp:4:27: fatal error: RcppArmadillo.h: No such file or directory
#include <RcppArmadillo.h>
^
compilation terminated.
make: *** [RcppExports.o] Error 1
ERROR: compilation failed for package 'BEclear'
* removing 'C:/Users/biocbuild/bbs-3.9-bioc/meat/BEclear.buildbin-libdir/BEclear'