| Back to Multiple platform build/check report for BioC 3.20: simplified long |
|
This page was generated on 2025-04-02 19:35 -0400 (Wed, 02 Apr 2025).
| Hostname | OS | Arch (*) | R version | Installed pkgs |
|---|---|---|---|---|
| nebbiolo2 | Linux (Ubuntu 24.04.1 LTS) | x86_64 | 4.4.3 (2025-02-28) -- "Trophy Case" | 4764 |
| palomino8 | Windows Server 2022 Datacenter | x64 | 4.4.3 (2025-02-28 ucrt) -- "Trophy Case" | 4495 |
| merida1 | macOS 12.7.5 Monterey | x86_64 | 4.4.3 (2025-02-28) -- "Trophy Case" | 4522 |
| kjohnson1 | macOS 13.6.6 Ventura | arm64 | 4.4.3 (2025-02-28) -- "Trophy Case" | 4449 |
| taishan | Linux (openEuler 24.03 LTS) | aarch64 | 4.4.3 (2025-02-28) -- "Trophy Case" | 4426 |
| Click on any hostname to see more info about the system (e.g. compilers) (*) as reported by 'uname -p', except on Windows and Mac OS X | ||||
| Package 117/2289 | Hostname | OS / Arch | INSTALL | BUILD | CHECK | BUILD BIN | ||||||||
| autonomics 1.14.9 (landing page) Aditya Bhagwat
| nebbiolo2 | Linux (Ubuntu 24.04.1 LTS) / x86_64 | OK | OK | OK | |||||||||
| palomino8 | Windows Server 2022 Datacenter / x64 | OK | OK | OK | OK | |||||||||
| merida1 | macOS 12.7.5 Monterey / x86_64 | OK | OK | OK | OK | |||||||||
| kjohnson1 | macOS 13.6.6 Ventura / arm64 | OK | OK | OK | OK | |||||||||
| taishan | Linux (openEuler 24.03 LTS) / aarch64 | OK | OK | OK | ||||||||||
|
To the developers/maintainers of the autonomics package: - Allow up to 24 hours (and sometimes 48 hours) for your latest push to git@git.bioconductor.org:packages/autonomics.git to reflect on this report. See Troubleshooting Build Report for more information. - Use the following Renviron settings to reproduce errors and warnings. - If 'R CMD check' started to fail recently on the Linux builder(s) over a missing dependency, add the missing dependency to 'Suggests:' in your DESCRIPTION file. See Renviron.bioc for more information. - See Martin Grigorov's blog post for how to debug Linux ARM64 related issues on a x86_64 host. |
| Package: autonomics |
| Version: 1.14.9 |
| Command: /home/biocbuild/R/R/bin/R CMD check --install=check:autonomics.install-out.txt --library=/home/biocbuild/R/R/site-library --no-vignettes --timings autonomics_1.14.9.tar.gz |
| StartedAt: 2025-04-01 03:59:33 -0000 (Tue, 01 Apr 2025) |
| EndedAt: 2025-04-01 04:18:05 -0000 (Tue, 01 Apr 2025) |
| EllapsedTime: 1112.0 seconds |
| RetCode: 0 |
| Status: OK |
| CheckDir: autonomics.Rcheck |
| Warnings: 0 |
##############################################################################
##############################################################################
###
### Running command:
###
### /home/biocbuild/R/R/bin/R CMD check --install=check:autonomics.install-out.txt --library=/home/biocbuild/R/R/site-library --no-vignettes --timings autonomics_1.14.9.tar.gz
###
##############################################################################
##############################################################################
* using log directory ‘/home/biocbuild/bbs-3.20-bioc/meat/autonomics.Rcheck’
* using R version 4.4.3 (2025-02-28)
* using platform: aarch64-unknown-linux-gnu
* R was compiled by
aarch64-unknown-linux-gnu-gcc (GCC) 14.2.0
GNU Fortran (GCC) 14.2.0
* running under: openEuler 24.03 (LTS)
* using session charset: UTF-8
* using option ‘--no-vignettes’
* checking for file ‘autonomics/DESCRIPTION’ ... OK
* checking extension type ... Package
* this is package ‘autonomics’ version ‘1.14.9’
* package encoding: UTF-8
* checking package namespace information ... OK
* checking package dependencies ... OK
* checking if this is a source package ... OK
* checking if there is a namespace ... OK
* checking for hidden files and directories ... NOTE
Found the following hidden files and directories:
.BBSoptions
These were most likely included in error. See section ‘Package
structure’ in the ‘Writing R Extensions’ manual.
* checking for portable file names ... OK
* checking for sufficient/correct file permissions ... OK
* checking whether package ‘autonomics’ can be installed ... OK
* checking installed package size ... OK
* checking package directory ... OK
* checking ‘build’ directory ... OK
* checking DESCRIPTION meta-information ... OK
* checking top-level files ... OK
* checking for left-over files ... OK
* checking index information ... OK
* checking package subdirectories ... OK
* checking code files for non-ASCII characters ... OK
* checking R files for syntax errors ... OK
* checking whether the package can be loaded ... OK
* checking whether the package can be loaded with stated dependencies ... OK
* checking whether the package can be unloaded cleanly ... OK
* checking whether the namespace can be loaded with stated dependencies ... OK
* checking whether the namespace can be unloaded cleanly ... OK
* checking loading without being on the library search path ... OK
* checking dependencies in R code ... OK
* checking S3 generic/method consistency ... OK
* checking replacement functions ... OK
* checking foreign function calls ... OK
* checking R code for possible problems ... OK
* checking Rd files ... OK
* checking Rd metadata ... OK
* checking Rd cross-references ... OK
* checking for missing documentation entries ... OK
* checking for code/documentation mismatches ... OK
* checking Rd \usage sections ... OK
* checking Rd contents ... OK
* checking for unstated dependencies in examples ... OK
* checking files in ‘vignettes’ ... OK
* checking examples ... OK
Examples with CPU (user + system) or elapsed time > 5s
user system elapsed
read_rnaseq_counts 40.210 2.286 53.146
plot_exprs_per_coef 35.513 0.191 39.303
plot_exprs 34.627 0.318 38.283
read_diann_proteingroups 34.220 0.318 39.729
default_formula 22.732 0.477 26.468
read_somascan 19.266 0.378 23.770
fit 19.187 0.227 20.937
analyze 18.837 0.191 20.920
read_metabolon 18.416 0.059 22.713
plot_summary 18.238 0.036 20.850
plot_volcano 14.665 0.171 16.561
plot_densities 13.254 0.148 16.603
ftype 9.983 0.092 10.964
code 9.375 0.163 10.282
rm_diann_contaminants 8.752 0.203 10.418
plot_sample_nas 8.558 0.087 10.099
read_fragpipe 8.496 0.032 9.107
fcluster 8.136 0.032 9.771
extract_coef_features 7.775 0.087 9.109
reset_fit 7.085 0.204 8.688
biplot_covariates 7.101 0.155 7.711
plot_subgroup_points 6.467 0.036 7.312
fit_lmx 6.376 0.028 6.576
subtract_baseline 5.893 0.056 7.723
plot_violins 5.392 0.088 6.168
dot-plot_survival 5.187 0.203 6.133
log2transform 5.250 0.055 5.651
modelvar 5.155 0.008 5.598
biplot 4.976 0.180 5.640
explore_transformations 4.874 0.147 5.485
annotate_uniprot_rest 0.232 0.020 5.886
* checking for unstated dependencies in ‘tests’ ... OK
* checking tests ...
Running ‘testthat.R’
OK
* checking for unstated dependencies in vignettes ... OK
* checking package vignettes ... OK
* checking running R code from vignettes ... SKIPPED
* checking re-building of vignette outputs ... SKIPPED
* checking PDF version of manual ... OK
* DONE
Status: 1 NOTE
See
‘/home/biocbuild/bbs-3.20-bioc/meat/autonomics.Rcheck/00check.log’
for details.
autonomics.Rcheck/00install.out
############################################################################## ############################################################################## ### ### Running command: ### ### /home/biocbuild/R/R/bin/R CMD INSTALL autonomics ### ############################################################################## ############################################################################## * installing to library ‘/home/biocbuild/R/R-4.4.3/site-library’ * installing *source* package ‘autonomics’ ... ** using staged installation ** R ** inst ** byte-compile and prepare package for lazy loading ** help *** installing help indices ** building package indices ** installing vignettes ** testing if installed package can be loaded from temporary location ** testing if installed package can be loaded from final location ** testing if installed package keeps a record of temporary installation path * DONE (autonomics)
autonomics.Rcheck/tests/testthat.Rout
R version 4.4.3 (2025-02-28) -- "Trophy Case"
Copyright (C) 2025 The R Foundation for Statistical Computing
Platform: aarch64-unknown-linux-gnu
R is free software and comes with ABSOLUTELY NO WARRANTY.
You are welcome to redistribute it under certain conditions.
Type 'license()' or 'licence()' for distribution details.
R is a collaborative project with many contributors.
Type 'contributors()' for more information and
'citation()' on how to cite R or R packages in publications.
Type 'demo()' for some demos, 'help()' for on-line help, or
'help.start()' for an HTML browser interface to help.
Type 'q()' to quit R.
> library(testthat)
> library(autonomics)
Attaching package: 'autonomics'
The following objects are masked from 'package:stats':
biplot, loadings
The following object is masked from 'package:base':
beta
>
> test_check("autonomics")
[ FAIL 0 | WARN 0 | SKIP 0 | PASS 158 ]
>
> proc.time()
user system elapsed
179.698 2.334 192.327
autonomics.Rcheck/autonomics-Ex.timings
| name | user | system | elapsed | |
| AUTONOMICS_DATASETS | 0.000 | 0.000 | 0.001 | |
| COMPOUNDDISCOVERER_PATTERNS | 0.000 | 0.000 | 0.001 | |
| FITSEP | 0 | 0 | 0 | |
| LINMOD_ENGINES | 0 | 0 | 0 | |
| MAXQUANT_PATTERNS | 0 | 0 | 0 | |
| TAXON_TO_ORGNAME | 0.001 | 0.000 | 0.000 | |
| TESTS | 0 | 0 | 0 | |
| X | 2.195 | 0.072 | 2.537 | |
| abstract_fit | 1.949 | 0.135 | 2.121 | |
| add_adjusted_pvalues | 0.746 | 0.004 | 0.934 | |
| add_assay_means | 0.518 | 0.016 | 0.535 | |
| add_facetvars | 2.859 | 0.056 | 2.939 | |
| add_opentargets_by_uniprot | 0.608 | 0.011 | 0.725 | |
| add_psp | 0.701 | 0.005 | 0.760 | |
| add_smiles | 0.686 | 0.015 | 0.968 | |
| analysis | 0.574 | 0.001 | 0.676 | |
| analyze | 18.837 | 0.191 | 20.920 | |
| annotate_maxquant | 1.169 | 0.028 | 1.303 | |
| annotate_uniprot_rest | 0.232 | 0.020 | 5.886 | |
| assert_is_valid_sumexp | 0.843 | 0.100 | 1.125 | |
| bin | 1.309 | 0.171 | 1.612 | |
| biplot | 4.976 | 0.180 | 5.640 | |
| biplot_corrections | 4.356 | 0.139 | 4.797 | |
| biplot_covariates | 7.101 | 0.155 | 7.711 | |
| block2lme | 0.001 | 0.004 | 0.004 | |
| center | 1.978 | 0.012 | 2.168 | |
| code | 9.375 | 0.163 | 10.282 | |
| coefs | 1.104 | 0.064 | 1.277 | |
| collapsed_entrezg_to_symbol | 0.001 | 0.000 | 0.001 | |
| contrast_subgroup_cols | 0.850 | 0.012 | 0.864 | |
| count_in | 0.001 | 0.000 | 0.001 | |
| counts | 1.320 | 0.059 | 1.524 | |
| counts2cpm | 0.514 | 0.000 | 0.517 | |
| counts2tpm | 0.514 | 0.000 | 0.515 | |
| cpm | 0.525 | 0.000 | 0.539 | |
| create_design | 0.953 | 0.032 | 1.128 | |
| default_coefs | 0.999 | 0.024 | 1.027 | |
| default_formula | 22.732 | 0.477 | 26.468 | |
| default_geom | 0.773 | 0.008 | 0.834 | |
| default_sfile | 0.002 | 0.000 | 0.002 | |
| demultiplex | 0.022 | 0.000 | 0.022 | |
| dequantify | 0.003 | 0.000 | 0.003 | |
| dequantify_compounddiscoverer | 0.001 | 0.000 | 0.002 | |
| dot-merge | 0.023 | 0.000 | 0.023 | |
| dot-plot_survival | 5.187 | 0.203 | 6.133 | |
| dot-read_maxquant_proteingroups | 0.126 | 0.000 | 0.127 | |
| download_data | 0 | 0 | 0 | |
| download_gtf | 0 | 0 | 0 | |
| download_mcclain21 | 0.001 | 0.000 | 0.000 | |
| dt2mat | 0.004 | 0.000 | 0.004 | |
| enrichment | 1.818 | 0.052 | 2.609 | |
| entrezg_to_symbol | 0 | 0 | 0 | |
| explore_transformations | 4.874 | 0.147 | 5.485 | |
| extract_coef_features | 7.775 | 0.087 | 9.109 | |
| extract_rectangle | 0.134 | 0.012 | 0.146 | |
| fcluster | 8.136 | 0.032 | 9.771 | |
| fcor | 1.387 | 0.008 | 1.929 | |
| fdata | 0.834 | 0.008 | 1.263 | |
| fdr2p | 1.392 | 0.032 | 1.470 | |
| filter_exprs_replicated_in_some_subgroup | 1.369 | 0.028 | 1.495 | |
| filter_features | 0.757 | 0.024 | 0.783 | |
| filter_medoid | 1.078 | 0.016 | 1.360 | |
| filter_samples | 0.750 | 0.036 | 1.235 | |
| fit | 19.187 | 0.227 | 20.937 | |
| fit_lmx | 6.376 | 0.028 | 6.576 | |
| fitcoefs | 1.134 | 0.028 | 1.181 | |
| fits | 1.041 | 0.016 | 1.060 | |
| fitvars | 1.549 | 0.008 | 1.644 | |
| fix_xlgenes | 0.002 | 0.000 | 0.002 | |
| flevels | 0.596 | 0.003 | 0.633 | |
| fnames | 0.663 | 0.004 | 0.749 | |
| formula2str | 0 | 0 | 0 | |
| ftype | 9.983 | 0.092 | 10.964 | |
| fvalues | 0.581 | 0.008 | 0.590 | |
| fvars | 0.636 | 0.000 | 0.671 | |
| genome_to_orgdb | 0.000 | 0.000 | 0.001 | |
| group_by_level | 0.001 | 0.000 | 0.002 | |
| guess_compounddiscoverer_quantity | 0.001 | 0.000 | 0.002 | |
| guess_fitsep | 0.675 | 0.012 | 0.730 | |
| guess_maxquant_quantity | 0.004 | 0.004 | 0.006 | |
| guess_sep | 0.741 | 0.000 | 0.743 | |
| has_multiple_levels | 0.069 | 0.004 | 0.074 | |
| hdlproteins | 0.054 | 0.004 | 0.161 | |
| impute | 4.286 | 0.016 | 4.559 | |
| invert_subgroups | 0.917 | 0.004 | 0.995 | |
| is_collapsed_subset | 0.000 | 0.000 | 0.001 | |
| is_correlation_matrix | 0.001 | 0.000 | 0.002 | |
| is_diann_report | 0.325 | 0.005 | 0.695 | |
| is_fastadt | 0.105 | 0.004 | 0.221 | |
| is_file | 0 | 0 | 0 | |
| is_fraction | 0.002 | 0.000 | 0.007 | |
| is_imputed | 1.083 | 0.000 | 1.394 | |
| is_positive_number | 0.003 | 0.000 | 0.003 | |
| is_scalar_subset | 0.487 | 0.008 | 0.601 | |
| is_sig | 2.422 | 0.016 | 2.537 | |
| is_valid_formula | 0.059 | 0.000 | 0.059 | |
| keep_connected_blocks | 0.726 | 0.016 | 0.746 | |
| keep_connected_features | 0.941 | 0.012 | 0.976 | |
| keep_replicated_features | 1.195 | 0.008 | 1.206 | |
| label2index | 0.001 | 0.000 | 0.001 | |
| list2mat | 0.001 | 0.000 | 0.001 | |
| log2counts | 0.569 | 0.000 | 0.571 | |
| log2cpm | 0.565 | 0.000 | 0.651 | |
| log2diffs | 0.560 | 0.000 | 0.582 | |
| log2proteins | 0.477 | 0.004 | 0.492 | |
| log2sites | 0.492 | 0.004 | 0.499 | |
| log2tpm | 0.582 | 0.008 | 0.619 | |
| log2transform | 5.250 | 0.055 | 5.651 | |
| logical2factor | 0.001 | 0.000 | 0.002 | |
| make_alpha_palette | 0.757 | 0.004 | 0.766 | |
| make_colors | 0.007 | 0.004 | 0.011 | |
| make_volcano_dt | 1.299 | 0.000 | 1.314 | |
| map_fvalues | 0.589 | 0.000 | 0.658 | |
| matrix2sumexp | 1.458 | 0.040 | 1.638 | |
| merge_sample_file | 0.642 | 0.012 | 0.659 | |
| merge_sdata | 0.801 | 0.020 | 0.825 | |
| message_df | 0.003 | 0.000 | 0.002 | |
| modelvar | 5.155 | 0.008 | 5.598 | |
| order_on_p | 1.395 | 0.019 | 1.803 | |
| pca | 4.236 | 0.088 | 4.511 | |
| pg_to_canonical | 0.009 | 0.000 | 0.008 | |
| plot_contrast_venn | 3.321 | 0.005 | 3.670 | |
| plot_contrastogram | 4.359 | 0.044 | 4.728 | |
| plot_data | 1.847 | 0.016 | 2.099 | |
| plot_densities | 13.254 | 0.148 | 16.603 | |
| plot_design | 0.881 | 0.004 | 0.894 | |
| plot_exprs | 34.627 | 0.318 | 38.283 | |
| plot_exprs_per_coef | 35.513 | 0.191 | 39.303 | |
| plot_fit_summary | 2.693 | 0.016 | 2.777 | |
| plot_heatmap | 2.486 | 0.024 | 2.591 | |
| plot_matrix | 0.718 | 0.016 | 0.736 | |
| plot_sample_nas | 8.558 | 0.087 | 10.099 | |
| plot_subgroup_points | 6.467 | 0.036 | 7.312 | |
| plot_summary | 18.238 | 0.036 | 20.850 | |
| plot_venn | 0.019 | 0.000 | 0.018 | |
| plot_venn_heatmap | 0.028 | 0.000 | 0.029 | |
| plot_violins | 5.392 | 0.088 | 6.168 | |
| plot_volcano | 14.665 | 0.171 | 16.561 | |
| preprocess_rnaseq_counts | 0.544 | 0.000 | 0.745 | |
| pull_columns | 0.004 | 0.000 | 0.003 | |
| read_affymetrix | 0.001 | 0.000 | 0.000 | |
| read_diann_proteingroups | 34.220 | 0.318 | 39.729 | |
| read_fragpipe | 8.496 | 0.032 | 9.107 | |
| read_maxquant_phosphosites | 2.023 | 0.004 | 2.127 | |
| read_maxquant_proteingroups | 1.720 | 0.008 | 1.933 | |
| read_metabolon | 18.416 | 0.059 | 22.713 | |
| read_msigdt | 0.001 | 0.000 | 0.000 | |
| read_olink | 1.486 | 0.017 | 2.116 | |
| read_rectangles | 0.274 | 0.016 | 0.290 | |
| read_rnaseq_counts | 40.210 | 2.286 | 53.146 | |
| read_salmon | 0 | 0 | 0 | |
| read_somascan | 19.266 | 0.378 | 23.770 | |
| read_uniprotdt | 0.357 | 0.008 | 0.366 | |
| reset_fit | 7.085 | 0.204 | 8.688 | |
| rm_diann_contaminants | 8.752 | 0.203 | 10.418 | |
| rm_missing_in_some_samples | 0.698 | 0.012 | 0.799 | |
| rm_unmatched_samples | 0.755 | 0.000 | 0.839 | |
| scaledlibsizes | 0.585 | 0.036 | 0.865 | |
| scoremat | 1.407 | 0.032 | 1.501 | |
| slevels | 0.560 | 0.024 | 0.704 | |
| snames | 0.624 | 0.016 | 0.649 | |
| split_extract_fixed | 0.714 | 0.019 | 0.844 | |
| split_samples | 1.593 | 0.052 | 1.930 | |
| stri_any_regex | 0.001 | 0.000 | 0.000 | |
| stri_detect_fixed_in_collapsed | 0.516 | 0.020 | 0.538 | |
| subgroup_matrix | 0.717 | 0.032 | 0.906 | |
| subtract_baseline | 5.893 | 0.056 | 7.723 | |
| sumexp_to_longdt | 2.560 | 0.012 | 2.818 | |
| sumexp_to_tsv | 0.777 | 0.012 | 0.887 | |
| sumexplist_to_longdt | 2.252 | 0.012 | 2.569 | |
| summarize_fit | 2.213 | 0.052 | 2.293 | |
| svalues | 0.613 | 0.000 | 0.625 | |
| svars | 0.534 | 0.004 | 0.539 | |
| systematic_nas | 0.756 | 0.012 | 0.769 | |
| tag_features | 1.248 | 0.032 | 1.732 | |
| tag_hdlproteins | 0.720 | 0.007 | 0.848 | |
| taxon2org | 0.001 | 0.000 | 0.001 | |
| tpm | 0.565 | 0.004 | 0.571 | |
| uncollapse | 0.015 | 0.000 | 0.015 | |
| values | 0.594 | 0.008 | 0.680 | |
| varlevels_dont_clash | 0.028 | 0.000 | 0.028 | |
| venn_detects | 0.811 | 0.048 | 0.889 | |
| weights | 0.548 | 0.000 | 0.549 | |
| write_xl | 0.947 | 0.020 | 1.000 | |
| zero_to_na | 0.001 | 0.000 | 0.001 | |