| Back to Multiple platform build/check report for BioC 3.20: simplified long |
|
This page was generated on 2025-04-02 19:33 -0400 (Wed, 02 Apr 2025).
| Hostname | OS | Arch (*) | R version | Installed pkgs |
|---|---|---|---|---|
| nebbiolo2 | Linux (Ubuntu 24.04.1 LTS) | x86_64 | 4.4.3 (2025-02-28) -- "Trophy Case" | 4764 |
| palomino8 | Windows Server 2022 Datacenter | x64 | 4.4.3 (2025-02-28 ucrt) -- "Trophy Case" | 4495 |
| merida1 | macOS 12.7.5 Monterey | x86_64 | 4.4.3 (2025-02-28) -- "Trophy Case" | 4522 |
| kjohnson1 | macOS 13.6.6 Ventura | arm64 | 4.4.3 (2025-02-28) -- "Trophy Case" | 4449 |
| taishan | Linux (openEuler 24.03 LTS) | aarch64 | 4.4.3 (2025-02-28) -- "Trophy Case" | 4426 |
| Click on any hostname to see more info about the system (e.g. compilers) (*) as reported by 'uname -p', except on Windows and Mac OS X | ||||
| Package 117/2289 | Hostname | OS / Arch | INSTALL | BUILD | CHECK | BUILD BIN | ||||||||
| autonomics 1.14.9 (landing page) Aditya Bhagwat
| nebbiolo2 | Linux (Ubuntu 24.04.1 LTS) / x86_64 | OK | OK | OK | |||||||||
| palomino8 | Windows Server 2022 Datacenter / x64 | OK | OK | OK | OK | |||||||||
| merida1 | macOS 12.7.5 Monterey / x86_64 | OK | OK | OK | OK | |||||||||
| kjohnson1 | macOS 13.6.6 Ventura / arm64 | OK | OK | OK | OK | |||||||||
| taishan | Linux (openEuler 24.03 LTS) / aarch64 | OK | OK | OK | ||||||||||
|
To the developers/maintainers of the autonomics package: - Allow up to 24 hours (and sometimes 48 hours) for your latest push to git@git.bioconductor.org:packages/autonomics.git to reflect on this report. See Troubleshooting Build Report for more information. - Use the following Renviron settings to reproduce errors and warnings. - If 'R CMD check' started to fail recently on the Linux builder(s) over a missing dependency, add the missing dependency to 'Suggests:' in your DESCRIPTION file. See Renviron.bioc for more information. |
| Package: autonomics |
| Version: 1.14.9 |
| Command: /Library/Frameworks/R.framework/Resources/bin/R CMD check --install=check:autonomics.install-out.txt --library=/Library/Frameworks/R.framework/Resources/library --no-vignettes --timings autonomics_1.14.9.tar.gz |
| StartedAt: 2025-04-01 11:13:35 -0400 (Tue, 01 Apr 2025) |
| EndedAt: 2025-04-01 11:28:43 -0400 (Tue, 01 Apr 2025) |
| EllapsedTime: 907.7 seconds |
| RetCode: 0 |
| Status: OK |
| CheckDir: autonomics.Rcheck |
| Warnings: 0 |
##############################################################################
##############################################################################
###
### Running command:
###
### /Library/Frameworks/R.framework/Resources/bin/R CMD check --install=check:autonomics.install-out.txt --library=/Library/Frameworks/R.framework/Resources/library --no-vignettes --timings autonomics_1.14.9.tar.gz
###
##############################################################################
##############################################################################
* using log directory ‘/Users/biocbuild/bbs-3.20-bioc/meat/autonomics.Rcheck’
* using R version 4.4.3 (2025-02-28)
* using platform: aarch64-apple-darwin20
* R was compiled by
Apple clang version 14.0.0 (clang-1400.0.29.202)
GNU Fortran (GCC) 12.2.0
* running under: macOS Ventura 13.7.1
* using session charset: UTF-8
* using option ‘--no-vignettes’
* checking for file ‘autonomics/DESCRIPTION’ ... OK
* checking extension type ... Package
* this is package ‘autonomics’ version ‘1.14.9’
* package encoding: UTF-8
* checking package namespace information ... OK
* checking package dependencies ... OK
* checking if this is a source package ... OK
* checking if there is a namespace ... OK
* checking for hidden files and directories ... NOTE
Found the following hidden files and directories:
.BBSoptions
These were most likely included in error. See section ‘Package
structure’ in the ‘Writing R Extensions’ manual.
* checking for portable file names ... OK
* checking for sufficient/correct file permissions ... OK
* checking whether package ‘autonomics’ can be installed ... OK
* checking installed package size ... OK
* checking package directory ... OK
* checking ‘build’ directory ... OK
* checking DESCRIPTION meta-information ... OK
* checking top-level files ... OK
* checking for left-over files ... OK
* checking index information ... OK
* checking package subdirectories ... OK
* checking code files for non-ASCII characters ... OK
* checking R files for syntax errors ... OK
* checking whether the package can be loaded ... OK
* checking whether the package can be loaded with stated dependencies ... OK
* checking whether the package can be unloaded cleanly ... OK
* checking whether the namespace can be loaded with stated dependencies ... OK
* checking whether the namespace can be unloaded cleanly ... OK
* checking dependencies in R code ... OK
* checking S3 generic/method consistency ... OK
* checking replacement functions ... OK
* checking foreign function calls ... OK
* checking R code for possible problems ... OK
* checking Rd files ... OK
* checking Rd metadata ... OK
* checking Rd cross-references ... OK
* checking for missing documentation entries ... OK
* checking for code/documentation mismatches ... OK
* checking Rd \usage sections ... OK
* checking Rd contents ... OK
* checking for unstated dependencies in examples ... OK
* checking files in ‘vignettes’ ... OK
* checking examples ... OK
Examples with CPU (user + system) or elapsed time > 5s
user system elapsed
read_diann_proteingroups 108.250 3.674 99.270
read_rnaseq_counts 31.853 1.533 32.094
plot_exprs 27.730 0.407 26.059
plot_exprs_per_coef 25.608 0.365 24.226
rm_diann_contaminants 23.706 0.890 20.145
fit 18.715 0.913 13.914
default_formula 18.059 0.905 16.570
read_metabolon 14.855 0.215 14.637
plot_summary 13.669 0.224 12.637
analyze 13.030 0.230 12.691
read_somascan 12.785 0.159 12.669
ftype 10.453 0.719 9.027
plot_volcano 10.995 0.174 10.847
plot_densities 10.099 0.366 9.208
read_fragpipe 8.069 0.252 8.264
fcluster 6.569 0.146 6.083
fit_lmx 6.220 0.316 4.679
code 6.409 0.100 6.282
plot_sample_nas 5.779 0.091 5.908
reset_fit 5.602 0.174 5.124
subtract_baseline 5.347 0.187 4.991
dot-plot_survival 5.044 0.325 5.362
biplot_covariates 5.081 0.108 4.992
extract_coef_features 5.023 0.111 4.905
* checking for unstated dependencies in ‘tests’ ... OK
* checking tests ...
Running ‘testthat.R’
OK
* checking for unstated dependencies in vignettes ... OK
* checking package vignettes ... OK
* checking running R code from vignettes ... SKIPPED
* checking re-building of vignette outputs ... SKIPPED
* checking PDF version of manual ... OK
* DONE
Status: 1 NOTE
See
‘/Users/biocbuild/bbs-3.20-bioc/meat/autonomics.Rcheck/00check.log’
for details.
autonomics.Rcheck/00install.out
############################################################################## ############################################################################## ### ### Running command: ### ### /Library/Frameworks/R.framework/Resources/bin/R CMD INSTALL autonomics ### ############################################################################## ############################################################################## * installing to library ‘/Library/Frameworks/R.framework/Versions/4.4-arm64/Resources/library’ * installing *source* package ‘autonomics’ ... ** using staged installation ** R ** inst ** byte-compile and prepare package for lazy loading ** help *** installing help indices ** building package indices ** installing vignettes ** testing if installed package can be loaded from temporary location ** testing if installed package can be loaded from final location ** testing if installed package keeps a record of temporary installation path * DONE (autonomics)
autonomics.Rcheck/tests/testthat.Rout
R version 4.4.3 (2025-02-28) -- "Trophy Case"
Copyright (C) 2025 The R Foundation for Statistical Computing
Platform: aarch64-apple-darwin20
R is free software and comes with ABSOLUTELY NO WARRANTY.
You are welcome to redistribute it under certain conditions.
Type 'license()' or 'licence()' for distribution details.
R is a collaborative project with many contributors.
Type 'contributors()' for more information and
'citation()' on how to cite R or R packages in publications.
Type 'demo()' for some demos, 'help()' for on-line help, or
'help.start()' for an HTML browser interface to help.
Type 'q()' to quit R.
> library(testthat)
> library(autonomics)
Attaching package: 'autonomics'
The following objects are masked from 'package:stats':
biplot, loadings
The following object is masked from 'package:base':
beta
>
> test_check("autonomics")
[ FAIL 0 | WARN 0 | SKIP 0 | PASS 158 ]
>
> proc.time()
user system elapsed
170.017 10.552 164.888
autonomics.Rcheck/autonomics-Ex.timings
| name | user | system | elapsed | |
| AUTONOMICS_DATASETS | 0.000 | 0.001 | 0.001 | |
| COMPOUNDDISCOVERER_PATTERNS | 0 | 0 | 0 | |
| FITSEP | 0.000 | 0.001 | 0.000 | |
| LINMOD_ENGINES | 0 | 0 | 0 | |
| MAXQUANT_PATTERNS | 0.001 | 0.001 | 0.000 | |
| TAXON_TO_ORGNAME | 0 | 0 | 0 | |
| TESTS | 0.001 | 0.000 | 0.000 | |
| X | 1.881 | 0.124 | 1.787 | |
| abstract_fit | 2.170 | 0.156 | 1.939 | |
| add_adjusted_pvalues | 0.637 | 0.033 | 0.675 | |
| add_assay_means | 0.401 | 0.007 | 0.408 | |
| add_facetvars | 2.049 | 0.081 | 1.933 | |
| add_opentargets_by_uniprot | 0.432 | 0.008 | 0.443 | |
| add_psp | 0.560 | 0.013 | 0.574 | |
| add_smiles | 0.618 | 0.058 | 0.560 | |
| analysis | 0.516 | 0.019 | 0.433 | |
| analyze | 13.030 | 0.230 | 12.691 | |
| annotate_maxquant | 0.948 | 0.042 | 0.990 | |
| annotate_uniprot_rest | 0.099 | 0.017 | 0.783 | |
| assert_is_valid_sumexp | 0.651 | 0.053 | 0.695 | |
| bin | 1.273 | 0.023 | 1.328 | |
| biplot | 3.622 | 0.089 | 3.500 | |
| biplot_corrections | 3.320 | 0.081 | 3.216 | |
| biplot_covariates | 5.081 | 0.108 | 4.992 | |
| block2lme | 0.003 | 0.000 | 0.004 | |
| center | 1.491 | 0.020 | 1.522 | |
| code | 6.409 | 0.100 | 6.282 | |
| coefs | 0.949 | 0.067 | 0.863 | |
| collapsed_entrezg_to_symbol | 0.000 | 0.000 | 0.001 | |
| contrast_subgroup_cols | 0.782 | 0.071 | 0.643 | |
| count_in | 0.002 | 0.001 | 0.001 | |
| counts | 0.462 | 0.005 | 0.455 | |
| counts2cpm | 0.394 | 0.003 | 0.398 | |
| counts2tpm | 1.460 | 0.008 | 1.476 | |
| cpm | 0.391 | 0.002 | 0.393 | |
| create_design | 0.966 | 0.071 | 0.820 | |
| default_coefs | 0.944 | 0.076 | 0.788 | |
| default_formula | 18.059 | 0.905 | 16.570 | |
| default_geom | 0.802 | 0.082 | 0.678 | |
| default_sfile | 0.004 | 0.001 | 0.002 | |
| demultiplex | 0.020 | 0.002 | 0.012 | |
| dequantify | 0.004 | 0.000 | 0.003 | |
| dequantify_compounddiscoverer | 0.001 | 0.000 | 0.001 | |
| dot-merge | 0.036 | 0.003 | 0.020 | |
| dot-plot_survival | 5.044 | 0.325 | 5.362 | |
| dot-read_maxquant_proteingroups | 0.152 | 0.006 | 0.157 | |
| download_data | 0.001 | 0.001 | 0.001 | |
| download_gtf | 0.000 | 0.000 | 0.001 | |
| download_mcclain21 | 0.000 | 0.001 | 0.002 | |
| dt2mat | 0.004 | 0.000 | 0.004 | |
| enrichment | 1.283 | 0.083 | 1.366 | |
| entrezg_to_symbol | 0.000 | 0.001 | 0.001 | |
| explore_transformations | 3.483 | 0.140 | 3.625 | |
| extract_coef_features | 5.023 | 0.111 | 4.905 | |
| extract_rectangle | 0.144 | 0.039 | 0.186 | |
| fcluster | 6.569 | 0.146 | 6.083 | |
| fcor | 1.051 | 0.033 | 1.086 | |
| fdata | 0.569 | 0.013 | 0.583 | |
| fdr2p | 1.169 | 0.079 | 1.016 | |
| filter_exprs_replicated_in_some_subgroup | 1.484 | 0.124 | 1.047 | |
| filter_features | 0.828 | 0.087 | 0.587 | |
| filter_medoid | 0.869 | 0.024 | 0.834 | |
| filter_samples | 0.618 | 0.055 | 0.523 | |
| fit | 18.715 | 0.913 | 13.914 | |
| fit_lmx | 6.220 | 0.316 | 4.679 | |
| fitcoefs | 0.971 | 0.072 | 0.814 | |
| fits | 0.981 | 0.071 | 0.836 | |
| fitvars | 1.202 | 0.075 | 1.051 | |
| fix_xlgenes | 0.002 | 0.000 | 0.002 | |
| flevels | 0.468 | 0.005 | 0.473 | |
| fnames | 0.531 | 0.007 | 0.538 | |
| formula2str | 0.000 | 0.000 | 0.001 | |
| ftype | 10.453 | 0.719 | 9.027 | |
| fvalues | 0.562 | 0.037 | 0.504 | |
| fvars | 0.488 | 0.009 | 0.503 | |
| genome_to_orgdb | 0.001 | 0.000 | 0.001 | |
| group_by_level | 0.001 | 0.001 | 0.002 | |
| guess_compounddiscoverer_quantity | 0.001 | 0.001 | 0.002 | |
| guess_fitsep | 0.477 | 0.012 | 0.490 | |
| guess_maxquant_quantity | 0.005 | 0.001 | 0.006 | |
| guess_sep | 0.612 | 0.060 | 0.555 | |
| has_multiple_levels | 0.102 | 0.010 | 0.057 | |
| hdlproteins | 0.094 | 0.036 | 0.092 | |
| impute | 3.074 | 0.032 | 3.108 | |
| invert_subgroups | 0.681 | 0.008 | 0.689 | |
| is_collapsed_subset | 0 | 0 | 0 | |
| is_correlation_matrix | 0.001 | 0.000 | 0.002 | |
| is_diann_report | 0.728 | 0.095 | 0.450 | |
| is_fastadt | 0.128 | 0.010 | 0.072 | |
| is_file | 0.001 | 0.001 | 0.001 | |
| is_fraction | 0.004 | 0.001 | 0.002 | |
| is_imputed | 0.826 | 0.011 | 0.802 | |
| is_positive_number | 0.001 | 0.000 | 0.003 | |
| is_scalar_subset | 0.336 | 0.006 | 0.347 | |
| is_sig | 1.514 | 0.013 | 1.527 | |
| is_valid_formula | 0.041 | 0.001 | 0.042 | |
| keep_connected_blocks | 0.685 | 0.060 | 0.593 | |
| keep_connected_features | 1.133 | 0.107 | 0.768 | |
| keep_replicated_features | 1.414 | 0.108 | 0.942 | |
| label2index | 0.001 | 0.000 | 0.001 | |
| list2mat | 0.002 | 0.000 | 0.001 | |
| log2counts | 0.542 | 0.020 | 0.410 | |
| log2cpm | 0.423 | 0.004 | 0.432 | |
| log2diffs | 0.363 | 0.006 | 0.370 | |
| log2proteins | 0.371 | 0.005 | 0.378 | |
| log2sites | 0.382 | 0.007 | 0.389 | |
| log2tpm | 0.409 | 0.003 | 0.412 | |
| log2transform | 3.840 | 0.047 | 3.900 | |
| logical2factor | 0.001 | 0.001 | 0.001 | |
| make_alpha_palette | 0.674 | 0.067 | 0.585 | |
| make_colors | 0.025 | 0.004 | 0.015 | |
| make_volcano_dt | 0.905 | 0.017 | 0.871 | |
| map_fvalues | 0.453 | 0.008 | 0.460 | |
| matrix2sumexp | 1.164 | 0.077 | 1.009 | |
| merge_sample_file | 0.478 | 0.009 | 0.489 | |
| merge_sdata | 0.840 | 0.085 | 0.709 | |
| message_df | 0.003 | 0.000 | 0.003 | |
| modelvar | 3.925 | 0.154 | 3.368 | |
| order_on_p | 1.217 | 0.068 | 1.078 | |
| pca | 3.193 | 0.085 | 3.070 | |
| pg_to_canonical | 0.005 | 0.000 | 0.005 | |
| plot_contrast_venn | 3.010 | 0.125 | 2.478 | |
| plot_contrastogram | 3.689 | 0.187 | 3.422 | |
| plot_data | 1.665 | 0.092 | 1.439 | |
| plot_densities | 10.099 | 0.366 | 9.208 | |
| plot_design | 0.677 | 0.012 | 0.695 | |
| plot_exprs | 27.730 | 0.407 | 26.059 | |
| plot_exprs_per_coef | 25.608 | 0.365 | 24.226 | |
| plot_fit_summary | 2.487 | 0.117 | 2.007 | |
| plot_heatmap | 1.826 | 0.014 | 1.856 | |
| plot_matrix | 0.587 | 0.054 | 0.765 | |
| plot_sample_nas | 5.779 | 0.091 | 5.908 | |
| plot_subgroup_points | 4.650 | 0.090 | 4.756 | |
| plot_summary | 13.669 | 0.224 | 12.637 | |
| plot_venn | 0.025 | 0.001 | 0.027 | |
| plot_venn_heatmap | 0.022 | 0.002 | 0.024 | |
| plot_violins | 4.093 | 0.116 | 4.027 | |
| plot_volcano | 10.995 | 0.174 | 10.847 | |
| preprocess_rnaseq_counts | 0.399 | 0.004 | 0.405 | |
| pull_columns | 0.003 | 0.001 | 0.003 | |
| read_affymetrix | 0.000 | 0.000 | 0.001 | |
| read_diann_proteingroups | 108.250 | 3.674 | 99.270 | |
| read_fragpipe | 8.069 | 0.252 | 8.264 | |
| read_maxquant_phosphosites | 1.659 | 0.037 | 1.710 | |
| read_maxquant_proteingroups | 1.412 | 0.034 | 1.466 | |
| read_metabolon | 14.855 | 0.215 | 14.637 | |
| read_msigdt | 0.001 | 0.000 | 0.001 | |
| read_olink | 1.557 | 0.083 | 1.410 | |
| read_rectangles | 0.202 | 0.030 | 0.235 | |
| read_rnaseq_counts | 31.853 | 1.533 | 32.094 | |
| read_salmon | 0 | 0 | 0 | |
| read_somascan | 12.785 | 0.159 | 12.669 | |
| read_uniprotdt | 0.411 | 0.034 | 0.458 | |
| reset_fit | 5.602 | 0.174 | 5.124 | |
| rm_diann_contaminants | 23.706 | 0.890 | 20.145 | |
| rm_missing_in_some_samples | 0.671 | 0.067 | 0.583 | |
| rm_unmatched_samples | 0.598 | 0.014 | 0.539 | |
| scaledlibsizes | 0.361 | 0.003 | 0.364 | |
| scoremat | 1.232 | 0.068 | 1.084 | |
| slevels | 0.463 | 0.010 | 0.476 | |
| snames | 0.457 | 0.009 | 0.470 | |
| split_extract_fixed | 0.759 | 0.059 | 0.687 | |
| split_samples | 1.415 | 0.080 | 1.202 | |
| stri_any_regex | 0.000 | 0.001 | 0.001 | |
| stri_detect_fixed_in_collapsed | 0.439 | 0.006 | 0.445 | |
| subgroup_matrix | 0.693 | 0.066 | 0.611 | |
| subtract_baseline | 5.347 | 0.187 | 4.991 | |
| sumexp_to_longdt | 2.501 | 0.166 | 2.026 | |
| sumexp_to_tsv | 0.538 | 0.008 | 0.549 | |
| sumexplist_to_longdt | 1.756 | 0.023 | 1.782 | |
| summarize_fit | 2.431 | 0.165 | 1.734 | |
| svalues | 0.449 | 0.007 | 0.460 | |
| svars | 0.437 | 0.005 | 0.443 | |
| systematic_nas | 0.538 | 0.004 | 0.543 | |
| tag_features | 1.338 | 0.033 | 1.373 | |
| tag_hdlproteins | 0.572 | 0.028 | 0.603 | |
| taxon2org | 0.001 | 0.000 | 0.001 | |
| tpm | 0.386 | 0.003 | 0.388 | |
| uncollapse | 0.011 | 0.001 | 0.012 | |
| values | 0.546 | 0.009 | 0.555 | |
| varlevels_dont_clash | 0.028 | 0.001 | 0.028 | |
| venn_detects | 0.560 | 0.007 | 0.567 | |
| weights | 0.404 | 0.002 | 0.407 | |
| write_xl | 0.902 | 0.078 | 0.761 | |
| zero_to_na | 0.001 | 0.000 | 0.002 | |