| Back to Multiple platform build/check report for BioC 3.20: simplified long |
|
This page was generated on 2025-04-02 19:31 -0400 (Wed, 02 Apr 2025).
| Hostname | OS | Arch (*) | R version | Installed pkgs |
|---|---|---|---|---|
| nebbiolo2 | Linux (Ubuntu 24.04.1 LTS) | x86_64 | 4.4.3 (2025-02-28) -- "Trophy Case" | 4764 |
| palomino8 | Windows Server 2022 Datacenter | x64 | 4.4.3 (2025-02-28 ucrt) -- "Trophy Case" | 4495 |
| merida1 | macOS 12.7.5 Monterey | x86_64 | 4.4.3 (2025-02-28) -- "Trophy Case" | 4522 |
| kjohnson1 | macOS 13.6.6 Ventura | arm64 | 4.4.3 (2025-02-28) -- "Trophy Case" | 4449 |
| taishan | Linux (openEuler 24.03 LTS) | aarch64 | 4.4.3 (2025-02-28) -- "Trophy Case" | 4426 |
| Click on any hostname to see more info about the system (e.g. compilers) (*) as reported by 'uname -p', except on Windows and Mac OS X | ||||
| Package 117/2289 | Hostname | OS / Arch | INSTALL | BUILD | CHECK | BUILD BIN | ||||||||
| autonomics 1.14.9 (landing page) Aditya Bhagwat
| nebbiolo2 | Linux (Ubuntu 24.04.1 LTS) / x86_64 | OK | OK | OK | |||||||||
| palomino8 | Windows Server 2022 Datacenter / x64 | OK | OK | OK | OK | |||||||||
| merida1 | macOS 12.7.5 Monterey / x86_64 | OK | OK | OK | OK | |||||||||
| kjohnson1 | macOS 13.6.6 Ventura / arm64 | OK | OK | OK | OK | |||||||||
| taishan | Linux (openEuler 24.03 LTS) / aarch64 | OK | OK | OK | ||||||||||
|
To the developers/maintainers of the autonomics package: - Allow up to 24 hours (and sometimes 48 hours) for your latest push to git@git.bioconductor.org:packages/autonomics.git to reflect on this report. See Troubleshooting Build Report for more information. - Use the following Renviron settings to reproduce errors and warnings. - If 'R CMD check' started to fail recently on the Linux builder(s) over a missing dependency, add the missing dependency to 'Suggests:' in your DESCRIPTION file. See Renviron.bioc for more information. |
| Package: autonomics |
| Version: 1.14.9 |
| Command: /Library/Frameworks/R.framework/Resources/bin/R CMD check --install=check:autonomics.install-out.txt --library=/Library/Frameworks/R.framework/Resources/library --no-vignettes --timings autonomics_1.14.9.tar.gz |
| StartedAt: 2025-03-31 23:29:48 -0400 (Mon, 31 Mar 2025) |
| EndedAt: 2025-04-01 00:04:42 -0400 (Tue, 01 Apr 2025) |
| EllapsedTime: 2094.0 seconds |
| RetCode: 0 |
| Status: OK |
| CheckDir: autonomics.Rcheck |
| Warnings: 0 |
##############################################################################
##############################################################################
###
### Running command:
###
### /Library/Frameworks/R.framework/Resources/bin/R CMD check --install=check:autonomics.install-out.txt --library=/Library/Frameworks/R.framework/Resources/library --no-vignettes --timings autonomics_1.14.9.tar.gz
###
##############################################################################
##############################################################################
* using log directory ‘/Users/biocbuild/bbs-3.20-bioc/meat/autonomics.Rcheck’
* using R version 4.4.3 (2025-02-28)
* using platform: x86_64-apple-darwin20
* R was compiled by
Apple clang version 14.0.0 (clang-1400.0.29.202)
GNU Fortran (GCC) 12.2.0
* running under: macOS Monterey 12.7.6
* using session charset: UTF-8
* using option ‘--no-vignettes’
* checking for file ‘autonomics/DESCRIPTION’ ... OK
* checking extension type ... Package
* this is package ‘autonomics’ version ‘1.14.9’
* package encoding: UTF-8
* checking package namespace information ... OK
* checking package dependencies ... OK
* checking if this is a source package ... OK
* checking if there is a namespace ... OK
* checking for hidden files and directories ... NOTE
Found the following hidden files and directories:
.BBSoptions
These were most likely included in error. See section ‘Package
structure’ in the ‘Writing R Extensions’ manual.
* checking for portable file names ... OK
* checking for sufficient/correct file permissions ... OK
* checking whether package ‘autonomics’ can be installed ... OK
* checking installed package size ... OK
* checking package directory ... OK
* checking ‘build’ directory ... OK
* checking DESCRIPTION meta-information ... OK
* checking top-level files ... OK
* checking for left-over files ... OK
* checking index information ... OK
* checking package subdirectories ... OK
* checking code files for non-ASCII characters ... OK
* checking R files for syntax errors ... OK
* checking whether the package can be loaded ... OK
* checking whether the package can be loaded with stated dependencies ... OK
* checking whether the package can be unloaded cleanly ... OK
* checking whether the namespace can be loaded with stated dependencies ... OK
* checking whether the namespace can be unloaded cleanly ... OK
* checking dependencies in R code ... OK
* checking S3 generic/method consistency ... OK
* checking replacement functions ... OK
* checking foreign function calls ... OK
* checking R code for possible problems ... OK
* checking Rd files ... OK
* checking Rd metadata ... OK
* checking Rd cross-references ... OK
* checking for missing documentation entries ... OK
* checking for code/documentation mismatches ... OK
* checking Rd \usage sections ... OK
* checking Rd contents ... OK
* checking for unstated dependencies in examples ... OK
* checking files in ‘vignettes’ ... OK
* checking examples ... OK
Examples with CPU (user + system) or elapsed time > 5s
user system elapsed
read_diann_proteingroups 234.118 3.068 253.092
read_rnaseq_counts 63.325 2.672 67.292
plot_exprs_per_coef 62.093 0.248 63.025
plot_exprs 62.030 0.310 69.282
rm_diann_contaminants 47.470 0.570 48.737
default_formula 37.700 0.645 40.433
analyze 33.932 0.211 35.384
fit 32.085 0.311 34.137
plot_summary 32.207 0.157 33.566
read_metabolon 30.806 0.189 31.846
read_somascan 30.708 0.234 33.004
plot_volcano 25.153 0.179 27.770
plot_densities 20.972 0.291 23.210
code 17.294 0.149 18.554
ftype 16.926 0.421 18.220
read_fragpipe 16.029 0.221 17.068
plot_sample_nas 14.776 0.071 15.677
fcluster 13.977 0.106 14.701
extract_coef_features 13.271 0.114 13.886
biplot_covariates 12.844 0.118 13.385
plot_subgroup_points 11.478 0.108 12.224
reset_fit 11.326 0.113 11.628
fit_lmx 10.946 0.105 11.663
subtract_baseline 10.376 0.233 10.701
modelvar 9.219 0.109 9.772
plot_violins 9.201 0.107 9.765
biplot 8.989 0.096 9.271
log2transform 8.848 0.075 9.969
explore_transformations 8.432 0.243 9.271
dot-plot_survival 8.111 0.551 9.050
plot_contrastogram 7.874 0.168 8.474
biplot_corrections 7.948 0.088 8.277
impute 7.375 0.058 7.754
pca 7.202 0.099 7.967
plot_contrast_venn 5.899 0.082 6.279
add_facetvars 5.175 0.106 5.476
sumexp_to_longdt 4.700 0.211 9.123
summarize_fit 4.457 0.119 8.992
sumexplist_to_longdt 3.956 0.036 7.911
write_xl 2.013 0.092 5.261
* checking for unstated dependencies in ‘tests’ ... OK
* checking tests ...
Running ‘testthat.R’
OK
* checking for unstated dependencies in vignettes ... OK
* checking package vignettes ... OK
* checking running R code from vignettes ... SKIPPED
* checking re-building of vignette outputs ... SKIPPED
* checking PDF version of manual ... OK
* DONE
Status: 1 NOTE
See
‘/Users/biocbuild/bbs-3.20-bioc/meat/autonomics.Rcheck/00check.log’
for details.
autonomics.Rcheck/00install.out
############################################################################## ############################################################################## ### ### Running command: ### ### /Library/Frameworks/R.framework/Resources/bin/R CMD INSTALL autonomics ### ############################################################################## ############################################################################## * installing to library ‘/Library/Frameworks/R.framework/Versions/4.4-x86_64/Resources/library’ * installing *source* package ‘autonomics’ ... ** using staged installation ** R ** inst ** byte-compile and prepare package for lazy loading ** help *** installing help indices ** building package indices ** installing vignettes ** testing if installed package can be loaded from temporary location ** testing if installed package can be loaded from final location ** testing if installed package keeps a record of temporary installation path * DONE (autonomics)
autonomics.Rcheck/tests/testthat.Rout
R version 4.4.3 (2025-02-28) -- "Trophy Case"
Copyright (C) 2025 The R Foundation for Statistical Computing
Platform: x86_64-apple-darwin20
R is free software and comes with ABSOLUTELY NO WARRANTY.
You are welcome to redistribute it under certain conditions.
Type 'license()' or 'licence()' for distribution details.
R is a collaborative project with many contributors.
Type 'contributors()' for more information and
'citation()' on how to cite R or R packages in publications.
Type 'demo()' for some demos, 'help()' for on-line help, or
'help.start()' for an HTML browser interface to help.
Type 'q()' to quit R.
> library(testthat)
> library(autonomics)
Attaching package: 'autonomics'
The following objects are masked from 'package:stats':
biplot, loadings
The following object is masked from 'package:base':
beta
>
> test_check("autonomics")
[ FAIL 0 | WARN 0 | SKIP 0 | PASS 158 ]
>
> proc.time()
user system elapsed
278.758 21.782 396.519
autonomics.Rcheck/autonomics-Ex.timings
| name | user | system | elapsed | |
| AUTONOMICS_DATASETS | 0.000 | 0.001 | 0.002 | |
| COMPOUNDDISCOVERER_PATTERNS | 0.001 | 0.000 | 0.001 | |
| FITSEP | 0.001 | 0.000 | 0.001 | |
| LINMOD_ENGINES | 0 | 0 | 0 | |
| MAXQUANT_PATTERNS | 0.000 | 0.001 | 0.001 | |
| TAXON_TO_ORGNAME | 0.001 | 0.000 | 0.001 | |
| TESTS | 0.000 | 0.001 | 0.000 | |
| X | 3.853 | 0.180 | 4.196 | |
| abstract_fit | 3.473 | 0.221 | 4.024 | |
| add_adjusted_pvalues | 1.318 | 0.055 | 1.442 | |
| add_assay_means | 0.922 | 0.013 | 0.985 | |
| add_facetvars | 5.175 | 0.106 | 5.476 | |
| add_opentargets_by_uniprot | 0.996 | 0.011 | 1.100 | |
| add_psp | 1.221 | 0.027 | 1.351 | |
| add_smiles | 1.240 | 0.074 | 1.382 | |
| analysis | 0.970 | 0.011 | 1.012 | |
| analyze | 33.932 | 0.211 | 35.384 | |
| annotate_maxquant | 1.909 | 0.062 | 1.998 | |
| annotate_uniprot_rest | 0.149 | 0.022 | 1.922 | |
| assert_is_valid_sumexp | 1.442 | 0.075 | 1.530 | |
| bin | 1.822 | 0.036 | 1.866 | |
| biplot | 8.989 | 0.096 | 9.271 | |
| biplot_corrections | 7.948 | 0.088 | 8.277 | |
| biplot_covariates | 12.844 | 0.118 | 13.385 | |
| block2lme | 0.006 | 0.002 | 0.009 | |
| center | 3.547 | 0.039 | 3.621 | |
| code | 17.294 | 0.149 | 18.554 | |
| coefs | 1.980 | 0.080 | 2.219 | |
| collapsed_entrezg_to_symbol | 0.001 | 0.001 | 0.005 | |
| contrast_subgroup_cols | 1.481 | 0.067 | 1.689 | |
| count_in | 0.001 | 0.002 | 0.004 | |
| counts | 1.082 | 0.012 | 1.160 | |
| counts2cpm | 0.975 | 0.006 | 1.031 | |
| counts2tpm | 1.782 | 0.008 | 1.868 | |
| cpm | 0.994 | 0.006 | 1.002 | |
| create_design | 1.770 | 0.077 | 1.865 | |
| default_coefs | 1.840 | 0.068 | 1.937 | |
| default_formula | 37.700 | 0.645 | 40.433 | |
| default_geom | 1.374 | 0.072 | 1.509 | |
| default_sfile | 0.002 | 0.002 | 0.004 | |
| demultiplex | 0.035 | 0.003 | 0.038 | |
| dequantify | 0.005 | 0.001 | 0.006 | |
| dequantify_compounddiscoverer | 0.002 | 0.001 | 0.003 | |
| dot-merge | 0.030 | 0.001 | 0.032 | |
| dot-plot_survival | 8.111 | 0.551 | 9.050 | |
| dot-read_maxquant_proteingroups | 0.206 | 0.008 | 0.222 | |
| download_data | 0.001 | 0.002 | 0.005 | |
| download_gtf | 0.000 | 0.000 | 0.001 | |
| download_mcclain21 | 0.000 | 0.001 | 0.001 | |
| dt2mat | 0.007 | 0.001 | 0.009 | |
| enrichment | 3.203 | 0.117 | 3.511 | |
| entrezg_to_symbol | 0.001 | 0.001 | 0.002 | |
| explore_transformations | 8.432 | 0.243 | 9.271 | |
| extract_coef_features | 13.271 | 0.114 | 13.886 | |
| extract_rectangle | 0.280 | 0.065 | 0.363 | |
| fcluster | 13.977 | 0.106 | 14.701 | |
| fcor | 2.224 | 0.049 | 2.446 | |
| fdata | 1.324 | 0.037 | 1.412 | |
| fdr2p | 2.375 | 0.073 | 2.570 | |
| filter_exprs_replicated_in_some_subgroup | 2.401 | 0.072 | 2.690 | |
| filter_features | 1.359 | 0.069 | 1.501 | |
| filter_medoid | 1.854 | 0.028 | 1.964 | |
| filter_samples | 1.316 | 0.071 | 1.467 | |
| fit | 32.085 | 0.311 | 34.137 | |
| fit_lmx | 10.946 | 0.105 | 11.663 | |
| fitcoefs | 1.994 | 0.075 | 2.240 | |
| fits | 1.807 | 0.068 | 1.925 | |
| fitvars | 2.639 | 0.080 | 2.780 | |
| fix_xlgenes | 0.003 | 0.001 | 0.004 | |
| flevels | 1.004 | 0.010 | 1.052 | |
| fnames | 1.099 | 0.012 | 1.146 | |
| formula2str | 0.001 | 0.001 | 0.001 | |
| ftype | 16.926 | 0.421 | 18.220 | |
| fvalues | 0.997 | 0.011 | 1.050 | |
| fvars | 1.024 | 0.009 | 1.076 | |
| genome_to_orgdb | 0.001 | 0.001 | 0.002 | |
| group_by_level | 0.002 | 0.002 | 0.004 | |
| guess_compounddiscoverer_quantity | 0.003 | 0.001 | 0.003 | |
| guess_fitsep | 1.191 | 0.010 | 1.245 | |
| guess_maxquant_quantity | 0.011 | 0.003 | 0.015 | |
| guess_sep | 1.294 | 0.072 | 1.419 | |
| has_multiple_levels | 0.128 | 0.006 | 0.138 | |
| hdlproteins | 0.082 | 0.065 | 0.165 | |
| impute | 7.375 | 0.058 | 7.754 | |
| invert_subgroups | 1.673 | 0.010 | 1.717 | |
| is_collapsed_subset | 0.001 | 0.000 | 0.001 | |
| is_correlation_matrix | 0.002 | 0.001 | 0.003 | |
| is_diann_report | 0.380 | 0.078 | 0.544 | |
| is_fastadt | 0.158 | 0.003 | 0.173 | |
| is_file | 0.000 | 0.001 | 0.002 | |
| is_fraction | 0.004 | 0.001 | 0.005 | |
| is_imputed | 1.755 | 0.013 | 1.918 | |
| is_positive_number | 0.004 | 0.001 | 0.005 | |
| is_scalar_subset | 0.876 | 0.009 | 0.944 | |
| is_sig | 4.034 | 0.097 | 4.301 | |
| is_valid_formula | 0.100 | 0.002 | 0.102 | |
| keep_connected_blocks | 1.255 | 0.067 | 1.377 | |
| keep_connected_features | 1.720 | 0.089 | 1.891 | |
| keep_replicated_features | 2.068 | 0.121 | 2.295 | |
| label2index | 0.002 | 0.001 | 0.002 | |
| list2mat | 0.001 | 0.000 | 0.002 | |
| log2counts | 0.989 | 0.005 | 1.034 | |
| log2cpm | 0.960 | 0.004 | 0.999 | |
| log2diffs | 0.831 | 0.009 | 0.985 | |
| log2proteins | 0.857 | 0.011 | 0.889 | |
| log2sites | 0.875 | 0.011 | 0.910 | |
| log2tpm | 1.011 | 0.007 | 1.200 | |
| log2transform | 8.848 | 0.075 | 9.969 | |
| logical2factor | 0.002 | 0.001 | 0.005 | |
| make_alpha_palette | 1.386 | 0.073 | 1.626 | |
| make_colors | 0.017 | 0.002 | 0.020 | |
| make_volcano_dt | 2.143 | 0.019 | 2.382 | |
| map_fvalues | 1.068 | 0.016 | 1.205 | |
| matrix2sumexp | 2.432 | 0.084 | 2.797 | |
| merge_sample_file | 1.107 | 0.016 | 1.159 | |
| merge_sdata | 1.487 | 0.100 | 1.665 | |
| message_df | 0.004 | 0.001 | 0.006 | |
| modelvar | 9.219 | 0.109 | 9.772 | |
| order_on_p | 2.370 | 0.071 | 2.556 | |
| pca | 7.202 | 0.099 | 7.967 | |
| pg_to_canonical | 0.014 | 0.002 | 0.019 | |
| plot_contrast_venn | 5.899 | 0.082 | 6.279 | |
| plot_contrastogram | 7.874 | 0.168 | 8.474 | |
| plot_data | 3.050 | 0.086 | 3.341 | |
| plot_densities | 20.972 | 0.291 | 23.210 | |
| plot_design | 1.509 | 0.014 | 1.669 | |
| plot_exprs | 62.030 | 0.310 | 69.282 | |
| plot_exprs_per_coef | 62.093 | 0.248 | 63.025 | |
| plot_fit_summary | 4.619 | 0.072 | 4.710 | |
| plot_heatmap | 4.453 | 0.017 | 4.531 | |
| plot_matrix | 1.275 | 0.067 | 1.401 | |
| plot_sample_nas | 14.776 | 0.071 | 15.677 | |
| plot_subgroup_points | 11.478 | 0.108 | 12.224 | |
| plot_summary | 32.207 | 0.157 | 33.566 | |
| plot_venn | 0.025 | 0.003 | 0.032 | |
| plot_venn_heatmap | 0.048 | 0.003 | 0.058 | |
| plot_violins | 9.201 | 0.107 | 9.765 | |
| plot_volcano | 25.153 | 0.179 | 27.770 | |
| preprocess_rnaseq_counts | 0.906 | 0.005 | 1.061 | |
| pull_columns | 0.005 | 0.001 | 0.006 | |
| read_affymetrix | 0.000 | 0.001 | 0.001 | |
| read_diann_proteingroups | 234.118 | 3.068 | 253.092 | |
| read_fragpipe | 16.029 | 0.221 | 17.068 | |
| read_maxquant_phosphosites | 3.574 | 0.043 | 3.991 | |
| read_maxquant_proteingroups | 2.949 | 0.034 | 3.627 | |
| read_metabolon | 30.806 | 0.189 | 31.846 | |
| read_msigdt | 0.001 | 0.000 | 0.002 | |
| read_olink | 3.566 | 0.078 | 3.764 | |
| read_rectangles | 0.384 | 0.035 | 0.423 | |
| read_rnaseq_counts | 63.325 | 2.672 | 67.292 | |
| read_salmon | 0.000 | 0.001 | 0.001 | |
| read_somascan | 30.708 | 0.234 | 33.004 | |
| read_uniprotdt | 0.575 | 0.045 | 0.628 | |
| reset_fit | 11.326 | 0.113 | 11.628 | |
| rm_diann_contaminants | 47.470 | 0.570 | 48.737 | |
| rm_missing_in_some_samples | 1.192 | 0.073 | 1.273 | |
| rm_unmatched_samples | 1.310 | 0.012 | 1.331 | |
| scaledlibsizes | 0.921 | 0.008 | 0.969 | |
| scoremat | 2.389 | 0.075 | 2.477 | |
| slevels | 0.925 | 0.010 | 0.980 | |
| snames | 0.913 | 0.010 | 0.926 | |
| split_extract_fixed | 1.243 | 0.067 | 1.316 | |
| split_samples | 2.770 | 0.077 | 2.878 | |
| stri_any_regex | 0.001 | 0.002 | 0.002 | |
| stri_detect_fixed_in_collapsed | 0.921 | 0.013 | 0.971 | |
| subgroup_matrix | 1.255 | 0.067 | 1.335 | |
| subtract_baseline | 10.376 | 0.233 | 10.701 | |
| sumexp_to_longdt | 4.700 | 0.211 | 9.123 | |
| sumexp_to_tsv | 1.234 | 0.017 | 2.518 | |
| sumexplist_to_longdt | 3.956 | 0.036 | 7.911 | |
| summarize_fit | 4.457 | 0.119 | 8.992 | |
| svalues | 1.007 | 0.018 | 2.156 | |
| svars | 1.010 | 0.019 | 1.828 | |
| systematic_nas | 1.485 | 0.020 | 3.207 | |
| tag_features | 2.359 | 0.077 | 4.964 | |
| tag_hdlproteins | 1.238 | 0.059 | 2.711 | |
| taxon2org | 0.002 | 0.001 | 0.015 | |
| tpm | 1.141 | 0.012 | 2.365 | |
| uncollapse | 0.023 | 0.006 | 0.057 | |
| values | 1.021 | 0.027 | 2.288 | |
| varlevels_dont_clash | 0.032 | 0.002 | 0.078 | |
| venn_detects | 1.332 | 0.017 | 2.968 | |
| weights | 1.021 | 0.018 | 2.509 | |
| write_xl | 2.013 | 0.092 | 5.261 | |
| zero_to_na | 0.004 | 0.003 | 0.008 | |